Workbook

Sheet PLANILHA
A1: PREFEITURA MUNICIPAL DE SANTA LUZIA
A2: SECRETARIA DE OBRAS PÚBLICAS - PLANILHA DE QUANTIDADES E PREÇOS
A6: OBRA: IMPLANTAÇÃO RAMPA ESCOLA MUNICIPAL SANTA LUZIA | D6: Santa Luzia, 09 de Abril de 2019
A7: LOCAL: RUA GERVÁSIO LARA, NÚMERO 119- CEP 33030-550 | F7: BDI 1 | G7: =1.2494-1 -> 0.2494 | H7: BDI 2 | I7: =0 -> 0
A8: Planilha Orçamentária | D8: SETOP Jan-2019 - SINAPI jan-2019 | H8: 1 | I8: onerada
A9: Item | B9: Código | C9: Descrição | D9: Unid. | E9: Quant. | F9: Pr. Unit. S / BDI | G9: Pr. Unit. C / BDI | H9: Pr. Tota S / BDI | I9: Pr. Total C / BDI
A10: 1. | B10: ESCOLA MUNICIPAL SANTA LUZIA
A11: 1.1. | C11: MOBILIZAÇÃO - CANTEIRO DE OBRAS | I11: =SUM(I12:I13) -> 5738.94
A12: 1.1.0.1. | B12: 74209/001 | C12: PLACA DE OBRA EM CHAPA DE ACO GALVANIZADO | D12: M2 | E12: 4.5 | F12: 311.29 | G12: =(F12*$G$7)+F12 -> 388.92573 | H12: =ROUND(E12*F12,2) -> 1400.81 | I12: =ROUND(E12*G12,2) -> 1750.17
A13: 1.1.0.2. | B13: 99059 | C13: LOCACAO CONVENCIONAL DE OBRA, UTILIZANDO GABARITO DE TÁBUAS CORRIDAS PONTALETADAS A CADA 2,00M - 2 UTILIZAÇÕES. AF_10/2018 | D13: M | E13: =(27.7*2)+(14*2) -> 83.4 | F13: 38.28 | G13: =(F13*$G$7)+F13 -> 47.827032 | H13: =ROUND(E13*F13,2) -> 3192.55 | I13: =ROUND(E13*G13,2) -> 3988.77
A14: 1.2. | C14: ADMINISTRÇÃO LOCAL | I14: =SUM(I15:I16) -> 26841.26
A15: 1.2.0.1. | B15: 93572 | C15: ENCARREGADO GERAL DE OBRAS COM ENCARGOS COMPLEMENTARES | D15: MES | E15: 1 | F15: 6427.34 | G15: =(F15*$G$7)+F15 -> 8030.3186 | H15: =ROUND(E15*F15,2) -> 6427.34 | I15: =ROUND(E15*G15,2) -> 8030.32
A16: 1.2.0.2. | B16: 93565 | C16: ENGENHEIRO CIVIL DE OBRA JUNIOR COM ENCARGOS COMPLEMENTARES | D16: MES | E16: 1 | F16: 15055.98 | G16: =(F16*$G$7)+F16 -> 18810.941 | H16: =ROUND(E16*F16,2) -> 15055.98 | I16: =ROUND(E16*G16,2) -> 18810.94
A17: 1.3. | C17: ESTRUTURA | I17: =SUM(I18:I20) -> 7917.77
A18: 1.3.0.1 | B18: EST-FOR-025 | C18: FORMA E DESFORMA DE COMPENSADO PLASTIFICADO ESPESSURA 12 MM, EXCLUSIVE ESCORAMENTO (5X) | D18: M2 | E18: =E20 -> 42 | F18: 68.3 | G18: =(F18*$G$7)+F18 -> 85.33402 | H18: =ROUND(E18*F18,2) -> 2868.6 | I18: =ROUND(E18*G18,2) -> 3584.03
A19: 1.3.0.2 | B19: EST-FOR-041 | C19: DESCARGA, MONTAGEM, DESMONTAGEM E CARGA DE ESCORAMENTO METÁLICO TIPOS A E B PARA VIGAS E LAJES | D19: M3 | E19: =E20*0.1 -> 4.2 | F19: 8.97 | G19: =(F19*$G7)+F19 -> 11.207118 | H19: =ROUND(E19*F19,2) -> 37.67 | I19: =ROUND(E19*G19,2) -> 47.07
A20: 1.3.0.3 | B20: 94996 | C20: EXECUÇÃO DE PASSEIO (CALÇADA) OU PISO DE CONCRETO COM CONCRETO MOLDADO IN LOCO, FEITO EM OBRA, ACABAMENTO CONVENCIONAL, ESPESSURA 10 CM, ARMADO. AF_07/2016 | D20: M2 | E20: =(12.5*1.5)+(1.5*3)+(12.5*1.5) -> 42 | F20: 81.69 | G20: =(F20*$G$7)+F20 -> 102.06349 | H20: =ROUND(E20*F20,2) -> 3430.98 | I20: =ROUND(E20*G20,2) -> 4286.67
A21: 1.4. | C21: REVESTIMENTOS - PISOS - | I21: =SUM(I22:I23) -> 386.21
A22: 1.4.0.1 | B22: PIN-ACR-025 | C22: PINTURA ACRÍLICA PARA PISO EM PASSEIO/SUPERFÍCIE CIMENTADA, DUAS (2) DEMÃOS | D22: M2 | E22: =E20 -> 42 | F22: 7.36 | G22: =(F22*$G$7)+F22 -> 9.195584 | H22: =ROUND(E22*F22,2) -> 309.12 | I22: =ROUND(E22*G22,2) -> 386.21
A23: 1.4.0.2 | B23: PIS-TAT-015 | C23: PISO PODOTÁTIL DE BORRACHA, ALERTA, ESP. 5MM, COLORIDA, ASSENTAMENTO COM COLA DE CONTATO, INCLUSIVE FORNECIMENTO E INSTALAÇÃO | D23: M2 | F23: 125.13 | G23: =(F23*$G$7)+F23 -> 156.33742 | H23: =ROUND(E23*F23,2) -> 0 | I23: =ROUND(E23*G23,2) -> 0
A24: 1.5. | C24: AÇO GALVANIZADO | I24: =I25 -> 31874.99
A25: 1.5.0.1 | B25: SER-COR-010 | C25: GUARDA-CORPO EM AÇO GALVANIZADO DIN 2440, D = 2", COM SUBDIVISÕES EM TUBO DE AÇO D = 1/2", H = 1,05 M - COM CORRIMÃO SIMPLES DE TUBO DE AÇO GALVANIZADO DE D = 1 1/2" | D25: M | E25: =(12.5*2)+(1.5*2)+(3)+(12.5*2)+(1.710993*2) -> 59.421986 | F25: 429.34 | G25: =(F25*$G$7)+F25 -> 536.4174 | H25: =ROUND(E25*F25,2) -> 25512.24 | I25: =ROUND(E25*G25,2) -> 31874.99
A26: 1.6.0.1 | C26: DIVERSOS E LIMPEZA DA OBRA | I26: =SUM(I27:I27) -> 507.45
A27: 1.6.0.2 | B27: LIM-GER-005 | C27: LIMPEZA GERAL DE OBRA | D27: M2 | E27: =E13 -> 83.4 | F27: 4.87 | G27: =(F27*$G$7)+F27 -> 6.084578 | H27: =ROUND(E27*F27,2) -> 406.16 | I27: =ROUND(E27*G27,2) -> 507.45
A28: VALOR TOTAL | G28: R$ | I28: =SUM(I26+I24+I21+I17+I14+I11) -> 73266.62

Sheet CRONOGRAMA
A1: PREFEITURA MUNICIPAL DE SANTA LUZIA
A2: DIRETORIA DE OBRAS PÚBLICAS - CRONOGRAMA FÍSICO-FINANCEIRO
A3: =PLANILHA!A29 -> 0
A4: =PLANILHA!A31 -> 0
A6: ITEM | B6: DISCRIMINAÇÃO | C6: VALOR | D6: MÊS
D7: 1 | E7: 2 | F7: 3 | G7: 4 | H7: 5 | I7: 6 | J7: 7 | K7: 8 | L7: 9 | M7: 10 | N7: 11 | O7: 12
A8: 1 | B8: =PLANILHA!C11 -> MOBILIZAÇÃO - CANTEIRO DE OBRAS | C8: =PLANILHA!I11 -> 5738.94 | D8: 1 | P8: =SUM(D8:O8) -> 1
D9: =D8*$C8 -> 5738.94 | E9: =E8*$C8 -> 0 | F9: =F8*$C8 -> 0 | G9: =G8*$C8 -> 0 | H9: =H8*$C8 -> 0 | I9: =I8*$C8 -> 0 | J9: =J8*$C8 -> 0 | K9: =K8*$C8 -> 0 | ... O9: =O8*$C8 -> 0 | P9: =SUM(D9:O9) -> 5738.94
A10: 2 | B10: =PLANILHA!C14 -> ADMINISTRÇÃO LOCAL | C10: =PLANILHA!I14 -> 26841.26 | D10: 0.08 | E10: 0.08 | F10: 0.08 | G10: 0.08 | H10: 0.08 | I10: 0.08 | J10: 0.08 | K10: 0.08 | L10: 0.09 | M10: 0.09 | N10: 0.09 | O10: 0.09 | P10: =SUM(D10:O10) -> 1
D11: =D10*$C10 -> 2147.3008 | E11: =E10*$C10 -> 2147.3008 | F11: =F10*$C10 -> 2147.3008 | G11: =G10*$C10 -> 2147.3008 | H11: =H10*$C10 -> 2147.3008 | I11: =I10*$C10 -> 2147.3008 | J11: =J10*$C10 -> 2147.3008 | K11: =K10*$C10 -> 2147.3008 | ... O11: =O10*$C10 -> 2415.7134 | P11: =SUM(D11:O11) -> 26841.26
A12: 3 | B12: =PLANILHA!#REF! -> #REF! | C12: =PLANILHA!#REF! -> #REF! | D12: 1 | P12: =SUM(D12:O12) -> 1
D13: =D12*$C12 -> #REF! | E13: =E12*$C12 -> #REF! | F13: =F12*$C12 -> #REF! | G13: =G12*$C12 -> #REF! | H13: =H12*$C12 -> #REF! | I13: =I12*$C12 -> #REF! | J13: =J12*$C12 -> #REF! | K13: =K12*$C12 -> #REF! | ... O13: =O12*$C12 -> #REF! | P13: =SUM(D13:O13) -> #REF!
A14: 4 | B14: =PLANILHA!#REF! -> #REF! | C14: =PLANILHA!#REF! -> #REF! | E14: 1 | P14: =SUM(D14:O14) -> 1
D15: =D14*$C14 -> #REF! | E15: =E14*$C14 -> #REF! | F15: =F14*$C14 -> #REF! | G15: =G14*$C14 -> #REF! | H15: =H14*$C14 -> #REF! | I15: =I14*$C14 -> #REF! | J15: =J14*$C14 -> #REF! | K15: =K14*$C14 -> #REF! | ... O15: =O14*$C14 -> #REF! | P15: =SUM(D15:O15) -> #REF!
A16: 5 | B16: =PLANILHA!#REF! -> #REF! | C16: =PLANILHA!#REF! -> #REF! | I16: 0.5 | J16: 0.5 | P16: =SUM(D16:O16) -> 1
D17: =D16*$C16 -> #REF! | E17: =E16*$C16 -> #REF! | F17: =F16*$C16 -> #REF! | G17: =G16*$C16 -> #REF! | H17: =H16*$C16 -> #REF! | I17: =I16*$C16 -> #REF! | J17: =J16*$C16 -> #REF! | K17: =K16*$C16 -> #REF! | ... O17: =O16*$C16 -> #REF! | P17: =SUM(D17:O17) -> #REF!
A18: 6 | B18: =PLANILHA!#REF! -> #REF! | C18: =PLANILHA!#REF! -> #REF! | F18: 0.33 | G18: 0.33 | H18: 0.34 | P18: =SUM(D18:O18) -> 1
D19: =D18*$C18 -> #REF! | E19: =E18*$C18 -> #REF! | F19: =F18*$C18 -> #REF! | G19: =G18*$C18 -> #REF! | H19: =H18*$C18 -> #REF! | I19: =I18*$C18 -> #REF! | J19: =J18*$C18 -> #REF! | K19: =K18*$C18 -> #REF! | ... O19: =O18*$C18 -> #REF! | P19: =SUM(D19:O19) -> #REF!
A20: 7 | B20: =PLANILHA!#REF! -> #REF! | C20: =PLANILHA!#REF! -> #REF! | H20: 0.5 | I20: 0.5 | P20: =SUM(D20:O20) -> 1
D21: =D20*$C20 -> #REF! | E21: =E20*$C20 -> #REF! | F21: =F20*$C20 -> #REF! | G21: =G20*$C20 -> #REF! | H21: =H20*$C20 -> #REF! | I21: =I20*$C20 -> #REF! | J21: =J20*$C20 -> #REF! | K21: =K20*$C20 -> #REF! | ... O21: =O20*$C20 -> #REF! | P21: =SUM(D21:O21) -> #REF!
A22: 8 | B22: =PLANILHA!#REF! -> #REF! | C22: =PLANILHA!#REF! -> #REF! | F22: 1 | P22: =SUM(D22:O22) -> 1
D23: =D22*$C22 -> #REF! | E23: =E22*$C22 -> #REF! | F23: =F22*$C22 -> #REF! | G23: =G22*$C22 -> #REF! | H23: =H22*$C22 -> #REF! | I23: =I22*$C22 -> #REF! | J23: =J22*$C22 -> #REF! | K23: =K22*$C22 -> #REF! | ... O23: =O22*$C22 -> #REF! | P23: =SUM(D23:O23) -> #REF!
A24: 9 | B24: =PLANILHA!#REF! -> #REF! | C24: =PLANILHA!#REF! -> #REF! | K24: 1 | P24: =SUM(D24:O24) -> 1
D25: =D24*$C24 -> #REF! | E25: =E24*$C24 -> #REF! | F25: =F24*$C24 -> #REF! | G25: =G24*$C24 -> #REF! | H25: =H24*$C24 -> #REF! | I25: =I24*$C24 -> #REF! | J25: =J24*$C24 -> #REF! | K25: =K24*$C24 -> #REF! | ... O25: =O24*$C24 -> #REF! | P25: =SUM(D25:O25) -> #REF!
A26: 10 | B26: =PLANILHA!C21 -> REVESTIMENTOS - PISOS - | C26: =PLANILHA!I21 -> 386.21 | K26: 0.25 | L26: 0.25 | M26: 0.25 | N26: 0.25 | P26: =SUM(D26:O26) -> 1
D27: =D26*$C26 -> 0 | E27: =E26*$C26 -> 0 | F27: =F26*$C26 -> 0 | G27: =G26*$C26 -> 0 | H27: =H26*$C26 -> 0 | I27: =I26*$C26 -> 0 | J27: =J26*$C26 -> 0 | K27: =K26*$C26 -> 96.5525 | ... O27: =O26*$C26 -> 0 | P27: =SUM(D27:O27) -> 386.21
A28: 11 | B28: =PLANILHA!#REF! -> #REF! | C28: =PLANILHA!#REF! -> #REF! | K28: 0.5 | L28: 0.5 | P28: =SUM(D28:O28) -> 1
D29: =D28*$C28 -> #REF! | E29: =E28*$C28 -> #REF! | F29: =F28*$C28 -> #REF! | G29: =G28*$C28 -> #REF! | H29: =H28*$C28 -> #REF! | I29: =I28*$C28 -> #REF! | J29: =J28*$C28 -> #REF! | K29: =K28*$C28 -> #REF! | ... O29: =O28*$C28 -> #REF! | P29: =SUM(D29:O29) -> #REF!
A30: 12 | B30: =PLANILHA!#REF! -> #REF! | C30: =PLANILHA!#REF! -> #REF! | I30: 0.33 | J30: 0.33 | K30: 0.34 | P30: =SUM(D30:O30) -> 1
D31: =D30*$C30 -> #REF! | E31: =E30*$C30 -> #REF! | F31: =F30*$C30 -> #REF! | G31: =G30*$C30 -> #REF! | H31: =H30*$C30 -> #REF! | I31: =I30*$C30 -> #REF! | J31: =J30*$C30 -> #REF! | K31: =K30*$C30 -> #REF! | ... O31: =O30*$C30 -> #REF! | P31: =SUM(D31:O31) -> #REF!
A32: 13 | B32: =PLANILHA!#REF! -> #REF! | C32: =PLANILHA!#REF! -> #REF! | J32: 0.33 | K32: 0.33 | L32: 0.34 | P32: =SUM(D32:O32) -> 1
D33: =D32*$C32 -> #REF! | E33: =E32*$C32 -> #REF! | F33: =F32*$C32 -> #REF! | G33: =G32*$C32 -> #REF! | H33: =H32*$C32 -> #REF! | I33: =I32*$C32 -> #REF! | J33: =J32*$C32 -> #REF! | K33: =K32*$C32 -> #REF! | ... O33: =O32*$C32 -> #REF! | P33: =SUM(D33:O33) -> #REF!
A34: 14 | B34: =PLANILHA!#REF! -> #REF! | C34: =PLANILHA!#REF! -> #REF! | N34: 1 | P34: =SUM(D34:O34) -> 1
D35: =D34*$C34 -> #REF! | E35: =E34*$C34 -> #REF! | F35: =F34*$C34 -> #REF! | G35: =G34*$C34 -> #REF! | H35: =H34*$C34 -> #REF! | I35: =I34*$C34 -> #REF! | J35: =J34*$C34 -> #REF! | K35: =K34*$C34 -> #REF! | ... O35: =O34*$C34 -> #REF! | P35: =SUM(D35:O35) -> #REF!
A36: 15 | B36: =PLANILHA!C26 -> DIVERSOS E LIMPEZA DA OBRA | C36: =PLANILHA!I26 -> 507.45 | O36: 1 | P36: =SUM(D36:O36) -> 1
D37: =D36*$C36 -> 0 | E37: =E36*$C36 -> 0 | F37: =F36*$C36 -> 0 | G37: =G36*$C36 -> 0 | H37: =H36*$C36 -> 0 | I37: =I36*$C36 -> 0 | J37: =J36*$C36 -> 0 | K37: =K36*$C36 -> 0 | ... O37: =O36*$C36 -> 507.45 | P37: =SUM(D37:O37) -> 507.45
A39: % SIMPLES | D39: =D40/$M$42 -> #REF! | E39: =E40/$M$42 -> #REF! | F39: =F40/$M$42 -> #REF! | G39: =G40/$M$42 -> #REF! | H39: =H40/$M$42 -> #REF! | I39: =I40/$M$42 -> #REF! | J39: =J40/$M$42 -> #REF! | K39: =K40/$M$42 -> #REF! | ... O39: =O40/$M$42 -> #REF!
A40: R$ SIMPLES | D40: =D9+D11+D13+D15+D17+D19+D21+D23+D25+D27+D29+D31+D33+D35+D37 -> #REF! | E40: =E9+E11+E13+E15+E17+E19+E21+E23+E25+E27+E29+E31+E33+E35+E37 -> #REF! | F40: =F9+F11+F13+F15+F17+F19+F21+F23+F25+F27+F29+F31+F33+F35+F37 -> #REF! | G40: =G9+G11+G13+G15+G17+G19+G21+G23+G25+G27+G29+G31+G33+G35+G37 -> #REF! | H40: =H9+H11+H13+H15+H17+H19+H21+H23+H25+H27+H29+H31+H33+H35+H37 -> #REF! | I40: =I9+I11+I13+I15+I17+I19+I21+I23+I25+I27+I29+I31+I33+I35+I37 -> #REF! | J40: =J9+J11+J13+J15+J17+J19+J21+J23+J25+J27+J29+J31+J33+J35+J37 -> #REF! | K40: =K9+K11+K13+K15+K17+K19+K21+K23+K25+K27+K29+K31+K33+K35+K37 -> #REF! | ... O40: =O9+O11+O13+O15+O17+O19+O21+O23+O25+O27+O29+O31+O33+O35+O37 -> #REF!
A41: % ACUMULADO | D41: =D39 -> #REF! | E41: =D41+E39 -> #REF! | F41: =E41+F39 -> #REF! | G41: =F41+G39 -> #REF! | H41: =G41+H39 -> #REF! | I41: =H41+I39 -> #REF! | J41: =I41+J39 -> #REF! | K41: =J41+K39 -> #REF! | L41: =K41+L39 -> #REF! | ... O41: =N41+O39 -> #REF!
A42: R$ ACUMULADO | D42: =D40 -> #REF! | E42: =D42+E40 -> #REF! | F42: =E42+F40 -> #REF! | G42: =F42+G40 -> #REF! | H42: =G42+H40 -> #REF! | I42: =H42+I40 -> #REF! | J42: =I42+J40 -> #REF! | K42: =J42+K40 -> #REF! | L42: =K42+L40 -> #REF! | ... O42: =N42+O40 -> #REF!
...

Sheet RAMPA ADAPTADA
A1: PREFEITURA MUNICIPAL DE SANTA LUZIA
A2: SECRETARIA DE OBRAS PÚBLICAS - PLANILHA DE QUANTIDADES E PREÇOS
A4: OBRA: IMPLANTAÇÃO RAMPA ESCOLA MUNICIPAL SANTA LUZIA | D4: Santa Luzia, 09 de Abril de 2019
A5: LOCAL: RUA GERVÁSIO LARA, NÚMERO 119- CEP 33030-550 | F5: BDI 1 | G5: =1.2247-1 -> 0.2247 | H5: BDI 2 | I5: =0 -> 0
A6: Planilha Orçamentária | D6: SETOP Jan-2019 - SINAPI jan-2019 | H6: 1 | I6: onerada
A7: Item | B7: Código | C7: Descrição | D7: Unid. | E7: Quant. | F7: Pr. Unit. S / BDI | G7: Pr. Unit. C / BDI | H7: Pr. Tota S / BDI | I7: Pr. Total C / BDI
A8: 1. | B8: ESCOLA MUNICIPAL SANTA LUZIA
A9: 1.1. | C9: MOBILIZAÇÃO - CANTEIRO DE OBRAS | I9: =SUM(I10:I11) -> 3838.37
A10: 1.1.0.1. | B10: 74209/001 | C10: PLACA DE OBRA EM CHAPA DE ACO GALVANIZADO | D10: M2 | E10: 4.5 | F10: 311.29 | G10: =(F10*$G$5)+F10 -> 381.23686 | H10: =ROUND(E10*F10,2) -> 1400.81 | I10: =ROUND(E10*G10,2) -> 1715.57
A11: 1.1.0.2. | B11: 99059 | C11: LOCACAO CONVENCIONAL DE OBRA, UTILIZANDO GABARITO DE TÁBUAS CORRIDAS PONTALETADAS A CADA 2,00M - 2 UTILIZAÇÕES. AF_10/2018 | D11: M | E11: =((14.05+1.5)+(1.5+1.5))*2+(3.1+1.5+0.24)+(3.1+0.24) -> 45.28 | F11: 38.28 | G11: =(F11*$G$5)+F11 -> 46.881516 | H11: =ROUND(E11*F11,2) -> 1733.32 | I11: =ROUND(E11*G11,2) -> 2122.8
A12: 2.0 | C12: ESTRUTURA | I12: =SUM(I13:I15) -> 8720.72
A13: 2.1 | B13: EST-FOR-025 | C13: FORMA E DESFORMA DE COMPENSADO PLASTIFICADO ESPESSURA 12 MM, EXCLUSIVE ESCORAMENTO (5X) | D13: M2 | E13: =E15+(((12.5+1.5+3+1.5+12.5+1.5)*2)*0.1) -> 50.75 | F13: 68.3 | G13: =(F13*$G$5)+F13 -> 83.64701 | H13: =ROUND(E13*F13,2) -> 3466.23 | I13: =ROUND(E13*G13,2) -> 4245.09
A14: 2.2. | B14: EST-FOR-041 | C14: DESCARGA, MONTAGEM, DESMONTAGEM E CARGA DE ESCORAMENTO METÁLICO TIPOS A E B PARA VIGAS E LAJES | D14: M3 | E14: =E15*0.1 -> 4.425 | F14: 8.97 | G14: =(F14*$G5)+F14 -> 10.985559 | H14: =ROUND(E14*F14,2) -> 39.69 | I14: =ROUND(E14*G14,2) -> 48.61
A15: 2.3 | B15: 94996 | C15: EXECUÇÃO DE PASSEIO (CALÇADA) OU PISO DE CONCRETO COM CONCRETO MOLDADO IN LOCO, FEITO EM OBRA, ACABAMENTO CONVENCIONAL, ESPESSURA 10 CM, ARMADO. AF_07/2016 | D15: M2 | E15: =(12.5*1.5)+(1.5*3)+(12.5*1.5)+(1.5*1.5) -> 44.25 | F15: 81.69 | G15: =(F15*$G$5)+F15 -> 100.04574 | H15: =ROUND(E15*F15,2) -> 3614.78 | I15: =ROUND(E15*G15,2) -> 4427.02
A16: 3.0 | C16: REVESTIMENTOS - PISOS - | I16: =SUM(I17:I18) -> 2391.07
A17: 3.1 | B17: PIN-ACR-025 | C17: PINTURA ACRÍLICA PARA PISO EM PASSEIO/SUPERFÍCIE CIMENTADA, DUAS (2) DEMÃOS | D17: M2 | E17: =E15 -> 44.25 | F17: 7.36 | G17: =(F17*$G$5)+F17 -> 9.013792 | H17: =ROUND(E17*F17,2) -> 325.68 | I17: =ROUND(E17*G17,2) -> 398.86
A18: 3.2 | B18: PIS-TAT-015 | C18: PISO PODOTÁTIL DE BORRACHA, ALERTA, ESP. 5MM, COLORIDA, ASSENTAMENTO COM COLA DE CONTATO, INCLUSIVE FORNECIMENTO E INSTALAÇÃO | D18: M2 | E18: =(12.5+1.5+3+1.5+12.5+1.5)*0.4 -> 13 | F18: 125.13 | G18: =(F18*$G$5)+F18 -> 153.24671 | H18: =ROUND(E18*F18,2) -> 1626.69 | I18: =ROUND(E18*G18,2) -> 1992.21
A19: 4.0 | C19: AÇO GALVANIZADO | I19: =I20 -> 22636.77
A20: 4.1 | B20: 74195/1 | C20: GUARDA-CORPO COM CORRIMAO EM FERRO BARRA CHATA 3/16" | D20: M | E20: =(12.5*2)+(1.5*2)+(3)+(12.5*2)+(1.5*2) -> 59 | F20: 313,28 | G20: =(F20*$G$5)+F20 -> 383.67402 | H20: =ROUND(E20*F20,2) -> 18483.52 | I20: =ROUND(E20*G20,2) -> 22636.77
A21: VALOR TOTAL | G21: R$ | I21: =SUM(D22+I19+I16+I12+I9) -> 37586.93

Sheet Plan3
