Workbook

Sheet Plan  UNDADE INFANTIL CHÁCARA 
A1: PREFEITURA DE SANTA LUZIA – SECRETARIA MUNICIPAL DE EDUCAÇÃO
A5: Obra: Proinfância - UMEI
A6: Planilha Orçamentária
A7: RUA: GOVERNADOR BIAS FORTES
E8: EDIF C - Edificação principaL | F8: Fontes: SINAPI-MAIO19- NÃO DESONERADO; SETOP-JAN/19
B10: ITEM | C10: CÓDIGO | D10: FONTE | E10: DESCRIÇÃO DOS SERVIÇOS | F10: UNID. | G10: QUANT. | H10: PR. UNIT.(R$) sim bdi | I10: PR. UNI bdi | J10: total
B12: 1 | E12: SERVIÇOS PRELIMINARES
B13: 1.1 | C13: 74209/001 | D13: SINAPI | E13: Placa da obra - padrão Governo Federal | F13: m² | G13: =4*2.5 -> 10
B14: 1.2 | C14: IIO-LIG-005 | D14: SEINFRA | E14: Instalação provisória de água | F14: un | G14: 1
B15: 1.3 | C15: 73960/001 | D15: SINAPI | E15: Instalação provisória de energia elétrica em baixa tensão | F15: un | G15: 1
B16: 1.4 | C16: MERCADO | D16: CP | E16: Instalações provisórias de esgoto | F16: un | G16: 1
B17: 1.5 | C17: 93207 | D17: SINAPI | E17: Barracões provisórios (depósito, escritório, vestiário e refeitório) com piso cimentado | F17: m² | G17: 40
B18: 1.6 | C18: 99059 | D18: SINAPI | E18: LOCACAO CONVENCIONAL DE OBRA, UTILIZANDO GABARITO DE TÁBUAS CORRIDAS PONTALETADAS A CADA 2,00M - 2 UTILIZAÇÕES. AF_10/2018 | F18: m² | G18: 565.62
B19: 1.7 | C19: ED-51007 | D19: SETOP EDI | E19: SONDAGEM A PERCUSSÃO D = 2 1/2" COM MEDIDA DE SPT (FATURAMENTO MÍNIMO = 30 M) | F19: M | G19: 75.62
B20: 1.8 | C20: ED-51100 | D20: SETOP EDI | E20: CORTE E DESATERRO PARA REGULARIZAÇÃO E ARRASTAMENTO NIVELADO A CURTA DISTÂNCIA COM LÂMINA | F20: M3 | G20: 2,38
B21: 1.9 | C21: 93596 | D21: SINAPI | E21: TRANSPORTE COM CAMINHÃO BASCULANTE DE 10 M3, EM VIA URBANA PAVIMENTADA, DMT ACIMA DE 30KM (UNIDADE: M3XKM). AF_04/2016 | F21: M3XKM | G21: 0.76
B22: 1.10 | C22: ED-4019 | D22: PROJ-EXE-090 | E22: PROJETO EXECUTIVO DE ESTRUTURA DE CONCRETO | F22: PR A1 | G22: 5
B23: 1.11 | C23: ED-4020 | D23: PROJ-EXE-150 | E23: PROJETO EXECUTIVO DE INSTALAÇÕES ELÉTRICAS | F23: PR A1 | G23: 3
B24: 1.12 | C24: ED-4052 | D24: PROJ-EXE-375 | E24: PROJETO EXECUTIVO DE AQUECIMENTO SOLAR E REDE DE ÁGUA QUENTE | F24: PR A1 | G24: 3
B25: 1.13 | C25: ED-4050 | D25: PROJ-EXE-075 | E25: PROJETO EXECUTIVO DE DRENAGEM PLUVIAL | F25: PR A1 | G25: 3
B26: 1.14 | C26: ED-4038 | D26: PROJ-EXE-135 | E26: PROJETO EXECUTIVO DE INSTALAÇÕES HIDRO SANITÁRIAS | F26: PR A1 | G26: 3
B27: 1.15 | C27: ED-4046 | D27: PROJ-EXE-210 | E27: PROJETO EXECUTIVO DE PREVENÇÃO E COMBATE A INCÊNDIO | F27: PR A1 | G27: 3
B29: Subtotal item 1
B31: 2 | E31: MOVIMENTO DE TERRAS
B32: 2.1 | C32: 94309 | D32: SINAPI | E32: Aterro apiloado em camadas de 0,20 m com material argilo - arenoso (entre baldrames) | F32: m³ | G32: 225.6
B33: 2.2 | C33: 73965/015 | D33: SINAPI | E33: Escavação manual de valas em qualquer terreno exceto rocha até h=1,50 m | F33: m³ | G33: 137.64
B34: 2.3 | C34: ED-51123 | D34: SETOP EDI | E34: Regularização e compactação do fundo de valas | F34: m² | G34: 121.3
B35: 2.4 | C35: 96995 | D35: SINAPI | E35: Reaterro apiloado de vala com material da obra | F35: m³ | G35: 74.88
B36: Subtotal item 2
B38: 3 | E38: INFRA-ESTRUTURA: FUNDAÇÕES
B39: 3.1 | E39: CONCRETO ARMADO PARA FUNDAÇÕES
B40: 3.1.1 | C40: 96616 | D40: SINAPI | E40: Lastro de concreto magro (e=3,0 cm) - preparo mecânico | F40: m² | G40: 22.70365
B41: 3.1.2 | C41: 96534 | D41: SINAPI | E41: Forma de madeira comum para Fundções - reaproveitamento 5X | F41: m² | G41: 53.1
B42: 3.1.3 | C42: 96545 | D42: SINAPI | E42: Armação aço CA-50, Diam. 6,3 (1/4) á 12,5mm(1/2) -Fornecimento/corte perda de 10%) / dobra / colocação. | F42: kg | G42: 315.9
B43: 3.1.5 | C43: 99235 | D43: SINAPI | E43: Concreto para Fundação fck=25MPa, incluindo preparo, lançamento, adensamento. | F43: m³ | G43: 9.8
B44: 3.2 | E44: CONCRETO ARMADO PARA FUNDAÇÕES - VIGAS BALDRAMES
B45: 3.2.1 | C45: 96616 | D45: SINAPI | E45: Lastro de concreto magro, e=3,0 cm-reparo mecânico | F45: m² | G45: =0.7*0.7*72 -> 35.28
B46: 3.2.2 | C46: 96534 | D46: SINAPI | E46: Forma de madeira comum para Fundções - reaproveitamento 5X | F46: m² | G46: 351
B47: 3.2.3 | C47: 96545 | D47: SINAPI | E47: Armação aço CA-50, Diam. 6,3 (1/4) á 12,5mm(1/2) -Fornecimento/corte perda de 10%) / dobra / colocação. | F47: kg | G47: 731.2
B48: 3.2.4 | C48: 96543 | D48: SINAPI | E48: Armação de aço CA-60 Diam. 3,4 a 6,0mm-Fornecimento/corte perda de 10%) / dobra / colocação. | F48: kg | G48: 310
...

Sheet CRONOGRAMA CHACARA
A1: PREFEITURA DE SANTA LUZIA – SECRETARIA MUNICIPAL DE EDUCAÇÃO
A4: Município: | B4: SANTA LUZIA - MG
A5: Endereço:RUA: GOVERNADOR BIAS FORTES
A6: Planejamento
A7: ITEM | B7: DESCRIÇÃO DOS SERVIÇOS | C7: VALOR (R$) | D7: % ITEM | E7: 1 | F7: 2 | G7: 3 | H7: 4 | I7: 5
A9: 1 | B9: SERVIÇOS PRELIMINARES | C9: ='Plan UNDADE INFANTIL CHÁCARA '!J29 -> 0 | E9: 1
A11: 2 | B11: MOVIMENTO DE TERRAS PARA FUNDAÇÕES | C11: ='Plan UNDADE INFANTIL CHÁCARA '!J36 -> 0 | E11: 0.8 | F11: 0.2
A13: 3 | B13: FUNDAÇÕES | C13: ='Plan UNDADE INFANTIL CHÁCARA '!J50 -> 0 | E13: 0.15 | F13: 0.85
A15: 4 | B15: SUPERESTRUTURA | C15: ='Plan UNDADE INFANTIL CHÁCARA '!J70 -> 0 | F15: 0.4 | G15: 0.6
A17: 5 | B17: SISTEMA DE VEDAÇÃO VERTICAL INTERNO E EXTERNO (PAREDES) | C17: ='Plan UNDADE INFANTIL CHÁCARA '!J81 -> 0 | G17: 0.3 | H17: 0.7 | I17: 0.2
A19: 6 | B19: ESQUADRIAS | C19: ='Plan UNDADE INFANTIL CHÁCARA '!J111 -> 0 | H19: 0.3 | I19: 0.7
A21: 7 | B21: SISTEMAS DE COBERTURA | C21: ='Plan UNDADE INFANTIL CHÁCARA '!J117 -> 0 | F21: 0.15 | G21: 0.65 | H21: 0.2
A23: 8 | B23: IMPERMEABILIZAÇÃO | C23: ='Plan UNDADE INFANTIL CHÁCARA '!J122 -> 0 | G23: 1
A25: 9 | B25: REVESTIMENTOS INTERNOS E EXTERNOS | C25: ='Plan UNDADE INFANTIL CHÁCARA '!J132 -> 0 | H25: 0.4 | I25: 0.6
A27: 10 | B27: SISTEMAS DE PISOS INTERNOS E EXTERNOS (PAVIMENTAÇÃO) | C27: ='Plan UNDADE INFANTIL CHÁCARA '!J145 -> 0 | G27: 0.15 | H27: 0.7 | I27: 0.15
A29: 11 | B29: PINTURA | C29: ='Plan UNDADE INFANTIL CHÁCARA '!J162 -> 0 | G29: 0.5 | H29: 0.4 | I29: 0.1
A31: 12 | B31: INSTALAÇÃO ELETRICO | C31: ='Plan UNDADE INFANTIL CHÁCARA '!J244 -> 0 | F31: 0.1 | G31: 0.2 | H31: 0.3 | I31: 0.4
A33: 13 | B33: DRENAGEM DE ÁGUAS PLUVIAIS | G33: 0.2 | H33: 0.4 | I33: 0.4
A35: 14 | B35: INSTALAÇÃO SANITÁRIA | G35: 0.2 | H35: 0.35 | I35: 0.45
A37: 15 | B37: LOUÇAS E METAIS | H37: 0.2 | I37: 0.8
A39: 16 | B39: INSTALAÇÃO DE GÁS COMBUSTÍVEL | G39: 0.3 | H39: 0.3 | I39: 0.4
A41: 17 | B41: SISTEMA DE PROTEÇÃO CONTRA INCÊNDIO | G41: 0.2 | H41: 0.5 | I41: 0.3
A43: 18 | B43: INSTALAÇÕES ELÉTRICAS | E43: 0.05 | F43: 0.1 | G43: 0.3 | H43: 0.4 | I43: 0.15
A45: 19 | B45: INSTALAÇÕES DE CLIMATIZAÇÃO | G45: 0.3 | H45: 0.2 | I45: 0.5
A47: 20 | B47: INSTALAÇÕES DE REDE ESTRUTURADA | H47: 0.7 | I47: 0.3
A49: 21 | B49: SISTEMA DE EXAUSTÃO MECÂNICA | H49: 0.3 | I49: 0.7
A51: 22 | B51: SISTEMA DE PROTEÇÃO CONTRA DESC. ATMOSFÉRICAS (SPDA) | F51: 0.05 | G51: 0.15 | H51: 0.6 | I51: 0.2
A53: 23 | B53: SERVIÇOS COMPLEMENTARES | F53: 0.15 | G53: 0.25 | H53: 0.45 | I53: 0.15
H54: 0.3 | I54: 0.7
A55: 24 | B55: SERVIÇOS FINAIS
A58: Valores totais | C58: =SUM(C9:C55) -> 0 | D58: =SUM(D9:D55) -> 0 | H58: =H10+H12+H14+H16+H18+H20+H22+H24+H26+H28+H30+H32+H34+H36+H38+H40+H42+H44+H46+H48+H50+H52+H54+H56 -> 0.3 | I58: =I10+I12+I14+I16+I18+I20+I22+I24+I26+I28+I30+I32+I34+I36+I38+I40+I42+I44+I46+I48+I50+I52+I54+I56 -> 0.7
E60: =E59 -> 0 | F60: =E60+F59 -> 0 | G60: =F60+G59 -> 0 | H60: =G60+H59 -> 0 | I60: =H60+I59 -> 0
