Workbook
Name \0: #REF!
Name \0: #REF!
Name A: #REF!
Name A: #REF!
Name aaaa: #REF!
Name aaaa: #REF!
Name AB: #REF!
Name AB: #REF!
Name ABER: #REF!
Name ABER: #REF!
Name D: #REF!
Name D: #REF!
Name FDSAFDSF: #REF!
Name FDSAFDSF: #REF!
Name nommmm: #REF!
Name nommmm: #REF!
Name OUTRO: #REF!
Name OUTRO: #REF!
Name Print_Area_MI: [2]HIDRAULICA!#REF!
Name Print_Area_MI: [2]HIDRAULICA!#REF!

Sheet PLANILHA
A1: PREFEITURA MUNICIPAL DE SANTA LUZIA
A2: SECRETARIA DE OBRAS
A4: OBRA: ACADEMIA DA SAÚDE PRAÇA DO CATUMBI
A5: LOCAL: PREFEITURA MUNICIPAL
A6: Planilha Orçamentária | D6: Santa Luzia, 03 de Dezembro de 2019
F7: BDI | G7: =1.2247-1 -> 0.2247 | H7: BDI PROJETOS | I7: =1.25-1 -> 0.25
E8: SETOP OUT-2018- SINAPI JAN-2019
A9: Item | B9: Código | C9: Descrição | D9: Unid. | E9: Quant. | F9: Pr. Unit. S / BDI | G9: Pr. Unit. C / BDI | H9: Pr. Total S / BDI | I9: Pr. Total C / BDI
C10: TOTAL GERAL | I10: =I11+I15+I17+I19+I28+I39+I47+I49+I55+I59+I63+I69+I93+I117+I124 -> 164435.45
A11: 1 | C11: SERVIÇOS PRELIMINARES | I11: =SUM(I12:I14) -> 5922.8452
A12: 1.1 | B12: 74209/001 | C12: PLACA DE OBRA EM CHAPA DE AÇO GALVANIZADO | D12: M2 | E12: 6 | F12: 311.26 | G12: =(F12*$G$7)+F12 -> 381.20012 | H12: =E12*F12 -> 1867.56 | I12: =E12*G12 -> 2287.2007
A13: 1.2 | B13: SON-SPT-005 | C13: MOBILIZAÇÃO E DESMOBILIZAÇÃO POR EQUIPAMENTO DE SONDAGEM A PERCUSSÃO D = 2 1/2" | D13: VB | E13: 1 | F13: 700 | G13: =(F13*$G$7)+F13 -> 857.29 | H13: =E13*F13 -> 700 | I13: =E13*G13 -> 857.29
A14: 1.3 | B14: SON-SPT-010 | C14: SONDAGEM A PERCUSSÃO D=21/2" COM MEDIDA DE SPT(FATURAMENTO MÍNIMO = 30 M) | D14: M | E14: 30 | F14: 75.62 | G14: =(F14*$G$7)+F14 -> 92.611814 | H14: =E14*F14 -> 2268.6 | I14: =E14*G14 -> 2778.3544
A15: 2 | C15: ADMINISTRAÇÃO LOCAL | I15: =SUM(I16) -> 8221.7663
A16: 2.1 | C16: ADMINISTRAÇÃO LOCAL 5% | D16: UN | E16: 1 | F16: 6713.29 | G16: =(F16*$G$7)+F16 -> 8221.7663 | H16: =E16*F16 -> 6713.29 | I16: =E16*G16 -> 8221.7663
A17: 3 | C17: PROJETOS | I17: =SUM(I18) -> 1151.575
A18: 3.1 | B18: PROJ-EXE-090 | C18: PROJETO EXECUTIVO DE ESTRUTURA DE CONCRETO (FUNDAÇÕES) | D18: PR A1 | E18: 1 | F18: 921.26 | G18: =(F18*$I$7)+F18 -> 1151.575 | H18: =E18*F18 -> 921.26 | I18: =E18*G18 -> 1151.575
A19: 4 | C19: FUNDAÇÃO | I19: =SUM(I20:I27) -> 25344.061
A20: 4.1 | B20: 04.10.01 | C20: ESTACA RAIZ MOBILIZACAO E DESMOBILIZACAO DE EQUIPAMENTOS | D20: UN | E20: 1 | F20: 5000 | G20: 6123.5 | H20: 5000 | I20: =E20*G20 -> 6123.5
A21: 4.2 | B21: 96161 | C21: ESTACA RAIZ, DIÂMETRO DE 31 CM, COMPRIMENTO DE ATÉ 10 M, SEM PRESENÇA DE ROCHA. AF_05/2017 | D21: M | E21: 48 | F21: 246.14 | G21: 301.44766 | H21: 14768.4 | I21: =E21*G21 -> 14469.488
A22: 4.3 | B22: 96534 | C22: FABRICAÇÃO, MONTAGEM E DESMONTAGEM DE FÔRMA PARA BLOCO DE COROAMENTO, EM MADEIRA SERRADA, E=25 MM, 4 UTILIZAÇÕES. AF_06/2017 | D22: M2 | E22: 17.3 | F22: 60.34 | G22: 73.898398 | H22: 1043.882 | I22: =E22*G22 -> 1278.4423
A23: 4.4 | B23: 96542 | C23: FABRICAÇÃO, MONTAGEM E DESMONTAGEM DE FÔRMA PARA VIGA BALDRAME, EM CHAPA DE MADEIRA COMPENSADA RESINADA, E=17 MM, 4 UTILIZAÇÕES. AF_06/2017 | D23: M2 | E23: 13.3 | F23: 55.76 | G23: 68.289272 | H23: 741.608 | I23: =E23*G23 -> 908.24732
A24: 4.5 | B24: 96545 | C24: ARMAÇÃO DE BLOCO, VIGA BALDRAME OU SAPATA UTILIZANDO AÇO CA-50 DE 8 MM - MONTAGEM. AF_06/2017 | D24: KG | E24: 29.72 | F24: 9.83 | G24: 12.038801 | H24: 292.1476 | I24: =E24*G24 -> 357.79317
A25: 4.6 | B25: 96546 | C25: ARMAÇÃO DE BLOCO, VIGA BALDRAME OU SAPATA UTILIZANDO AÇO CA-50 DE 10 MM - MONTAGEM. AF_06/2017 | D25: KG | E25: 69.19 | F25: 7.99 | G25: 9.785353 | H25: 552.8281 | I25: =E25*G25 -> 677.04857
A26: 4.7 | B26: ED-49798 | C26: FORNECIMENTO DE CONCRETO ESTRUTURAL, USINADO, COM FCK 25 MPA, INCLUSIVE LANÇAMENTO, ADENSAMENTO E ACABAMENTO (FUNDAÇÃO) | D26: M3 | E26: 3 | F26: 326.85 | G26: 400.29319 | H26: 1340.085 | I26: =E26*G26 -> 1200.8796
A27: 4.8 | B27: 74106/1 | C27: IMPERMEABILIZACAO DE ESTRUTURAS ENTERRADAS, COM TINTA ASFALTICA, DUAS DEMAOS. | D27: M2 | E27: 30.6 | F27: 8.77 | G27: 10.740619 | H27: 268.362 | I27: =E27*G27 -> 328.66294
A28: 5 | C28: ESTRUTURA | I28: =SUM(I29:I38) -> 7829.1661
A29: 5.1 | B29: 92429 | C29: MONTAGEM E DESMONTAGEM DE FÔRMA DE PILARES RETANGULARES E ESTRUTURAS SIMILARES COM ÁREA MÉDIA DAS SEÇÕES MAIOR QUE 0,25 M², PÉ-DIREITO DUPLO, EM CHAPA DE MADEIRA COMPENSADA RESINADA, 8 UTILIZAÇÕES. AF_12/2015 | D29: M2 | E29: 13.9 | F29: 48.93 | G29: =(F29*$G$7)+F29 -> 59.924571 | H29: =E29*F29 -> 680.127 | I29: =E29*G29 -> 832.95154
A30: 5.2 | B30: 92265 | C30: FABRICAÇÃO DE FÔRMA PARA VIGAS, EM CHAPA DE MADEIRA COMPENSADA RESINADA, E = 17 MM. AF_12/2015 | D30: M2 | E30: 27.6 | F30: 68.43 | G30: =(F30*$G$7)+F30 -> 83.806221 | H30: =E30*F30 -> 1888.668 | I30: =E30*G30 -> 2313.0517
A31: 5.3 | B31: 92267 | C31: FABRICAÇÃO DE FÔRMA PARA LAJES, EM CHAPA DE MADEIRA COMPENSADA RESINADA, E = 17 MM. AF_12/2015 | D31: M2 | E31: 11.9 | F31: 24.33 | G31: =(F31*$G$7)+F31 -> 29.796951 | H31: =E31*F31 -> 289.527 | I31: =E31*G31 -> 354.58372
A32: 5.4 | B32: 92760 | C32: ARMAÇÃO DE PILAR OU VIGA DE UMA ESTRUTURA CONVENCIONAL DE CONCRETO ARMADO EM UM EDIFÍCIO DE MÚLTIPLOS PAVIMENTOS UTILIZANDO AÇO CA-50 DE 6,3 MM - MONTAGEM. AF_12/2015 | D32: KG | E32: 34.52 | F32: 8.69 | G32: =(F32*$G$7)+F32 -> 10.642643 | H32: =E32*F32 -> 299.9788 | I32: =E32*G32 -> 367.38404
A33: 5.5 | B33: 92761 | C33: ARMAÇÃO DE PILAR OU VIGA DE UMA ESTRUTURA CONVENCIONAL DE CONCRETO ARMADO EM UM EDIFÍCIO DE MÚLTIPLOS PAVIMENTOS UTILIZANDO AÇO CA-50 DE 8,0 MM - MONTAGEM. AF_12/2015 | D33: KG | E33: 39.27 | F33: 8.51 | G33: =(F33*$G$7)+F33 -> 10.422197 | H33: =E33*F33 -> 334.1877 | I33: =E33*G33 -> 409.27968
A34: 5.6 | B34: 92762 | C34: ARMAÇÃO DE PILAR OU VIGA DE UMA ESTRUTURA CONVENCIONAL DE CONCRETO ARMADO EM UM EDIFÍCIO DE MÚLTIPLOS PAVIMENTOS UTILIZANDO AÇO CA-50 DE 10, 0 MM - MONTAGEM. AF_12/2015 | D34: KG | E34: 105.39 | F34: 6.95 | G34: =(F34*$G$7)+F34 -> 8.511665 | H34: =E34*F34 -> 732.4605 | I34: =E34*G34 -> 897.04437
A35: 5.7 | B35: 92768 | C35: ARMAÇÃO DE LAJE DE UMA ESTRUTURA CONVENCIONAL DE CONCRETO ARMADO EM UM EDIFÍCIO DE MÚLTIPLOS PAVIMENTOS UTILIZANDO AÇO CA-60 DE 5,0 MM - MONTAGEM. AF_12/2015 | D35: KG | E35: 5.47 | F35: 8.73 | G35: =(F35*$G$7)+F35 -> 10.691631 | H35: =E35*F35 -> 47.7531 | I35: =E35*G35 -> 58.483222
A36: 5.8 | B36: 92769 | C36: ARMAÇÃO DE LAJE DE UMA ESTRUTURA CONVENCIONAL DE CONCRETO ARMADO EM UM EDIFÍCIO DE MÚLTIPLOS PAVIMENTOS UTILIZANDO AÇO CA-50 DE 6,3 MM - MONTAGEM. AF_12/2015 | D36: KG | E36: 78.43 | F36: 7.79 | G36: =(F36*$G$7)+F36 -> 9.540413 | H36: =E36*F36 -> 610.9697 | I36: =E36*G36 -> 748.25459
A37: 5.9 | B37: 92775 | C37: ARMAÇÃO DE PILAR OU VIGA DE UMA ESTRUTURA CONVENCIONAL DE CONCRETO ARMADO EM UMA EDIFICAÇÃO TÉRREA OU SOBRADO UTILIZANDO AÇO CA-60 DE 5,0 MM - MONTAGEM. AF_12/2015 | D37: KG | E37: 20.09 | F37: 12.22 | G37: =(F37*$G$7)+F37 -> 14.965834 | H37: =E37*F37 -> 245.4998 | I37: =E37*G37 -> 300.66361
A38: 5.10 | B38: 99235 | C38: CONCRETAGEM DE EDIFICAÇÕES (PAREDES E LAJES) FEITAS COM SISTEMA DE FÔRMAS MANUSEÁVEIS, COM CONCRETO USINADO AUTOADENSÁVEL FCK 25 MPA - LANÇAMENTO E ACABAMENTO. AF_06/2015 | D38: M3 | E38: 3.7 | F38: 341.5 | G38: =(F38*$G$7)+F38 -> 418.23505 | H38: =E38*F38 -> 1263.55 | I38: =E38*G38 -> 1547.4697
A39: 6 | C39: PISO | I39: =SUM(I40:I46) -> 57000.905
A40: 6.1 | B40: 94995 | C40: EXECUÇÃO DE PASSEIO (CALÇADA) OU PISO DE CONCRETO COM CONCRETO MOLDADO IN LOCO, USINADO, ACABAMENTO CONVENCIONAL, ESPESSURA 8 CM, ARMADO AF_07/2016 | D40: M2 | E40: 214.4 | F40: 63.66 | G40: =(F40*$G$7)+F40 -> 77.964402 | H40: =E40*F40 -> 13648.704 | I40: =E40*G40 -> 16715.568
A41: 6.2 | B41: 94997 | C41: EXECUÇÃO DE PASSEIO (CALÇADA) OU PISO DE CONCRETO COM CONCRETO MOLDADO IN LOCO, USINADO, ACABAMENTO CONVENCIONAL, ESPESSURA 10 CM, ARMADO. AF_07/2016 | D41: M2 | E41: 72 | F41: 72.12 | G41: =(F41*$G$7)+F41 -> 88.325364 | H41: =E41*F41 -> 5192.64 | I41: =E41*G41 -> 6359.4262
A42: 6.3 | B42: 92396 | C42: EXECUÇÃO DE PASSEIO EM PISO INTERTRAVADO, COM BLOCO RETANGULAR COR NATURAL DE 20 X 10 CM, ESPESSURA 6 CM. AF_12/2015 | D42: M2 | E42: 402.25 | F42: 56.06 | G42: =(F42*$G$7)+F42 -> 68.656682 | H42: =E42*F42 -> 22550.135 | I42: =E42*G42 -> 27617.15
A43: 6.4 | B43: 87632 | C43: CONTRAPISO EM ARGAMASSA TRAÇO 1:4 (CIMENTO E AREIA), PREPARO MANUAL, APLICADO EM ÁREAS SECAS SOBRE LAJE, ADERIDO, ESPESSURA 3CM. AF_06/2014 | D43: M2 | E43: 60.84 | F43: 32.42 | G43: =(F43*$G$7)+F43 -> 39.704774 | H43: =E43*F43 -> 1972.4328 | I43: =E43*G43 -> 2415.6385
A44: 6.5 | B44: PIS-CER-015 | C44: REVESTIMENTO COM CERÂMICA APLICADO EM PISO, ACABAMENTO ESMALTADO, AMBIENTE EXTERNO (ANTIDERRAPANTE), PADRÃO EXTRA, DIMENSÃO DA PEÇA ATÉ 2025 CM2, PEI V, ASSENTAMENTO COM ARGAMASSA INDUSTRIALIZADA, INCLUSIVE REJUNTAMENTO | D44: M2 | E44: 49.35 | F44: 54.01 | G44: =(F44*$G$7)+F44 -> 66.146047 | H44: =E44*F44 -> 2665.3935 | I44: =E44*G44 -> 3264.3074
A45: 6.6 | B45: 87248 | C45: REVESTIMENTO CERÂMICO PARA PISO COM PLACAS TIPO ESMALTADA EXTRA DE DIMENSÕES 35X35 CM APLICADA EM AMBIENTES DE ÁREA MAIOR QUE 10 M2. AF_06/2014 | D45: M2 | E45: 11.49 | F45: 31.27 | G45: =(F45*$G$7)+F45 -> 38.296369 | H45: =E45*F45 -> 359.2923 | I45: =E45*G45 -> 440.02528
A46: 6.7 | B46: 98689 | C46: SOLEIRA EM GRANITO, LARGURA 15 CM, ESPESSURA 2,0 CM. AF_06/2018 | D46: M | E46: 2.4 | F46: 64.23 | G46: =(F46*$G$7)+F46 -> 78.662481 | H46: =E46*F46 -> 154.152 | I46: =E46*G46 -> 188.78995
A47: 7 | C47: ALVENARIA | I47: =SUM(I48:I48) -> 3649.726
A48: 7.1 | B48: 87479 | C48: ALVENARIA DE VEDAÇÃO DE BLOCOS CERÂMICOS FURADOS NA VERTICAL DE 14X19X39CM (ESPESSURA 14CM) DE PAREDES COM ÁREA LÍQUIDA MAIOR OU IGUAL A 6M² SEM VÃOS E ARGAMASSA DE ASSENTAMENTO COM PREPARO EM BETONEIRA. AF_06/2014 | D48: M2 | E48: 63.8 | F48: 46.71 | G48: =(F48*$G$7)+F48 -> 57.205737 | H48: =E48*F48 -> 2980.098 | I48: =E48*G48 -> 3649.726
A49: 8 | C49: ESQUADRIA | I49: =SUM(I50:I54) -> 3773.5922
A50: 8.1 | B50: 94572 | C50: JANELA DE ALUMÍNIO DE CORRER, 3 FOLHAS, FIXAÇÃO COM PARAFUSO SOBRE CONTRAMARCO (EXCLUSIVE CONTRAMARCO), COM VIDROS, PADRONIZADA. AF_07/2016 | D50: M2 | E50: 1.2 | F50: 296.34 | G50: =(F50*$G$7)+F50 -> 362.9276 | H50: =E50*F50 -> 355.608 | I50: =E50*G50 -> 435.51312
A51: 8.2 | B51: SER-POR-015 | C51: PORTA COMPLETA, ESTRUTURA E MARCO EM CHAPA DOBRADA - 80 X 210 CM | D51: UN | E51: 1 | F51: 404.47 | G51: =(F51*$G$7)+F51 -> 495.35441 | H51: =E51*F51 -> 404.47 | I51: =E51*G51 -> 495.35441
A52: 8.3 | B52: SER-POR-016 | C52: PORTA COMPLETA, ESTRUTURA E MARCO EM CHAPA DOBRADA - 80 X 210 CM, COM BARRA DE APOIO | D52: UN | E52: 2 | F52: 523.8 | G52: =(F52*$G$7)+F52 -> 641.49786 | H52: =E52*F52 -> 1047.6 | I52: =E52*G52 -> 1282.9957
A53: 8.4 | B53: SER-GRA-005 | C53: FORNECIMENTO E ASSENTAMENTO DE GRADE FIXA DE FERRO,PARA PROTEÇÃO DE JANELAS | D53: M2 | E53: =E50 -> 1.2 | F53: 254,50 | G53: =(F53*$G$7)+F53 -> 311.68615 | H53: =E53*F53 -> 305.4 | I53: =E53*G53 -> 374.02338
A54: 8.5 | B54: SER-POR-055 | C54: PORTÃO DE GRADE COLOCADO COM CADEADO | D54: M2 | E54: 4 | F54: 242.04 | G54: =(F54*$G$7)+F54 -> 296.42639 | H54: =E54*F54 -> 968.16 | I54: =E54*G54 -> 1185.7056
A55: 9 | C55: COBERTURA | I55: =SUM(I56:I58) -> 9648.1822
A56: 9.1 | B56: CP-01 | C56: PILAR DE MADEIRA 15X15 CM, FORNECIMENTO E INSTALAÇÃO | D56: UN | E56: 4 | F56: 287.19 | G56: =(F56*$G$7)+F56 -> 351.72159 | H56: =E56*F56 -> 1148.76 | I56: =E56*G56 -> 1406.8864
A57: 9.2 | B57: 92565 | C57: FABRICAÇÃO E INSTALAÇÃO DE ESTRUTURA PONTALETADA DE MADEIRA NÃO APARELHADA PARA TELHADOS COM ATÉ 2 ÁGUAS E PARA TELHA CERÂMICA OU DE CONCRETO, INCLUSO TRANSPORTE VERTICAL. AF_12/2015 | D57: M2 | E57: 88.87 | F57: 27.96 | G57: =(F57*$G$7)+F57 -> 34.242612 | H57: =E57*F57 -> 2484.8052 | I57: =E57*G57 -> 3043.1409
A58: 9.3 | B58: 94201 | C58: TELHAMENTO COM TELHA CERÂMICA CAPA-CANAL, TIPO COLONIAL, COM ATÉ 2 ÁGUAS, INCLUSO TRANSPORTE VERTICAL. AF_06/2016 | D58: M2 | E58: 88.87 | F58: 47.76 | G58: =(F58*$G$7)+F58 -> 58.491672 | H58: =E58*F58 -> 4244.4312 | I58: =E58*G58 -> 5198.1549
A59: 10 | C59: REVESTIMENTOS | I59: =SUM(I60:I62) -> 6698.6175
A60: 10.1 | B60: 87878 | C60: CHAPISCO APLICADO EM ALVENARIAS E ESTRUTURAS DE CONCRETO INTERNAS, COM COLHER DE PEDREIRO. ARGAMASSA TRAÇO 1:3 COM PREPARO MANUAL. AF_06/2014 | D60: M2 | E60: 142.25 | F60: 3.14 | G60: =(F60*$G$7)+F60 -> 3.845558 | H60: =E60*F60 -> 446.665 | I60: =E60*G60 -> 547.03063
A61: 10.2 | B61: 87548 | C61: MASSA ÚNICA, PARA RECEBIMENTO DE PINTURA, EM ARGAMASSA TRAÇO 1:2:8, PREPARO MANUAL, APLICADA MANUALMENTE EM FACES INTERNAS DE PAREDES, ESPESSURA DE 10MM, COM EXECUÇÃO DE TALISCAS. AF_06/2014 | D61: M2 | E61: 142,25 | F61: 18.51 | G61: =(F61*$G$7)+F61 -> 22.669197 | H61: =E61*F61 -> 2633.0475 | I61: =E61*G61 -> 3224.6933
A62: 10.3 | B62: 87265 | C62: REVESTIMENTO CERÂMICO PARA PAREDES INTERNAS COM PLACAS TIPO ESMALTADA EXTRA DE DIMENSÕES 20X20 CM APLICADAS EM AMBIENTES DE ÁREA MAIOR QUE 5M² NA ALTURA INTEIRA DAS PAREDES. AF_06/2014 | D62: M2 | E62: 55.54 | F62: 43.03 | G62: =(F62*$G$7)+F62 -> 52.698841 | H62: =E62*F62 -> 2389.8862 | I62: =E62*G62 -> 2926.8936
A63: 11 | C63: PINTURA | I63: =SUM(I64:I68) -> 4040.4089
A64: 11.1 | B64: PIN-ACR-025 | C64: PINTURA ACRÍLICA PARA PISO EM PASSEIO/SUPERFÍCIE CIMENTADA,DUAS (2) DEMÃOS | D64: M2 | E64: 286.4 | F64: 7.36 | G64: =(F64*$G$7)+F64 -> 9.013792 | H64: =E64*F64 -> 2107.904 | I64: =E64*G64 -> 2581.55
A65: 11.2 | B65: CP-02 | C65: PINTURA ESMALTE EM TETO, BRANCO FOSCO, DUAS DEMÃOS | D65: M2 | E65: 11.49 | F65: 11 | G65: =(F65*$G$7)+F65 -> 13.4717 | H65: =E65*F65 -> 126.39 | I65: =E65*G65 -> 154.78983
A66: 11.3 | B66: 73924/1 | C66: PINTURA ESMALTE ALTO BRILHO, DUAS DEMAOS, SOBRE SUPERFICIE METALICA | D66: M2 | E66: 22.56 | F66: 24.22 | G66: =(F66*$G$7)+F66 -> 29.662234 | H66: =E66*F66 -> 546.4032 | I66: =E66*G66 -> 669.18
A67: 11.4 | B67: 88489 | C67: APLICAÇÃO MANUAL DE PINTURA COM TINTA LÁTEX ACRÍLICA EM PAREDES, DUAS DEMÃOS. AF_06/2014 | D67: M2 | E67: 12.61 | F67: 9.92 | G67: =(F67*$G$7)+F67 -> 12.149024 | H67: =E67*F67 -> 125.0912 | I67: =E67*G67 -> 153.19919
A68: 11.5 | B68: 88487 | C68: APLICAÇÃO MANUAL DE PINTURA COM TINTA LÁTEX PVA EM PAREDES, DUAS DEMÃOS. AF_06/2014 | D68: M2 | E68: 50.75 | F68: 7.75 | G68: =(F68*$G$7)+F68 -> 9.491425 | H68: =E68*F68 -> 393.3125 | I68: =E68*G68 -> 481.68982
A69: 12 | C69: ELÉTRICA | I69: =SUM(I70:I92) -> 8642.8034
A70: 12.1 | B70: 91981 | C70: INTERRUPTOR BIPOLAR (1 MÓDULO), 10A/250V, INCLUINDO SUPORTE E PLACA - FORNECIMENTO E INSTALAÇÃO. AF_09/2017 | D70: UN | E70: 1 | F70: 30,23 | G70: =(F70*$G$7)+F70 -> 37.022681 | H70: =E70*F70 -> 30.23 | I70: =E70*G70 -> 37.022681
A71: 12.2 | B71: ED-49362 | C71: INTERRUPTOR , DUAS TECLAS SIMPLES 10 A - 250 V | D71: UN | E71: 1 | F71: 20,06 | G71: =(F71*$G$7)+F71 -> 24.567482 | H71: =E71*F71 -> 20.06 | I71: =E71*G71 -> 24.567482
A72: 12.3 | B72: 92023 | C72: INTERRUPTOR SIMPLES (1 MÓDULO) COM 1 TOMADA DE EMBUTIR 2P+T 10 A, INCLUINDO SUPORTE E PLACA - FORNECIMENTO E INSTALAÇÃO. AF_12/2015 | D72: UN | E72: 3 | F72: 30.78 | G72: =(F72*$G$7)+F72 -> 37.696266 | H72: =E72*F72 -> 92.34 | I72: =E72*G72 -> 113.0888
A73: 12.4 | B73: 91992 | C73: TOMADA ALTA DE EMBUTIR (1 MÓDULO), 2P+T 10 A, INCLUINDO SUPORTE E PLACA - FORNECIMENTO E INSTALAÇÃO. AF_12/2015 | D73: UN | E73: 1 | F73: 26,87 | G73: =(F73*$G$7)+F73 -> 32.907689 | H73: =E73*F73 -> 26.87 | I73: =E73*G73 -> 32.907689
A74: 12.5 | B74: 91940 | C74: CAIXA RETANGULAR 4" X 2" MÉDIA (1,30 M DO PISO), PVC, INSTALADA EM PAREDE - FORNECIMENTO E INSTALAÇÃO. AF_12/2015 | D74: UN | E74: 4 | F74: 10,17 | G74: =(F74*$G$7)+F74 -> 12.455199 | H74: =E74*F74 -> 40.68 | I74: =E74*G74 -> 49.820796
A75: 12.6 | B75: 91941 | C75: CAIXA RETANGULAR 4" X 2" BAIXA (0,30 M DO PISO), PVC, INSTALADA EM PAREDE - FORNECIMENTO E INSTALAÇÃO. AF_12/2015 | D75: UN | E75: 3 | F75: 6,83 | G75: =(F75*$G$7)+F75 -> 8.364701 | H75: =E75*F75 -> 20.49 | I75: =E75*G75 -> 25.094103
A76: 12.7 | B76: 91937 | C76: CAIXA OCTOGONAL 3" X 3", PVC, INSTALADA EM LAJE - FORNECIMENTO E INSTALAÇÃO. AF_12/2015 | D76: UN | E76: 7 | F76: 7,88 | G76: =(F76*$G$7)+F76 -> 9.650636 | H76: =E76*F76 -> 55.16 | I76: =E76*G76 -> 67.554452
A77: 12.8 | B77: 91924 | C77: CABO DE COBRE FLEXÍVEL ISOLADO, 1,5 MM², ANTI-CHAMA 450/750 V, PARA CIRCUITOS TERMINAIS - FORNECIMENTO E INSTALAÇÃO. AF_12/2015 | D77: M | E77: 231.55 | F77: 1,57 | G77: =(F77*$G$7)+F77 -> 1.922779 | H77: =E77*F77 -> 363.5335 | I77: =E77*G77 -> 445.21948
A78: 12.9 | B78: 91932 | C78: CABO DE COBRE FLEXÍVEL ISOLADO, 10 MM², ANTI-CHAMA 450/750 V, PARA CIRCUITOS TERMINAIS - FORNECIMENTO E INSTALAÇÃO. AF_12/2015 | D78: M | E78: 63.5 | F78: 7,88 | G78: =(F78*$G$7)+F78 -> 9.650636 | H78: =E78*F78 -> 500.38 | I78: =E78*G78 -> 612.81539
A79: 12.10 | B79: 91926 | C79: CABO DE COBRE FLEXÍVEL ISOLADO, 2,5 MM², ANTI-CHAMA 450/750 V, PARA CIRCUITOS TERMINAIS - FORNECIMENTO E INSTALAÇÃO. AF_12/2015 | D79: M | E79: 48.9 | F79: 2,23 | G79: =(F79*$G$7)+F79 -> 2.731081 | H79: =E79*F79 -> 109.047 | I79: =E79*G79 -> 133.54986
A80: 12.11 | B80: ED-49870 | C80: CAIXA ALVENARIA 30 X 30 X 30 CM, TAMPA EM CONCRETO-INSPEÇÃO /PASSAGEM, INCLUSIVE ESCAVAÇÃO, REATERRO E BOTA-FORA | D80: U | E80: 2 | F80: 87,18 | G80: =(F80*$G$7)+F80 -> 106.76935 | H80: =E80*F80 -> 174.36 | I80: =E80*G80 -> 213.53869
A81: 12.12 | B81: 11.02.05 | C81: ELETRODUTO PVC FLEXIVEL CORRUGADO TIGREFLEX/EQUIVALENTE D= 32MM (1") | D81: M | E81: 92 | F81: 8,08 | G81: =(F81*$G$7)+F81 -> 9.895576 | H81: =E81*F81 -> 743.36 | I81: =E81*G81 -> 910.39299
A82: 12.13 | B82: 11.02.04 | C82: ELETRODUTO PVC FLEXIVEL CORRUGADO TIGREFLEX/EQUIVALENTE D= 25MM (3/4") | D82: M | E82: 41.75 | F82: 4,81 | G82: =(F82*$G$7)+F82 -> 5.890807 | H82: =E82*F82 -> 200.8175 | I82: =E82*G82 -> 245.94119
A83: 12.14 | B83: 97586 | C83: LUMINÁRIA TIPO CALHA, DE SOBREPOR, COM 2 LÂMPADAS TUBULARES DE 36 W - FORNECIMENTO E INSTALAÇÃO. AF_11/2017 | D83: UN | E83: 7 | F83: 76,60 | G83: =(F83*$G$7)+F83 -> 93.81202 | H83: =E83*F83 -> 536.2 | I83: =E83*G83 -> 656.68414
A84: 12.15 | B84: COMPOSICAO | C84: LUMINARIA LED 50W | D84: UN | E84: 5 | F84: 230,04 | G84: =(F84*$G$7)+F84 -> 281.72999 | H84: =E84*F84 -> 1150.2 | I84: =E84*G84 -> 1408.6499
... A92: 12.23 | B92: ELE-PAD-020 | C92: PADRÃO CEMIG AÉREO TIPO D4, 27,1 <= DEMANDA <= 38 KVA, TRIFÁSICO | D92: UN | E92: 1 | F92: 1922,92 | G92: =(F92*$G$7)+F92 -> 2355.0001 | H92: =E92*F92 -> 1922.92 | I92: =E92*G92 -> 2355.0001
A93: 13 | C93: INSTALAÇÕES HIDROSSANITÁRIAS | I93: =SUM(I94:I116) -> 5708.7986
A94: 13.1 | B94: ED-49999 | C94: REGISTRO DE ESFERA EM PVC SOLDÁVEL, Ø 20 MM | D94: U | E94: 3 | F94: 15.79 | G94: =(F94*$G$7)+F94 -> 19.338013 | H94: =E94*F94 -> 47.37 | I94: =E94*G94 -> 58.014039
A95: 13.2 | B95: 01.08.20 | C95: TUBO PVC AGUA SOLDA E CONEXÕES D=20MM (1/2") | D95: M | E95: 12.8 | F95: 4.43 | G95: =(F95*$G$7)+F95 -> 5.425421 | H95: =E95*F95 -> 56.704 | I95: =E95*G95 -> 69.445389
A96: 13.3 | B96: 74166/1 | C96: CAIXA DE INSPEÇÃO EM CONCRETO PRÉ-MOLDADO DN 60CM COM TAMPA H= 60CM - FORNECIMENTO E INSTALACAO | D96: UN | E96: 1 | F96: 185.57 | G96: =(F96*$G$7)+F96 -> 227.26758 | H96: =E96*F96 -> 185.57 | I96: =E96*G96 -> 227.26758
A97: 13.4 | B97: 10.48.40 | C97: TERMINAL DE VENTILAÇAO PVC D= 50MM | D97: UN | E97: 2 | F97: 7.28 | G97: =(F97*$G$7)+F97 -> 8.915816 | H97: =E97*F97 -> 14.56 | I97: =E97*G97 -> 17.831632
A98: 13.5 | B98: 89825 | C98: TE, PVC, SERIE NORMAL, ESGOTO PREDIAL, DN 50 X 50 MM, JUNTA ELÁSTICA, FORNECIDO E INSTALADO EM PRUMADA DE ESGOTO SANITÁRIO OU VENTILAÇÃO. AF_12/2014 | D98: UN | E98: 3 | F98: 8.67 | G98: =(F98*$G$7)+F98 -> 10.618149 | H98: =E98*F98 -> 26.01 | I98: =E98*G98 -> 31.854447
A99: 13.6 | B99: 89802 | C99: JOELHO 45 GRAUS, PVC, SERIE NORMAL, ESGOTO PREDIAL, DN 50 MM, JUNTA ELÁSTICA, FORNECIDO E INSTALADO EM PRUMADA DE ESGOTO SANITÁRIO OU VENTILAÇÃO. AF_12/2014 | D99: UN | E99: 3 | F99: 4.42 | G99: =(F99*$G$7)+F99 -> 5.413174 | H99: =E99*F99 -> 13.26 | I99: =E99*G99 -> 16.239522
A100: 13.7 | B100: 89798 | C100: TUBO PVC, SERIE NORMAL, ESGOTO PREDIAL, DN 50 MM, FORNECIDO E INSTALADO EM PRUMADA DE ESGOTO SANITÁRIO OU VENTILAÇÃO. AF_12/2014 | D100: M | E100: 9.31 | F100: 7.23 | G100: =(F100*$G$7)+F100 -> 8.854581 | H100: =E100*F100 -> 67.3113 | I100: =E100*G100 -> 82.436149
A101: 13.8 | B101: ED-50008 | C101: CAIXA SIFONADA EM PVC COM GRELHA REDONDA 150 X 150 X 50 MM | D101: U | E101: 3 | F101: 52.18 | G101: =(F101*$G$7)+F101 -> 63.904846 | H101: =E101*F101 -> 156.54 | I101: =E101*G101 -> 191.71454
A102: 13.9 | B102: 89512 | C102: TUBO PVC, SÉRIE R, ÁGUA PLUVIAL, DN 100 MM, FORNECIDO E INSTALADO EM RAMAL DE ENCAMINHAMENTO. AF_12/2014 | D102: M | E102: 10 | F102: 39.96 | G102: =(F102*$G$7)+F102 -> 48.939012 | H102: =E102*F102 -> 399.6 | I102: =E102*G102 -> 489.39012
A103: 13.10 | B103: ED-50323 | C103: TORNEIRA METÁLICA PARA IRRIGAÇÃO/JARDIM, ACABAMENTO CROMADO, APLICAÇÃO DE PAREDE, INCLUSIVE FORNECIMENTO E INSTALAÇÃO | D103: U | E103: 1 | F103: 34.45 | G103: =(F103*$G$7)+F103 -> 42.190915 | H103: =E103*F103 -> 34.45 | I103: =E103*G103 -> 42.190915
A104: 13.11 | B104: 86932 | C104: VASO SANITÁRIO SIFONADO COM CAIXA ACOPLADA LOUÇA BRANCA - PADRÃO MÉDIO, INCLUSO ENGATE FLEXÍVEL EM METAL CROMADO, 1/2 X 40CM - FORNECIMENTO E INSTALAÇÃO. AF_12/2013 | D104: UN | E104: 2 | F104: 399.21 | G104: =(F104*$G$7)+F104 -> 488.91249 | H104: =E104*F104 -> 798.42 | I104: =E104*G104 -> 977.82497
A105: 13.12 | B105: 86943 | C105: LAVATÓRIO LOUÇA BRANCA SUSPENSO, 29,5 X 39CM OU EQUIVALENTE, PADRÃO POPULAR, INCLUSO SIFÃO FLEXÍVEL EM PVC, VÁLVULA E ENGATE FLEXÍVEL 30CM EM PLÁSTICO E TORNEIRA CROMADA DE MESA, PADRÃO POPULAR - FORNECIMENTO E INSTALAÇÃO. AF_12/2013 | D105: UN | E105: 2 | F105: 171.39 | G105: =(F105*$G$7)+F105 -> 209.90133 | H105: =E105*F105 -> 342.78 | I105: =E105*G105 -> 419.80267
... A116: 13.23 | B116: HID-DAG-010 | C116: CAIXA DÁGUA DE POLIETILENO COM TAMPA 500 L | D116: UN | E116: 1 | F116: 442.38 | G116: =(F116*$G$7)+F116 -> 541.78279 | H116: =E116*F116 -> 442.38 | I116: =E116*G116 -> 541.78279
A117: 14 | C117: EQUIPAMENTOS | I117: =SUM(I118:I123) -> 7801.0083
A118: 14.1 | B118: COMPOSICAO | C118: BARRAS PARALELAS | D118: UN | E118: 1 | F118: 312.22 | G118: =(F118*$G$7)+F118 -> 382.37583 | H118: =E118*F118 -> 312.22 | I118: =E118*G118 -> 382.37583
...

Sheet PLANILHA RESUMO
A1: PREFEITURA MUNICIPAL DE SANTA LUZIA
A2: =PLANILHA!A2 -> SECRETARIA DE OBRAS
A4: =PLANILHA!A4 -> OBRA: ACADEMIA DA SAÚDE PRAÇA DO CATUMBI
A5: =PLANILHA!A5 -> LOCAL: PREFEITURA MUNICIPAL
A6: Planilha Resumo
A8: CÓDIGO | B8: DISCRIMINAÇÃO | C8: VALOR | D8: %
A10: =PLANILHA!A11 -> 1 | B10: =PLANILHA!C11 -> SERVIÇOS PRELIMINARES | C10: =PLANILHA!I11 -> 5922.8452 | D10: =C10/$C$41 -> 0.036019272
A12: =PLANILHA!A15 -> 2 | B12: =PLANILHA!C15 -> ADMINISTRAÇÃO LOCAL | C12: =PLANILHA!I15 -> 8221.7663 | D12: =C12/$C$41 -> 0.049999963
A14: =PLANILHA!A17 -> 3 | B14: =PLANILHA!C17 -> PROJETOS | C14: =PLANILHA!I17 -> 1151.575 | D14: =C14/$C$41 -> 0.0070032041
A16: =PLANILHA!A19 -> 4 | B16: =PLANILHA!C19 -> FUNDAÇÃO | C16: =PLANILHA!I19 -> 25344.061 | D16: =C16/$C$41 -> 0.15412773
A18: =PLANILHA!A28 -> 5 | B18: =PLANILHA!C28 -> ESTRUTURA | C18: =PLANILHA!I28 -> 7829.1661 | D18: =C18/$C$41 -> 0.047612399
A20: =PLANILHA!A39 -> 6 | B20: =PLANILHA!C39 -> PISO | C20: =PLANILHA!I39 -> 57000.905 | D20: =C20/$C$41 -> 0.34664609
A22: =PLANILHA!A47 -> 7 | B22: =PLANILHA!C47 -> ALVENARIA | C22: =PLANILHA!I47 -> 3649.726 | D22: =C22/$C$41 -> 0.022195494
A24: =PLANILHA!A49 -> 8 | B24: =PLANILHA!C49 -> ESQUADRIA | C24: =PLANILHA!I49 -> 3773.5922 | D24: =C24/$C$41 -> 0.022948776
A26: =PLANILHA!A55 -> 9 | B26: =PLANILHA!C55 -> COBERTURA | C26: =PLANILHA!I55 -> 9648.1822 | D26: =C26/$C$41 -> 0.058674588
A28: =PLANILHA!A59 -> 10 | B28: =PLANILHA!C59 -> REVESTIMENTOS | C28: =PLANILHA!I59 -> 6698.6175 | D28: =C28/$C$41 -> 0.040737065
A30: =PLANILHA!A63 -> 11 | B30: =PLANILHA!C63 -> PINTURA | C30: =PLANILHA!I63 -> 4040.4089 | D30: =C30/$C$41 -> 0.024571398
A32: =PLANILHA!A69 -> 12 | B32: =PLANILHA!C69 -> ELÉTRICA | C32: =PLANILHA!I69 -> 8642.8034 | D32: =C32/$C$41 -> 0.052560464
A34: =PLANILHA!A93 -> 13 | B34: =PLANILHA!C93 -> INSTALAÇÕES HIDROSSANITÁRIAS | C34: =PLANILHA!I93 -> 5708.7986 | D34: =C34/$C$41 -> 0.034717566
A36: 14 | B36: EQUIPAMENTOS | C36: =PLANILHA!I117 -> 7801.0083 | D36: =C36/$C$41 -> 0.04744116
A38: =PLANILHA!A124 -> 15 | B38: =PLANILHA!C124 -> SERVIÇOS COMPLEMENTARES | C38: =PLANILHA!I124 -> 9001.9908 | D38: =C38/$C$41 -> 0.054744831
A41: TOTAL GERAL | C41: =SUM(C10:C40) -> 164435.45 | D41: =SUM(D10:D40) -> 1

Sheet CRONOGRAMA
A1: PREFEITURA MUNICIPAL DE SANTA LUZIA
A2: SECRETARIA DE OBRAS
A4: ='PLANILHA RESUMO'!A4 -> OBRA: ACADEMIA DA SAÚDE PRAÇA DO CATUMBI
A5: =PLANILHA!A5 -> LOCAL: PREFEITURA MUNICIPAL
A6: Cronograma FÍsico-Financeiro
A7: CÓDIGO | B7: DISCRIMINAÇÃO | C7: VALOR | D7: MÊS
D8: 1 | E8: 2 | F8: 3 | G8: 4 | H8: 5 | I8: 6
A10: ='PLANILHA RESUMO'!A10 -> 1 | B10: =PLANILHA!C11 -> SERVIÇOS PRELIMINARES | C10: =PLANILHA!I11 -> 5922.8452 | D10: 1 | E10: 0 | F10: 0 | G10: 0 | H10: 0 | I10: 0 | K10: =SUM(D10:I10) -> 1
D11: =D$10*$C$10 -> 5922.8452 | E11: =E$10*$C$10 -> 0 | F11: =F$10*$C$10 -> 0 | G11: =G$10*$C$10 -> 0 | H11: =H$10*$C$10 -> 0 | I11: =I$10*$C$10 -> 0 | K11: =SUM(D11:J11) -> 5922.8452 | L11: =C10-K11 -> 0
A12: ='PLANILHA RESUMO'!A12 -> 2 | B12: =PLANILHA!C15 -> ADMINISTRAÇÃO LOCAL | C12: ='PLANILHA RESUMO'!C12 -> 8221.7663 | D12: 0.12 | E12: 0.2 | F12: 0.18 | G12: 0.18 | H12: 0.09 | I12: 0.23 | K12: =SUM(D12:I12) -> 1
D13: =D$12*$C$12 -> 986.61195 | E13: =E$12*$C$12 -> 1644.3533 | F13: =F$12*$C$12 -> 1479.9179 | G13: =G$12*$C$12 -> 1479.9179 | H13: =H$12*$C$12 -> 739.95896 | I13: =I$12*$C$12 -> 1891.0062 | K13: =SUM(D13:J13) -> 8221.7663 | L13: =C12-K13 -> 0
A14: =PLANILHA!A17 -> 3 | B14: =PLANILHA!C17 -> PROJETOS | C14: =PLANILHA!I17 -> 1151.575 | D14: 1 | E14: 0 | F14: 0 | G14: 0 | H14: 0 | I14: 0
D15: =D$14*$C$14 -> 1151.575 | E15: =E$14*$C$14 -> 0 | F15: =F$14*$C$14 -> 0 | G15: =G$14*$C$14 -> 0 | H15: =H$14*$C$14 -> 0 | I15: =I$14*$C$14 -> 0
A16: =PLANILHA!A19 -> 4 | B16: =PLANILHA!C19 -> FUNDAÇÃO | C16: =PLANILHA!I19 -> 25344.061 | D16: 0.5 | E16: 0.5 | F16: 0 | G16: 0 | H16: 0 | I16: 0
D17: =D$16*$C$16 -> 12672.031 | E17: =E$16*$C$16 -> 12672.031 | F17: =F$16*$C$16 -> 0 | G17: =G$16*$C$16 -> 0 | H17: =H$16*$C$16 -> 0 | I17: =I$16*$C$16 -> 0
A18: =PLANILHA!A28 -> 5 | B18: =PLANILHA!C28 -> ESTRUTURA | C18: =PLANILHA!I28 -> 7829.1661 | D18: 0 | E18: 0.5 | F18: 0.5 | G18: 0 | H18: 0 | I18: 0
D19: =D$18*$C$18 -> 0 | E19: =E$18*$C$18 -> 3914.5831 | F19: =F$18*$C$18 -> 3914.5831 | G19: =G$18*$C$18 -> 0 | H19: =H$18*$C$18 -> 0 | I19: =I$18*$C$18 -> 0
A20: ='PLANILHA RESUMO'!A20 -> 6 | B20: =PLANILHA!C39 -> PISO | C20: ='PLANILHA RESUMO'!C20 -> 57000.905 | D20: 0 | E20: 0.2 | F20: 0.2 | G20: 0.2 | H20: 0.2 | I20: 0.2
D21: =D$20*$C$20 -> 0 | E21: =E$20*$C$20 -> 11400.181 | F21: =F$20*$C$20 -> 11400.181 | G21: =G$20*$C$20 -> 11400.181 | H21: =H$20*$C$20 -> 11400.181 | I21: =I$20*$C$20 -> 11400.181
A22: ='PLANILHA RESUMO'!A22 -> 7 | B22: =PLANILHA!C47 -> ALVENARIA | C22: ='PLANILHA RESUMO'!C22 -> 3649.726 | D22: 0 | E22: 1 | F22: 0 | G22: 0 | H22: 0 | I22: 0 | K22: =SUM(D22:I22) -> 1
A23: ='PLANILHA RESUMO'!A25 -> 0 | D23: =D$22*$C$22 -> 0 | E23: =E$22*$C$22 -> 3649.726 | F23: =F$22*$C$22 -> 0 | G23: =G$22*$C$22 -> 0 | H23: =H$22*$C$22 -> 0 | I23: =I$22*$C$22 -> 0 | K23: =SUM(D23:J23) -> 3649.726 | L23: =C22-K23 -> 0
A24: ='PLANILHA RESUMO'!A24 -> 8 | B24: =PLANILHA!C49 -> ESQUADRIA | C24: ='PLANILHA RESUMO'!C24 -> 3773.5922 | D24: 0 | E24: 0 | F24: 1 | G24: 0 | H24: 0 | I24: 0 | K24: =SUM(D24:I24) -> 1
A25: ='PLANILHA RESUMO'!A25 -> 0 | D25: =D$24*$C$24 -> 0 | E25: =E$24*$C$24 -> 0 | F25: =F$24*$C$24 -> 3773.5922 | G25: =G$24*$C$24 -> 0 | H25: =H$24*$C$24 -> 0 | I25: =I$24*$C$24 -> 0 | K25: =SUM(D25:J25) -> 3773.5922 | L25: =C24-K25 -> 0
A26: ='PLANILHA RESUMO'!A26 -> 9 | B26: =PLANILHA!C55 -> COBERTURA | C26: ='PLANILHA RESUMO'!C26 -> 9648.1822 | D26: 0 | E26: 0 | F26: 1 | G26: 0 | H26: 0 | I26: 0 | K26: =SUM(D26:I26) -> 1
A27: ='PLANILHA RESUMO'!A27 -> 0 | D27: =D$26*$C$26 -> 0 | E27: =E$26*$C$26 -> 0 | F27: =F$26*$C$26 -> 9648.1822 | G27: =G$26*$C$26 -> 0 | H27: =H$26*$C$26 -> 0 | I27: =I$26*$C$26 -> 0 | K27: =SUM(D27:J27) -> 9648.1822 | L27: =C26-K27 -> 0
A28: ='PLANILHA RESUMO'!A28 -> 10 | B28: ='PLANILHA RESUMO'!B28 -> REVESTIMENTOS | C28: ='PLANILHA RESUMO'!C28 -> 6698.6175 | D28: 0 | E28: 0 | F28: 0 | G28: 0.5 | H28: 0.5 | I28: 0 | K28: =SUM(D28:I28) -> 1
A29: ='PLANILHA RESUMO'!A27 -> 0 | D29: =D$28*$C$28 -> 0 | E29: =E$28*$C$28 -> 0 | F29: =F$28*$C$28 -> 0 | G29: =G$28*$C$28 -> 3349.3088 | H29: =H$28*$C$28 -> 3349.3088 | I29: =I$28*$C$28 -> 0 | K29: =SUM(D29:J29) -> 6698.6175 | L29: =C28-K29 -> 0
A30: ='PLANILHA RESUMO'!A30 -> 11 | B30: ='PLANILHA RESUMO'!B30 -> PINTURA | C30: ='PLANILHA RESUMO'!C30 -> 4040.4089 | D30: 0 | E30: 0 | F30: 0 | G30: 0 | H30: 0 | I30: 1 | K30: =SUM(D30:I30) -> 1
A31: ='PLANILHA RESUMO'!A27 -> 0 | D31: =D$30*$C$30 -> 0 | E31: =E$30*$C$30 -> 0 | F31: =F$30*$C$30 -> 0 | G31: =G$30*$C$30 -> 0 | H31: =H$30*$C$30 -> 0 | I31: =I$30*$C$30 -> 4040.4089 | K31: =SUM(D31:J31) -> 4040.4089 | L31: =C30-K31 -> 0
A32: ='PLANILHA RESUMO'!A32 -> 12 | B32: ='PLANILHA RESUMO'!B32 -> ELÉTRICA | C32: ='PLANILHA RESUMO'!C32 -> 8642.8034 | D32: 0 | E32: 0 | F32: 0 | G32: 1 | H32: 0 | I32: 0 | K32: =SUM(D32:I32) -> 1
A33: ='PLANILHA RESUMO'!A29 -> 0 | D33: =D$32*$C$32 -> 0 | E33: =E$32*$C$32 -> 0 | F33: =F$32*$C$32 -> 0 | G33: =G$32*$C$32 -> 8642.8034 | H33: =H$32*$C$32 -> 0 | I33: =I$32*$C$32 -> 0 | K33: =SUM(D33:J33) -> 8642.8034 | L33: =C32-K33 -> 0
A34: ='PLANILHA RESUMO'!A34 -> 13 | B34: ='PLANILHA RESUMO'!B34 -> INSTALAÇÕES HIDROSSANITÁRIAS | C34: ='PLANILHA RESUMO'!C34 -> 5708.7986 | D34: 0 | E34: 0 | F34: 0 | G34: 1 | H34: 0 | I34: 0 | K34: =SUM(D34:I34) -> 1
D35: =D$34*$C$34 -> 0 | E35: =E$34*$C$34 -> 0 | F35: =F$34*$C$34 -> 0 | G35: =G$34*$C$34 -> 5708.7986 | H35: =H$34*$C$34 -> 0 | I35: =I$34*$C$34 -> 0 | K35: =SUM(D35:J35) -> 5708.7986 | L35: =C34-K35 -> 0
A36: =PLANILHA!A117 -> 14 | B36: =PLANILHA!C117 -> EQUIPAMENTOS | C36: =PLANILHA!I117 -> 7801.0083 | I36: 1
D37: =D$36*$C$36 -> 0 | E37: =E$36*$C$36 -> 0 | F37: =F$36*$C$36 -> 0 | G37: =G$36*$C$36 -> 0 | H37: =H$36*$C$36 -> 0 | I37: =I$36*$C$36 -> 7801.0083
A38: ='PLANILHA RESUMO'!A38 -> 15 | B38: ='PLANILHA RESUMO'!B38 -> SERVIÇOS COMPLEMENTARES | C38: ='PLANILHA RESUMO'!C38 -> 9001.9908 | D38: 0 | E38: 0 | F38: 0 | G38: 0 | H38: 0 | I38: 1 | K38: =SUM(D38:I38) -> 1
A39: ='PLANILHA RESUMO'!A39 -> 0 | D39: =D$38*$C$38 -> 0 | E39: =E$38*$C$38 -> 0 | F39: =F$38*$C$38 -> 0 | G39: =G$38*$C$38 -> 0 | H39: =H$38*$C$38 -> 0 | I39: =I$38*$C$38 -> 9001.9908 | K39: =SUM(D39:J39) -> 9001.9908 | L39: =C38-K39 -> 0
A41: % SIMPLES | D41: =D42/$I$44 -> 0.12608633 | E41: =E42/$I$44 -> 0.20239477 | F41: =F42/$I$44 -> 0.18375878 | G41: =G42/$I$44 -> 0.18597578 | H41: =H42/$I$44 -> 0.094197748 | I41: =I42/$I$44 -> 0.2075866
A42: R$ SIMPLES | D42: =D11+D13+D15+D17+D19+D21+D23+D25+D27+D29+D31+D33+D35+D39 -> 20733.063 | E42: =E11+E13+E15+E17+E19+E21+E23+E25+E27+E29+E31+E33+E35+E39 -> 33280.874 | F42: =F11+F13+F15+F17+F19+F21+F23+F25+F27+F29+F31+F33+F35+F39 -> 30216.456 | G42: =G11+G13+G15+G17+G19+G21+G23+G25+G27+G29+G31+G33+G35+G39 -> 30581.01 | H42: =H11+H13+H15+H17+H19+H21+H23+H25+H27+H29+H31+H33+H35+H39 -> 15489.449 | I42: =I11+I13+I15+I17+I19+I21+I23+I25+I27+I29+I31+I33+I35++I37+I39 -> 34134.595
A43: % ACUMULADO | D43: =D41 -> 0.12608633 | E43: =D43+E41 -> 0.3284811 | F43: =E43+F41 -> 0.51223988 | G43: =F43+G41 -> 0.69821565 | H43: =G43+H41 -> 0.7924134 | I43: =H43+I41 -> 1
A44: R$ ACUMULADO | D44: =D42 -> 20733.063 | E44: =D44+E42 -> 54013.937 | F44: =E44+F42 -> 84230.393 | G44: =F44+G42 -> 114811.4 | H44: =G44+H42 -> 130300.85 | I44: =H44+I42 -> 164435.45

Sheet COMPOSIÇÃO
C2: UNIDADE | D2: COEFICIENTE | E2: UNITÁRIO | F2: TOTAL
A3: CP-01 | B3: PILAR DE MADEIRA 15X15 CM, FORNECIMENTO E INSTALAÇÃO | C3: UNIDADE
A4: 88316 | B4: SERVENTE COM ENCARGOS COMPLEMENTARES | C4: H | D4: 1 | E4: 14.76 | F4: =D4*E4 -> 14.76
A5: 88309 | B5: PEDREIRO COM ENCARGOS COMPLEMENTARES | C5: H | D5: 1 | E5: 20.67 | F5: =D5*E5 -> 20.67
A6: 35275 | B6: PILAR DE MADEIRA NAO APARELHADA *15 X 15* CM, MACARANDUBA, ANGELIM OU EQUIVALENTE DA REGIÃO | C6: M | D6: 3 | E6: 83.92 | F6: =D6*E6 -> 251.76
E7: TOTAL | F7: =SUM(F3:F6) -> 287.19
C9: UNIDADE | D9: COEFICIENTE | E9: UNITÁRIO | F9: TOTAL
A10: CP-02 | B10: PINTURA ESMALTE EM TETO, BRANCO FOSCO, DUAS DEMÃOS | C10: M2
A11: 88316 | B11: SERVENTE COM ENCARGOS COMPLEMENTARES | C11: H | D11: 0.089 | E11: 14.76 | F11: =D11*E11 -> 1.31364
A12: 88310 | B12: PINTOR COM ENCARGOS COMPLEMENTARES | C12: H | D12: 0.244 | E12: 20.58 | F12: =D12*E12 -> 5.02152
A13: 7288 | B13: TINTA ESMALTE SINTETICO PREMIUM FOSCO | C13: L | D13: 0.16 | E13: 29.15 | F13: =D13*E13 -> 4.664
E14: TOTAL | F14: =SUM(F10:F13) -> 10.99916
