Workbook
Name \0: #REF!
Name \0: #REF!
Name A: #REF!
Name A: #REF!
Name aaaa: #REF!
Name aaaa: #REF!
Name AB: #REF!
Name AB: #REF!
Name ABER: #REF!
Name ABER: #REF!
Name D: #REF!
Name D: #REF!
Name FDSAFDSF: #REF!
Name FDSAFDSF: #REF!
Name nommmm: #REF!
Name nommmm: #REF!
Name OUTRO: #REF!
Name OUTRO: #REF!
Name Print_Area_MI: [2]HIDRAULICA!#REF!
Name Print_Area_MI: [2]HIDRAULICA!#REF!

Sheet PLANILHA
A1: PREFEITURA MUNICIPAL DE SANTA LUZIA
A2: SECRETARIA DE OBRAS
A4: OBRA: ACADEMIA DA SAÚDE PRAÇA DO CATUMBI
A5: LOCAL: PREFEITURA MUNICIPAL
A6: Planilha Orçamentária | D6: Santa Luzia, 03 de Dezembro de 2019
F7: BDI | G7: =1.2247-1 -> 0.2247 | H7: BDI PROJETOS | I7: =1.25-1 -> 0.25
E8: SETOP OUT-2018- SINAPI JAN-2019
A9: Item | B9: Código | C9: Descrição | D9: Unid. | E9: Quant. | F9: Pr. Unit. S / BDI | G9: Pr. Unit. C / BDI | H9: Pr. Total S / BDI | I9: Pr. Total C / BDI
C10: TOTAL GERAL | I10: =I11+I15+I17+I19+I28+I39+I47+I49+I55+I59+I63+I69+I93+I117+I124 -> 164435.45
A11: 1 | C11: SERVIÇOS PRELIMINARES | I11: =SUM(I12:I14) -> 5922.8452
A12: 1.1 | B12: 74209/001 | C12: PLACA DE OBRA EM CHAPA DE AÇO GALVANIZADO | D12: M2 | E12: 6 | F12: 311.26 | G12: =(F12*$G$7)+F12 -> 381.20012 | H12: =E12*F12 -> 1867.56 | I12: =E12*G12 -> 2287.2007
A13: 1.2 | B13: SON-SPT-005 | C13: MOBILIZAÇÃO E DESMOBILIZAÇÃO POR EQUIPAMENTO DE SONDAGEM A PERCUSSÃO D = 2 1/2" | D13: VB | E13: 1 | F13: 700 | G13: =(F13*$G$7)+F13 -> 857.29 | H13: =E13*F13 -> 700 | I13: =E13*G13 -> 857.29
A14: 1.3 | B14: SON-SPT-010 | C14: SONDAGEM A PERCUSSÃO D=21/2" COM MEDIDA DE SPT(FATURAMENTO MÍNIMO = 30 M) | D14: M | E14: 30 | F14: 75.62 | G14: =(F14*$G$7)+F14 -> 92.611814 | H14: =E14*F14 -> 2268.6 | I14: =E14*G14 -> 2778.3544
A15: 2 | C15: ADMINISTRAÇÃO LOCAL | I15: =SUM(I16) -> 8221.7663
A16: 2.1 | C16: ADMINISTRAÇÃO LOCAL 5% | D16: UN | E16: 1 | F16: 6713.29 | G16: =(F16*$G$7)+F16 -> 8221.7663 | H16: =E16*F16 -> 6713.29 | I16: =E16*G16 -> 8221.7663
A17: 3 | C17: PROJETOS | I17: =SUM(I18) -> 1151.575
A18: 3.1 | B18: PROJ-EXE-090 | C18: PROJETO EXECUTIVO DE ESTRUTURA DE CONCRETO (FUNDAÇÕES) | D18: PR A1 | E18: 1 | F18: 921.26 | G18: =(F18*$I$7)+F18 -> 1151.575 | H18: =E18*F18 -> 921.26 | I18: =E18*G18 -> 1151.575
A19: 4 | C19: FUNDAÇÃO | I19: =SUM(I20:I27) -> 25344.061
A20: 4.1 | B20: 04.10.01 | C20: ESTACA RAIZ MOBILIZACAO E DESMOBILIZACAO DE EQUIPAMENTOS | D20: UN | E20: 1 | F20: 5000 | G20: 6123.5 | H20: 5000 | I20: =E20*G20 -> 6123.5
A21: 4.2 | B21: 96161 | C21: ESTACA RAIZ, DIÂMETRO DE 31 CM, COMPRIMENTO DE ATÉ 10 M, SEM PRESENÇA DE ROCHA. AF_05/2017 | D21: M | E21: 48 | F21: 246.14 | G21: 301.44766 | H21: 14768.4 | I21: =E21*G21 -> 14469.488
A22: 4.3 | B22: 96534 | C22: FABRICAÇÃO, MONTAGEM E DESMONTAGEM DE FÔRMA PARA BLOCO DE COROAMENTO, EM MADEIRA SERRADA, E=25 MM, 4 UTILIZAÇÕES. AF_06/2017 | D22: M2 | E22: 17.3 | F22: 60.34 | G22: 73.898398 | H22: 1043.882 | I22: =E22*G22 -> 1278.4423
A23: 4.4 | B23: 96542 | C23: FABRICAÇÃO, MONTAGEM E DESMONTAGEM DE FÔRMA PARA VIGA BALDRAME, EM CHAPA DE MADEIRA COMPENSADA RESINADA, E=17 MM, 4 UTILIZAÇÕES. AF_06/2017 | D23: M2 | E23: 13.3 | F23: 55.76 | G23: 68.289272 | H23: 741.608 | I23: =E23*G23 -> 908.24732
A24: 4.5 | B24: 96545 | C24: ARMAÇÃO DE BLOCO, VIGA BALDRAME OU SAPATA UTILIZANDO AÇO CA-50 DE 8 MM - MONTAGEM. AF_06/2017 | D24: KG | E24: 29.72 | F24: 9.83 | G24: 12.038801 | H24: 292.1476 | I24: =E24*G24 -> 357.79317
A25: 4.6 | B25: 96546 | C25: ARMAÇÃO DE BLOCO, VIGA BALDRAME OU SAPATA UTILIZANDO AÇO CA-50 DE 10 MM - MONTAGEM. AF_06/2017 | D25: KG | E25: 69.19 | F25: 7.99 | G25: 9.785353 | H25: 552.8281 | I25: =E25*G25 -> 677.04857
A26: 4.7 | B26: ED-49798 | C26: FORNECIMENTO DE CONCRETO ESTRUTURAL, USINADO, COM FCK 25 MPA, INCLUSIVE LANÇAMENTO, ADENSAMENTO E ACABAMENTO (FUNDAÇÃO) | D26: M3 | E26: 3 | F26: 326.85 | G26: 400.29319 | H26: 1340.085 | I26: =E26*G26 -> 1200.8796
A27: 4.8 | B27: 74106/1 | C27: IMPERMEABILIZACAO DE ESTRUTURAS ENTERRADAS, COM TINTA ASFALTICA, DUAS DEMAOS. | D27: M2 | E27: 30.6 | F27: 8.77 | G27: 10.740619 | H27: 268.362 | I27: =E27*G27 -> 328.66294
A28: 5 | C28: ESTRUTURA | I28: =SUM(I29:I38) -> 7829.1661
A29: 5.1 | B29: 92429 | C29: MONTAGEM E DESMONTAGEM DE FÔRMA DE PILARES RETANGULARES E ESTRUTURAS SIMILARES COM ÁREA MÉDIA DAS SEÇÕES MAIOR QUE 0,25 M², PÉ-DIREITO DUPLO, EM CHAPA DE MADEIRA COMPENSADA RESINADA, 8 UTILIZAÇÕES. AF_12/2015 | D29: M2 | E29: 13.9 | F29: 48.93 | G29: =(F29*$G$7)+F29 -> 59.924571 | H29: =E29*F29 -> 680.127 | I29: =E29*G29 -> 832.95154
A30: 5.2 | B30: 92265 | C30: FABRICAÇÃO DE FÔRMA PARA VIGAS, EM CHAPA DE MADEIRA COMPENSADA RESINADA, E = 17 MM. AF_12/2015 | D30: M2 | E30: 27.6 | F30: 68.43 | G30: =(F30*$G$7)+F30 -> 83.806221 | H30: =E30*F30 -> 1888.668 | I30: =E30*G30 -> 2313.0517
A31: 5.3 | B31: 92267 | C31: FABRICAÇÃO DE FÔRMA PARA LAJES, EM CHAPA DE MADEIRA COMPENSADA RESINADA, E = 17 MM. AF_12/2015 | D31: M2 | E31: 11.9 | F31: 24.33 | G31: =(F31*$G$7)+F31 -> 29.796951 | H31: =E31*F31 -> 289.527 | I31: =E31*G31 -> 354.58372
A32: 5.4 | B32: 92760 | C32: ARMAÇÃO DE PILAR OU VIGA DE UMA ESTRUTURA CONVENCIONAL DE CONCRETO ARMADO EM UM EDIFÍCIO DE MÚLTIPLOS PAVIMENTOS UTILIZANDO AÇO CA-50 DE 6,3 MM - MONTAGEM. AF_12/2015 | D32: KG | E32: 34.52 | F32: 8.69 | G32: =(F32*$G$7)+F32 -> 10.642643 | H32: =E32*F32 -> 299.9788 | I32: =E32*G32 -> 367.38404
A33: 5.5 | B33: 92761 | C33: ARMAÇÃO DE PILAR OU VIGA DE UMA ESTRUTURA CONVENCIONAL DE CONCRETO ARMADO EM UM EDIFÍCIO DE MÚLTIPLOS PAVIMENTOS UTILIZANDO AÇO CA-50 DE 8,0 MM - MONTAGEM. AF_12/2015 | D33: KG | E33: 39.27 | F33: 8.51 | G33: =(F33*$G$7)+F33 -> 10.422197 | H33: =E33*F33 -> 334.1877 | I33: =E33*G33 -> 409.27968
A34: 5.6 | B34: 92762 | C34: ARMAÇÃO DE PILAR OU VIGA DE UMA ESTRUTURA CONVENCIONAL DE CONCRETO ARMADO EM UM EDIFÍCIO DE MÚLTIPLOS PAVIMENTOS UTILIZANDO AÇO CA-50 DE 10, 0 MM - MONTAGEM. AF_12/2015 | D34: KG | E34: 105.39 | F34: 6.95 | G34: =(F34*$G$7)+F34 -> 8.511665 | H34: =E34*F34 -> 732.4605 | I34: =E34*G34 -> 897.04437
A35: 5.7 | B35: 92768 | C35: ARMAÇÃO DE LAJE DE UMA ESTRUTURA CONVENCIONAL DE CONCRETO ARMADO EM UM EDIFÍCIO DE MÚLTIPLOS PAVIMENTOS UTILIZANDO AÇO CA-60 DE 5,0 MM - MONTAGEM. AF_12/2015 | D35: KG | E35: 5.47 | F35: 8.73 | G35: =(F35*$G$7)+F35 -> 10.691631 | H35: =E35*F35 -> 47.7531 | I35: =E35*G35 -> 58.483222
A36: 5.8 | B36: 92769 | C36: ARMAÇÃO DE LAJE DE UMA ESTRUTURA CONVENCIONAL DE CONCRETO ARMADO EM UM EDIFÍCIO DE MÚLTIPLOS PAVIMENTOS UTILIZANDO AÇO CA-50 DE 6,3 MM - MONTAGEM. AF_12/2015 | D36: KG | E36: 78.43 | F36: 7.79 | G36: =(F36*$G$7)+F36 -> 9.540413 | H36: =E36*F36 -> 610.9697 | I36: =E36*G36 -> 748.25459
A37: 5.9 | B37: 92775 | C37: ARMAÇÃO DE PILAR OU VIGA DE UMA ESTRUTURA CONVENCIONAL DE CONCRETO ARMADO EM UMA EDIFICAÇÃO TÉRREA OU SOBRADO UTILIZANDO AÇO CA-60 DE 5,0 MM - MONTAGEM. AF_12/2015 | D37: KG | E37: 20.09 | F37: 12.22 | G37: =(F37*$G$7)+F37 -> 14.965834 | H37: =E37*F37 -> 245.4998 | I37: =E37*G37 -> 300.66361
A38: 5.10 | B38: 99235 | C38: CONCRETAGEM DE EDIFICAÇÕES (PAREDES E LAJES) FEITAS COM SISTEMA DE FÔRMAS MANUSEÁVEIS, COM CONCRETO USINADO AUTOADENSÁVEL FCK 25 MPA - LANÇAMENTO E ACABAMENTO. AF_06/2015 | D38: M3 | E38: 3.7 | F38: 341.5 | G38: =(F38*$G$7)+F38 -> 418.23505 | H38: =E38*F38 -> 1263.55 | I38: =E38*G38 -> 1547.4697
A39: 6 | C39: PISO | I39: =SUM(I40:I46) -> 57000.905
A40: 6.1 | B40: 94995 | C40: EXECUÇÃO DE PASSEIO (CALÇADA) OU PISO DE CONCRETO COM CONCRETO MOLDADO IN LOCO, USINADO, ACABAMENTO CONVENCIONAL, ESPESSURA 8 CM, ARMADO AF_07/2016 | D40: M2 | E40: 214.4 | F40: 63.66 | G40: =(F40*$G$7)+F40 -> 77.964402 | H40: =E40*F40 -> 13648.704 | I40: =E40*G40 -> 16715.568
A41: 6.2 | B41: 94997 | C41: EXECUÇÃO DE PASSEIO (CALÇADA) OU PISO DE CONCRETO COM CONCRETO MOLDADO IN LOCO, USINADO, ACABAMENTO CONVENCIONAL, ESPESSURA 10 CM, ARMADO. AF_07/2016 | D41: M2 | E41: 72 | F41: 72.12 | G41: =(F41*$G$7)+F41 -> 88.325364 | H41: =E41*F41 -> 5192.64 | I41: =E41*G41 -> 6359.4262
...

Sheet PLANILHA RESUMO
A1: PREFEITURA MUNICIPAL DE SANTA LUZIA
A2: =PLANILHA!A2 -> SECRETARIA DE OBRAS
A4: =PLANILHA!A4 -> OBRA: ACADEMIA DA SAÚDE PRAÇA DO CATUMBI
A5: =PLANILHA!A5 -> LOCAL: PREFEITURA MUNICIPAL
A6: Planilha Resumo
A8: CÓDIGO | B8: DISCRIMINAÇÃO | C8: VALOR | D8: %
A10: =PLANILHA!A11 -> 1 | B10: =PLANILHA!C11 -> SERVIÇOS PRELIMINARES | C10: =PLANILHA!I11 -> 5922.8452 | D10: =C10/$C$41 -> 0.036019272
A12: =PLANILHA!A15 -> 2 | B12: =PLANILHA!C15 -> ADMINISTRAÇÃO LOCAL | C12: =PLANILHA!I15 -> 8221.7663 | D12: =C12/$C$41 -> 0.049999963
A14: =PLANILHA!A17 -> 3 | B14: =PLANILHA!C17 -> PROJETOS | C14: =PLANILHA!I17 -> 1151.575 | D14: =C14/$C$41 -> 0.0070032041
A16: =PLANILHA!A19 -> 4 | B16: =PLANILHA!C19 -> FUNDAÇÃO | C16: =PLANILHA!I19 -> 25344.061 | D16: =C16/$C$41 -> 0.15412773
A18: =PLANILHA!A28 -> 5 | B18: =PLANILHA!C28 -> ESTRUTURA | C18: =PLANILHA!I28 -> 7829.1661 | D18: =C18/$C$41 -> 0.047612399
A20: =PLANILHA!A39 -> 6 | B20: =PLANILHA!C39 -> PISO | C20: =PLANILHA!I39 -> 57000.905 | D20: =C20/$C$41 -> 0.34664609
A22: =PLANILHA!A47 -> 7 | B22: =PLANILHA!C47 -> ALVENARIA | C22: =PLANILHA!I47 -> 3649.726 | D22: =C22/$C$41 -> 0.022195494
A24: =PLANILHA!A49 -> 8 | B24: =PLANILHA!C49 -> ESQUADRIA | C24: =PLANILHA!I49 -> 3773.5922 | D24: =C24/$C$41 -> 0.022948776
A26: =PLANILHA!A55 -> 9 | B26: =PLANILHA!C55 -> COBERTURA | C26: =PLANILHA!I55 -> 9648.1822 | D26: =C26/$C$41 -> 0.058674588
A28: =PLANILHA!A59 -> 10 | B28: =PLANILHA!C59 -> REVESTIMENTOS | C28: =PLANILHA!I59 -> 6698.6175 | D28: =C28/$C$41 -> 0.040737065
A30: =PLANILHA!A63 -> 11 | B30: =PLANILHA!C63 -> PINTURA | C30: =PLANILHA!I63 -> 4040.4089 | D30: =C30/$C$41 -> 0.024571398
A32: =PLANILHA!A69 -> 12 | B32: =PLANILHA!C69 -> ELÉTRICA | C32: =PLANILHA!I69 -> 8642.8034 | D32: =C32/$C$41 -> 0.052560464
A34: =PLANILHA!A93 -> 13 | B34: =PLANILHA!C93 -> INSTALAÇÕES HIDROSSANITÁRIAS | C34: =PLANILHA!I93 -> 5708.7986 | D34: =C34/$C$41 -> 0.034717566
A36: 14 | B36: EQUIPAMENTOS | C36: =PLANILHA!I117 -> 7801.0083 | D36: =C36/$C$41 -> 0.04744116
A38: =PLANILHA!A124 -> 15 | B38: =PLANILHA!C124 -> SERVIÇOS COMPLEMENTARES | C38: =PLANILHA!I124 -> 9001.9908 | D38: =C38/$C$41 -> 0.054744831
A41: TOTAL GERAL | C41: =SUM(C10:C40) -> 164435.45 | D41: =SUM(D10:D40) -> 1

Sheet CRONOGRAMA
A1: PREFEITURA MUNICIPAL DE SANTA LUZIA
A2: SECRETARIA DE OBRAS
A4: ='PLANILHA RESUMO'!A4 -> OBRA: ACADEMIA DA SAÚDE PRAÇA DO CATUMBI
A5: =PLANILHA!A5 -> LOCAL: PREFEITURA MUNICIPAL
A6: Cronograma FÍsico-Financeiro
A7: CÓDIGO | B7: DISCRIMINAÇÃO | C7: VALOR | D7: MÊS
D8: 1 | E8: 2 | F8: 3 | G8: 4 | H8: 5 | I8: 6
A10: ='PLANILHA RESUMO'!A10 -> 1 | B10: =PLANILHA!C11 -> SERVIÇOS PRELIMINARES | C10: =PLANILHA!I11 -> 5922.8452 | D10: 1 | E10: 0 | F10: 0 | G10: 0 | H10: 0 | I10: 0 | K10: =SUM(D10:I10) -> 1
D11: =D$10*$C$10 -> 5922.8452 | E11: =E$10*$C$10 -> 0 | F11: =F$10*$C$10 -> 0 | G11: =G$10*$C$10 -> 0 | H11: =H$10*$C$10 -> 0 | I11: =I$10*$C$10 -> 0 | K11: =SUM(D11:J11) -> 5922.8452 | L11: =C10-K11 -> 0
A12: ='PLANILHA RESUMO'!A12 -> 2 | B12: =PLANILHA!C15 -> ADMINISTRAÇÃO LOCAL | C12: ='PLANILHA RESUMO'!C12 -> 8221.7663 | D12: 0.12 | E12: 0.2 | F12: 0.18 | G12: 0.18 | H12: 0.09 | I12: 0.23 | K12: =SUM(D12:I12) -> 1
D13: =D$12*$C$12 -> 986.61195 | E13: =E$12*$C$12 -> 1644.3533 | F13: =F$12*$C$12 -> 1479.9179 | G13: =G$12*$C$12 -> 1479.9179 | H13: =H$12*$C$12 -> 739.95896 | I13: =I$12*$C$12 -> 1891.0062 | K13: =SUM(D13:J13) -> 8221.7663 | L13: =C12-K13 -> 0
A14: =PLANILHA!A17 -> 3 | B14: =PLANILHA!C17 -> PROJETOS | C14: =PLANILHA!I17 -> 1151.575 | D14: 1 | E14: 0 | F14: 0 | G14: 0 | H14: 0 | I14: 0
D15: =D$14*$C$14 -> 1151.575 | E15: =E$14*$C$14 -> 0 | F15: =F$14*$C$14 -> 0 | G15: =G$14*$C$14 -> 0 | H15: =H$14*$C$14 -> 0 | I15: =I$14*$C$14 -> 0
A16: =PLANILHA!A19 -> 4 | B16: =PLANILHA!C19 -> FUNDAÇÃO | C16: =PLANILHA!I19 -> 25344.061 | D16: 0.5 | E16: 0.5 | F16: 0 | G16: 0 | H16: 0 | I16: 0
D17: =D$16*$C$16 -> 12672.031 | E17: =E$16*$C$16 -> 12672.031 | F17: =F$16*$C$16 -> 0 | G17: =G$16*$C$16 -> 0 | H17: =H$16*$C$16 -> 0 | I17: =I$16*$C$16 -> 0
A18: =PLANILHA!A28 -> 5 | B18: =PLANILHA!C28 -> ESTRUTURA | C18: =PLANILHA!I28 -> 7829.1661 | D18: 0 | E18: 0.5 | F18: 0.5 | G18: 0 | H18: 0 | I18: 0
D19: =D$18*$C$18 -> 0 | E19: =E$18*$C$18 -> 3914.5831 | F19: =F$18*$C$18 -> 3914.5831 | G19: =G$18*$C$18 -> 0 | H19: =H$18*$C$18 -> 0 | I19: =I$18*$C$18 -> 0
A20: ='PLANILHA RESUMO'!A20 -> 6 | B20: =PLANILHA!C39 -> PISO | C20: ='PLANILHA RESUMO'!C20 -> 57000.905 | D20: 0 | E20: 0.2 | F20: 0.2 | G20: 0.2 | H20: 0.2 | I20: 0.2
D21: =D$20*$C$20 -> 0 | E21: =E$20*$C$20 -> 11400.181 | F21: =F$20*$C$20 -> 11400.181 | G21: =G$20*$C$20 -> 11400.181 | H21: =H$20*$C$20 -> 11400.181 | I21: =I$20*$C$20 -> 11400.181
A22: ='PLANILHA RESUMO'!A22 -> 7 | B22: =PLANILHA!C47 -> ALVENARIA | C22: ='PLANILHA RESUMO'!C22 -> 3649.726 | D22: 0 | E22: 1 | F22: 0 | G22: 0 | H22: 0 | I22: 0 | K22: =SUM(D22:I22) -> 1
A23: ='PLANILHA RESUMO'!A25 -> 0 | D23: =D$22*$C$22 -> 0 | E23: =E$22*$C$22 -> 3649.726 | F23: =F$22*$C$22 -> 0 | G23: =G$22*$C$22 -> 0 | H23: =H$22*$C$22 -> 0 | I23: =I$22*$C$22 -> 0 | K23: =SUM(D23:J23) -> 3649.726 | L23: =C22-K23 -> 0
A24: ='PLANILHA RESUMO'!A24 -> 8 | B24: =PLANILHA!C49 -> ESQUADRIA | C24: ='PLANILHA RESUMO'!C24 -> 3773.5922 | D24: 0 | E24: 0 | F24: 1 | G24: 0 | H24: 0 | I24: 0 | K24: =SUM(D24:I24) -> 1
A25: ='PLANILHA RESUMO'!A25 -> 0 | D25: =D$24*$C$24 -> 0 | E25: =E$24*$C$24 -> 0 | F25: =F$24*$C$24 -> 3773.5922 | G25: =G$24*$C$24 -> 0 | H25: =H$24*$C$24 -> 0 | I25: =I$24*$C$24 -> 0 | K25: =SUM(D25:J25) -> 3773.5922 | L25: =C24-K25 -> 0
A26: ='PLANILHA RESUMO'!A26 -> 9 | B26: =PLANILHA!C55 -> COBERTURA | C26: ='PLANILHA RESUMO'!C26 -> 9648.1822 | D26: 0 | E26: 0 | F26: 1 | G26: 0 | H26: 0 | I26: 0 | K26: =SUM(D26:I26) -> 1
A27: ='PLANILHA RESUMO'!A27 -> 0 | D27: =D$26*$C$26 -> 0 | E27: =E$26*$C$26 -> 0 | F27: =F$26*$C$26 -> 9648.1822 | G27: =G$26*$C$26 -> 0 | H27: =H$26*$C$26 -> 0 | I27: =I$26*$C$26 -> 0 | K27: =SUM(D27:J27) -> 9648.1822 | L27: =C26-K27 -> 0
A28: ='PLANILHA RESUMO'!A28 -> 10 | B28: ='PLANILHA RESUMO'!B28 -> REVESTIMENTOS | C28: ='PLANILHA RESUMO'!C28 -> 6698.6175 | D28: 0 | E28: 0 | F28: 0 | G28: 0.5 | H28: 0.5 | I28: 0 | K28: =SUM(D28:I28) -> 1
A29: ='PLANILHA RESUMO'!A27 -> 0 | D29: =D$28*$C$28 -> 0 | E29: =E$28*$C$28 -> 0 | F29: =F$28*$C$28 -> 0 | G29: =G$28*$C$28 -> 3349.3088 | H29: =H$28*$C$28 -> 3349.3088 | I29: =I$28*$C$28 -> 0 | K29: =SUM(D29:J29) -> 6698.6175 | L29: =C28-K29 -> 0
A30: ='PLANILHA RESUMO'!A30 -> 11 | B30: ='PLANILHA RESUMO'!B30 -> PINTURA | C30: ='PLANILHA RESUMO'!C30 -> 4040.4089 | D30: 0 | E30: 0 | F30: 0 | G30: 0 | H30: 0 | I30: 1 | K30: =SUM(D30:I30) -> 1
A31: ='PLANILHA RESUMO'!A27 -> 0 | D31: =D$30*$C$30 -> 0 | E31: =E$30*$C$30 -> 0 | F31: =F$30*$C$30 -> 0 | G31: =G$30*$C$30 -> 0 | H31: =H$30*$C$30 -> 0 | I31: =I$30*$C$30 -> 4040.4089 | K31: =SUM(D31:J31) -> 4040.4089 | L31: =C30-K31 -> 0
A32: ='PLANILHA RESUMO'!A32 -> 12 | B32: ='PLANILHA RESUMO'!B32 -> ELÉTRICA | C32: ='PLANILHA RESUMO'!C32 -> 8642.8034 | D32: 0 | E32: 0 | F32: 0 | G32: 1 | H32: 0 | I32: 0 | K32: =SUM(D32:I32) -> 1
A33: ='PLANILHA RESUMO'!A29 -> 0 | D33: =D$32*$C$32 -> 0 | E33: =E$32*$C$32 -> 0 | F33: =F$32*$C$32 -> 0 | G33: =G$32*$C$32 -> 8642.8034 | H33: =H$32*$C$32 -> 0 | I33: =I$32*$C$32 -> 0 | K33: =SUM(D33:J33) -> 8642.8034 | L33: =C32-K33 -> 0
A34: ='PLANILHA RESUMO'!A34 -> 13 | B34: ='PLANILHA RESUMO'!B34 -> INSTALAÇÕES HIDROSSANITÁRIAS | C34: ='PLANILHA RESUMO'!C34 -> 5708.7986 | D34: 0 | E34: 0 | F34: 0 | G34: 1 | H34: 0 | I34: 0 | K34: =SUM(D34:I34) -> 1
D35: =D$34*$C$34 -> 0 | E35: =E$34*$C$34 -> 0 | F35: =F$34*$C$34 -> 0 | G35: =G$34*$C$34 -> 5708.7986 | H35: =H$34*$C$34 -> 0 | I35: =I$34*$C$34 -> 0 | K35: =SUM(D35:J35) -> 5708.7986 | L35: =C34-K35 -> 0
A36: =PLANILHA!A117 -> 14 | B36: =PLANILHA!C117 -> EQUIPAMENTOS | C36: =PLANILHA!I117 -> 7801.0083 | I36: 1
D37: =D$36*$C$36 -> 0 | E37: =E$36*$C$36 -> 0 | F37: =F$36*$C$36 -> 0 | G37: =G$36*$C$36 -> 0 | H37: =H$36*$C$36 -> 0 | I37: =I$36*$C$36 -> 7801.0083
A38: ='PLANILHA RESUMO'!A38 -> 15 | B38: ='PLANILHA RESUMO'!B38 -> SERVIÇOS COMPLEMENTARES | C38: ='PLANILHA RESUMO'!C38 -> 9001.9908 | D38: 0 | E38: 0 | F38: 0 | G38: 0 | H38: 0 | I38: 1 | K38: =SUM(D38:I38) -> 1
A39: ='PLANILHA RESUMO'!A39 -> 0 | D39: =D$38*$C$38 -> 0 | E39: =E$38*$C$38 -> 0 | F39: =F$38*$C$38 -> 0 | G39: =G$38*$C$38 -> 0 | H39: =H$38*$C$38 -> 0 | I39: =I$38*$C$38 -> 9001.9908 | K39: =SUM(D39:J39) -> 9001.9908 | L39: =C38-K39 -> 0
A41: % SIMPLES | D41: =D42/$I$44 -> 0.12608633 | E41: =E42/$I$44 -> 0.20239477 | F41: =F42/$I$44 -> 0.18375878 | G41: =G42/$I$44 -> 0.18597578 | H41: =H42/$I$44 -> 0.094197748 | I41: =I42/$I$44 -> 0.2075866
A42: R$ SIMPLES | D42: =D11+D13+D15+D17+D19+D21+D23+D25+D27+D29+D31+D33+D35+D39 -> 20733.063 | E42: =E11+E13+E15+E17+E19+E21+E23+E25+E27+E29+E31+E33+E35+E39 -> 33280.874 | F42: =F11+F13+F15+F17+F19+F21+F23+F25+F27+F29+F31+F33+F35+F39 -> 30216.456 | G42: =G11+G13+G15+G17+G19+G21+G23+G25+G27+G29+G31+G33+G35+G39 -> 30581.01 | H42: =H11+H13+H15+H17+H19+H21+H23+H25+H27+H29+H31+H33+H35+H39 -> 15489.449 | I42: =I11+I13+I15+I17+I19+I21+I23+I25+I27+I29+I31+I33+I35++I37+I39 -> 34134.595
A43: % ACUMULADO | D43: =D41 -> 0.12608633 | E43: =D43+E41 -> 0.3284811 | F43: =E43+F41 -> 0.51223988 | G43: =F43+G41 -> 0.69821565 | H43: =G43+H41 -> 0.7924134 | I43: =H43+I41 -> 1
...

Sheet COMPOSIÇÃO
C2: UNIDADE | D2: COEFICIENTE | E2: UNITÁRIO | F2: TOTAL
A3: CP-01 | B3: PILAR DE MADEIRA 15X15 CM, FORNECIMENTO E INSTALAÇÃO | C3: UNIDADE
A4: 88316 | B4: SERVENTE COM ENCARGOS COMPLEMENTARES | C4: H | D4: 1 | E4: 14.76 | F4: =D4*E4 -> 14.76
A5: 88309 | B5: PEDREIRO COM ENCARGOS COMPLEMENTARES | C5: H | D5: 1 | E5: 20.67 | F5: =D5*E5 -> 20.67
A6: 35275 | B6: PILAR DE MADEIRA NAO APARELHADA *15 X 15* CM, MACARANDUBA, ANGELIM OU EQUIVALENTE DA REGIÃO | C6: M | D6: 3 | E6: 83.92 | F6: =D6*E6 -> 251.76
E7: TOTAL | F7: =SUM(F3:F6) -> 287.19
C9: UNIDADE | D9: COEFICIENTE | E9: UNITÁRIO | F9: TOTAL
A10: CP-02 | B10: PINTURA ESMALTE EM TETO, BRANCO FOSCO, DUAS DEMÃOS | C10: M2
A11: 88316 | B11: SERVENTE COM ENCARGOS COMPLEMENTARES | C11: H | D11: 0.089 | E11: 14.76 | F11: =D11*E11 -> 1.31364
A12: 88310 | B12: PINTOR COM ENCARGOS COMPLEMENTARES | C12: H | D12: 0.244 | E12: 20.58 | F12: =D12*E12 -> 5.02152
A13: 7288 | B13: TINTA ESMALTE SINTETICO PREMIUM FOSCO | C13: L | D13: 0.16 | E13: 29.15 | F13: =D13*E13 -> 4.664
E14: TOTAL | F14: =SUM(F10:F13) -> 10.99916
