Workbook

Sheet Cálculo do desconto resultante
C6: Ferramenta de cálculo do desconto resultante
D9: Preço Peças | G9: Preço Hora/ Homem | J9: Reboque/ guincho | M9: Taxa de Adm | O9: Desconto resultante*
D10: Genuínas | E10: Originais | F10: 1ª linha | G10: Motos | H10: V. Leves | I10: V. Pesados | J10: Motos | K10: V. Leves | L10: V. Pesados
C11: Valor Referência | D11: x | E11: Y | F11: Z | G11: 78 | H11: 100 | I11: 236 | J11: 146 | K11: 150 | L11: 446 | M11: 0.0266 | O11: =(D12*D14+E12*E14+F12*F14+G12*G14+H12*H14+I12*I14+J12*J14+M13*M14)/(SUM(D14:M14)) -> -0.026667475
C12: Desconto | M12: 0.04859
C13: Valor final | D13: 1x | E13: 1y | F13: 1z | G13: =G11*(1-G12) -> 78 | H13: =H11*(1-H12) -> 100 | I13: =I11*(1-I12) -> 236 | J13: =J11*(1-J12) -> 146 | K13: =K11*(1-K12) -> 150 | L13: =L11*(1-L12) -> 446 | M13: =((-1)*(M12-M11)/M11) -> -0.82669173
C14: Peso | D14: 1 | E14: 8 | F14: 1 | G14: 1 | H14: 6 | I14: 3 | J14: 1 | K14: 6 | L14: 3 | M14: 1
D16: * Valores negativos de desconto são considerados acréscimos para o cálculo do valor total.

Sheet Mod. Proposta
A1: Proposta Comercial para o Pregão Eletrônico 066/2020
A3: (preenchida em papel timbrado da proponente)
A5: GRUPO 1
A6: Dados a consta na proposta | C6: Preenchimento pelo proponente
A7: Razão Social
A8: CNPJ
A9: Endereço
A10: Telefone
A11: Nome do Representante Legal
A12: Identidade do Representante Legal
A13: CPF do Representante Legal
A14: Lote Único
B15: Item | C15: Vr unitário estimado | D15: Desconto | E15: Preço/Valor Final
A16: 1 | B16: Preço das peças genuínas (X) | C16: x | D16: ='Cálculo do desconto resultante'!D12 -> 0 | E16: x
A17: 2 | B17: Preço das peças originais (Y) | D17: ='Cálculo do desconto resultante'!E12 -> 0
A18: 3 | B18: Preço das peças de 1ª linha (Z) | D18: ='Cálculo do desconto resultante'!F12 -> 0
A19: 4 | B19: Preço da hora/homem (Motos) | C19: 78.33 | D19: ='Cálculo do desconto resultante'!G12 -> 0 | E19: =C19-(C19*'Cálculo do desconto resultante'!$O$11) -> 80.418863
A20: 5 | B20: Preço da hora/homem (V. Leves) | C20: 100 | D20: ='Cálculo do desconto resultante'!H12 -> 0 | E20: =C20-(C20*'Cálculo do desconto resultante'!$O$11) -> 102.66675
A21: 6 | B21: Preço da hora/homem (V. Pesados) | C21: 236 | D21: ='Cálculo do desconto resultante'!I12 -> 0 | E21: =C21-(C21*'Cálculo do desconto resultante'!$O$11) -> 242.29352
A22: 7 | B22: Preços do serviço de reboque / guincho - Motos | C22: ='Cálculo do desconto resultante'!J11 -> 146 | D22: ='Cálculo do desconto resultante'!J12 -> 0 | E22: =C22-(C22*'Cálculo do desconto resultante'!$O$11) -> 149.89345
A23: 8 | B23: Preços do serviço de reboque / guincho - Veículos Leves | C23: ='Cálculo do desconto resultante'!K11 -> 150 | D23: ='Cálculo do desconto resultante'!K12 -> 0 | E23: =C23-(C23*'Cálculo do desconto resultante'!$O$11) -> 154.00012
A24: 9 | B24: Preços do serviço de reboque / guincho - ]veículos pesados | C24: ='Cálculo do desconto resultante'!L11 -> 446 | D24: ='Cálculo do desconto resultante'!L12 -> 0 | E24: =C24-(C24*'Cálculo do desconto resultante'!$O$11) -> 457.89369
A25: 10 | B25: Taxa de Administração | C25: X | D25: ='Cálculo do desconto resultante'!M12 -> 0.04859 | E25: =(SUM(E16:F24)*'Cálculo do desconto resultante'!M12) -> 57.684415
A26: GASTO TOTAL ESTIMADO: | E26: 2500000
A27: Desconto/Acréscimo - Resultante por Extenso: | E27: =-'Cálculo do desconto resultante'!O11 -> 0.026667475
A28: Valor total da proposta: | E28: =(1+E27)*E26 -> 2566668.7
A29: Declaro que serão atendidas todas as condições comerciais estabelecidas no Termo de Referência do Edital.
A30: Declaro que nos preços propostos encontram-se incluídos todos os tributos, encargos sociais, trabalhistas e financeiros, taxas, seguros e quaisquer outros ônus por ventura possam recair sobre o objeto a ser contratado na presente licitação e que estou de acordo com todas as normas da solicitação de propostas e seus anexos.
A31: Declaro que esta proposta foi elaborada de forma independente.
A32: Data e local.
A33: Assinatura do Representante Legal da Empresa
