Workbook
Name \0: #REF!
Name \0: #REF!
Name \0: #REF!
Name A: #REF!
Name A: #REF!
Name A: #REF!
Name aaaa: #REF!
Name aaaa: #REF!
Name aaaa: #REF!
Name AB: #REF!
Name AB: #REF!
Name AB: #REF!
Name ABER: #REF!
Name ABER: #REF!
Name D: #REF!
Name D: #REF!
Name D: #REF!
Name FDSAFDSF: #REF!
Name FDSAFDSF: #REF!
Name FDSAFDSF: #REF!
Name nommmm: #REF!
Name nommmm: #REF!
Name OUTRO: #REF!
Name OUTRO: #REF!
Name OUTRO: #REF!
Name Print_Area_MI: [3]HIDRAULICA!#REF!
Name Print_Area_MI: [3]HIDRAULICA!#REF!
Name Print_Area_MI: [3]HIDRAULICA!#REF!

Sheet PLANILHA SINTÉTICA
A4: OBJETO: CONTRATAÇÃO DE EMPRESA ESPECIALIZADA EM IMPLANTAÇÃO VIÁRIA DE ROTATÓRIA - INTERSEÇÃO MANGUEIRA - LOCALIZADA NO CRUZAMENTO DA AVENIDA FRIMISA/DOUTOR ANGELO TEIXEIRA DA COSTA COM AVENIDA A E RUA PEDRO JOSÉ DE CARVALHO – BAIRRO FRIMISA, SANTA LUZIA, MINAS GERAIS.
A6: PLANILHA ORÇAMENTÁRIA
A9: NÃO DESONERADO | SINAPI MAR./2022 | SETOP MAR./2022| SUDECAP FEV./2022 | SICRO JAN./2022 | H9: BDI: | I9: 0.2135
A10: ITEM | B10: FONTE | C10: CÓDIGO | D10: DESCRIÇÃO | E10: UNID. | F10: QUANT. | G10: PR. UNIT. S / BDI | H10: PR. UNIT. C / BDI | I10: PR. TOTAL C / BDI
D11: TOTAL GERAL | I11: =SUBTOTAL(9,I12:I127) -> 2734096.2
A12: 1 | D12: SERVIÇOS PRELIMINARES | F12: 0 | I12: =SUBTOTAL(9,I13:I27) -> 86119.02
A13: 1.1 | B13: SETOP | C13: ED-16660 | D13: FORNECIMENTO E COLOCAÇÃO DE PLACA DE OBRA EM CHAPA GALVANIZADA #26, ESP. 0,45 MM, PLOTADA COM ADESIVO VINÍLICO, AFIXADA COM REBITES 4,8X40 MM, EM ESTRUTURA METÁLICA DE METALON 20X20 MM, ESP. 1,25 MM, INCLUSIVE SUPORTE EM EUCALIPTO AUTOCLAVADO PINTADO COM TINTA PVA DUAS (2) DEMÃOS | E13: m2 | F13: 4.5 | G13: 168.31 | H13: =ROUND(G13+G13*$I$9,2) -> 204.24 | I13: =F13*H13 -> 919.08
A14: 1.2 | B14: SETOP | C14: IIO-LIG-005 | D14: LIGAÇÃO DE ÁGUA PROVISÓRIA PARA CANTEIRO, INCLUSIVE HIDRÔMETRO E CAVALETE PARA MEDIÇÃO DE ÁGUA - ENTRADA PRINCIPAL, EM AÇO GALVANIZADO DN 20MM (1/2") - PADRÃO CONCESSIONÁRIA | E14: un | F14: 1 | G14: 296.14 | H14: =ROUND(G14+G14*$I$9,2) -> 359.37 | I14: =F14*H14 -> 359.37
A15: 1.3 | B15: SETOP | C15: IIO-LIG-010 | D15: LIGAÇÃO PROVISÓRIA DE LUZ E FORÇA-PADRÃO PROVISÓRIO 30KVA | E15: U | F15: 1 | G15: 511.95 | H15: =ROUND(G15+G15*$I$9,2) -> 621.25 | I15: =F15*H15 -> 621.25
A16: 1.4 | B16: SUDECAP | C16: 01.02.07 | D16: BARRACAO DE OBRA - VESTIARIO TIPO II | E16: UN | F16: 1 | G16: 9821.33 | H16: =ROUND(G16+G16*$I$9,2) -> 11918.18 | I16: =F16*H16 -> 11918.18
A17: 1.5 | B17: SUDECAP | C17: 01.02.21 | D17: BARRACAO DE OBRA - INSTALAÇAO SANITARIA TIPO II | E17: UN | F17: 1 | G17: 6270.8 | H17: =ROUND(G17+G17*$I$9,2) -> 7609.62 | I17: =F17*H17 -> 7609.62
A18: 1.6 | B18: SUDECAP | C18: 01.01.11 | D18: ESCRITORIO DE OBRA - ESCRITORIO DE EMPREITEIRA TIPO I | E18: UN | F18: 1 | G18: 6267.24 | H18: =ROUND(G18+G18*$I$9,2) -> 7605.3 | I18: =F18*H18 -> 7605.3
A19: 1.7 | B19: SUDECAP | C19: 01.02.13 | D19: BARRACAO DE OBRA - DEPOSITO E FERRAMENTARIA TIPO II | E19: UN | F19: 1 | G19: 5265.84 | H19: =ROUND(G19+G19*$I$9,2) -> 6390.1 | I19: =F19*H19 -> 6390.1
A20: 1.8 | B20: SUDECAP | C20: 01.02.25 | D20: BARRACAO DE OBRA - REFEITORIO TIPO I | E20: UN | F20: 1 | G20: 3904.46 | H20: =ROUND(G20+G20*$I$9,2) -> 4738.06 | I20: =F20*H20 -> 4738.06
A21: 1.9 | B21: SUDECAP | C21: 01.04.02 | D21: TAPUME PADRAO SUDECAP (TIPO I, II E III) - COMPENSADO 10MM FIXAÇAO ENTERRADA | E21: M | F21: 50 | G21: 78.83 | H21: =ROUND(G21+G21*$I$9,2) -> 95.66 | I21: =F21*H21 -> 4783
A22: 1.10 | B22: SUDECAP | C22: 01.04.09 | D22: TAPUME PADRAO SUDECAP (TIPO I, II E III) - TELA-TAPUME DE POLIPROPILENO H= 1,20 M, INCL. BASE | E22: M | F22: 500 | G22: 6.3 | H22: =ROUND(G22+G22*$I$9,2) -> 7.65 | I22: =F22*H22 -> 3825
A23: 1.11 | B23: SUDECAP | C23: 01.11.06 | D23: SINALIZAÇAO - CONE MASTER 75CM BASE DE BORRACHA CORPO POLIETILEN | E23: UN | F23: 100 | G23: 63.14 | H23: =ROUND(G23+G23*$I$9,2) -> 76.62 | I23: =F23*H23 -> 7662
A24: 1.12 | B24: SUDECAP | C24: 01.11.04 | D24: SINALIZAÇAO - PLACA 0,50X0,50M CH.GALV.22 CAVALETE METALON 20X20 | E24: UNMES | F24: 120 | G24: 8.25 | H24: =ROUND(G24+G24*$I$9,2) -> 10.01 | I24: =F24*H24 -> 1201.2
... A27: 1.15 | B27: SUDECAP | C27: 43.01.03 | D27: TOPOGRAFIA - EQUIPE DE TOPOGRAFIA - OBRA | E27: MES | F27: 1 | G27: 19437.63 | H27: =ROUND(G27+G27*$I$9,2) -> 23587.56 | I27: =F27*H27 -> 23587.56
A28: 2 | D28: ADMINISTRAÇÃO LOCAL | H28: =ROUND(G28+G28*$I$9,2) -> 0 | I28: =SUBTOTAL(9,I29) -> 229890.86
A29: 2.1 | B29: COMPOSIÇÃO | C29: CP-ADM | D29: ADMINISTRAÇÃO LOCAL | E29: UN | F29: 1 | G29: 189444.47 | H29: =ROUND(G29+G29*$I$9,2) -> 229890.86 | I29: =F29*H29 -> 229890.86
A30: 3 | D30: DEMOLIÇÕES E REMOÇÕES | H30: =ROUND(G30+G30*$I$9,2) -> 0 | I30: =SUBTOTAL(9,I31:I37) -> 40456.423
A31: 3.1 | B31: SUDECAP | C31: 02.11.07 | D31: DEMOLIÇAO DE PASSEIO E PAVIMENTO - DE REVESTIMENTO ASFALTICO COM EQUIP. PNEUMATICO | E31: M2 | F31: 2135 | G31: 10.42 | H31: =ROUND(G31+G31*$I$9,2) -> 12.64 | I31: =F31*H31 -> 26986.4
A32: 3.2 | B32: SUDECAP | C32: 02.14.01 | D32: DEMOLIÇAO MANUAL, DE ALVENARIA INCL. AFASTAMENTO - DE ALVENARIA DE TIJOLOS E BLOCOS | E32: M3 | F32: 25 | G32: 79.81 | H32: =ROUND(G32+G32*$I$9,2) -> 96.85 | I32: =F32*H32 -> 2421.25
A33: 3.3 | B33: SUDECAP | C33: 02.15.01 | D33: REMOÇAO DE MEIO-FIO - PREMOLDADO DE CONCRETO | E33: M | F33: 400 | G33: 6.21 | H33: =ROUND(G33+G33*$I$9,2) -> 7.54 | I33: =F33*H33 -> 3016
A34: 3.4 | B34: SUDECAP | C34: 03.12.03 | D34: CARGA DE MATERIAL DE QQUER NATUREZA SOBRE CAMINHAO - MECANICA | E34: M3 | F34: 155.75 | G34: 1.87 | H34: =ROUND(G34+G34*$I$9,2) -> 2.27 | I34: =F34*H34 -> 353.5525
A35: 3.5 | B35: SUDECAP | C35: 02.28.04 | D35: TRANSPORTE DE MATERIAL DEMOLIDO EM CAMINHAO - DMT > 5 KM | E35: M3KM | F35: 1868.4 | G35: 1.28 | H35: =ROUND(G35+G35*$I$9,2) -> 1.55 | I35: =F35*H35 -> 2896.02
A36: 3.6 | B36: SUDECAP | C36: 02.31.01 | D36: SUPRESSAO DE ARVORE - SUP. ARVORE PEQ. PORTE (ATE 3M)INCLUS. CORTE LENHA | E36: UN | F36: 20 | G36: 108.18 | H36: =ROUND(G36+G36*$I$9,2) -> 131.28 | I36: =F36*H36 -> 2625.6
A37: 3.7 | B37: SUDECAP | C37: 02.31.02 | D37: SUPRESSAO DE ARVORE - SUPRESSAO ARVORE MEDIO PORTE INCLUS. CORTE LINHA | E37: UN | F37: 10 | G37: 177.8 | H37: =ROUND(G37+G37*$I$9,2) -> 215.76 | I37: =F37*H37 -> 2157.6
A38: 4 | D38: TRABALHOS EM TERRA | H38: =ROUND(G38+G38*$I$9,2) -> 0 | I38: =SUBTOTAL(9,I39:I45) -> 388712.97
A39: 4.1 | B39: SUDECAP | C39: 03.01.02 | D39: DESMATAMENTO, DESTOCAMENTO E LIMPEZA DO TERRENO - DESMATAMENTO,DESTOC.E LIMPEZA,INCL.TRANSP. ATE 50M | E39: M2 | F39: 5320 | G39: 0.54 | H39: =ROUND(G39+G39*$I$9,2) -> 0.66 | I39: =F39*H39 -> 3511.2
A40: 4.2 | B40: SUDECAP | C40: 03.05.01 | D40: ESCAVAÇAO E CARGA MECANIZADA - EM MATERIAL DE 1ª CATEGORIA | E40: M3 | F40: 13020.7 | G40: 4.73 | H40: =ROUND(G40+G40*$I$9,2) -> 5.74 | I40: =F40*H40 -> 74738.818
A41: 4.3 | B41: SUDECAP | C41: 03.12.03 | D41: CARGA DE MATERIAL DE QQUER NATUREZA SOBRE CAMINHAO - MECANICA | E41: M3 | F41: 1064 | G41: 1.87 | H41: =ROUND(G41+G41*$I$9,2) -> 2.27 | I41: =F41*H41 -> 2415.28
A42: 4.4 | B42: SUDECAP | C42: 03.13.01 | D42: TRANSPORTE DE MATERIAL DE QUALQUER NATUREZA - DMT <= 1 KM | E42: M3 | F42: 1465.1 | G42: 2.47 | H42: =ROUND(G42+G42*$I$9,2) -> 3 | I42: =F42*H42 -> 4395.3
A43: 4.5 | B43: SINAPI | C43: 95875 | D43: TRANSPORTE COM CAMINHÃO BASCULANTE DE 10 M³, EM VIA URBANA PAVIMENTADA, DMT ATÉ 30 KM (UNIDADE: M3XKM). AF_07/2020 | E43: M3XKM | F43: 151435.2 | G43: 1.59 | H43: =ROUND(G43+G43*$I$9,2) -> 1.93 | I43: =F43*H43 -> 292269.94
A44: 4.6 | B44: SUDECAP | C44: 03.15.01 | D44: ATERRO COMPACTADO - COM ROLO VIBRATORIO | E44: M3 | F44: 2159 | G44: 3.48 | H44: =ROUND(G44+G44*$I$9,2) -> 4.22 | I44: =F44*H44 -> 9110.98
A45: 4.7 | B45: SETOP | C45: RO-42263 | D45: ESPALHAMENTO DE MATERIAL EM BOTA-FORA | E45: M3 | F45: 9875.9 | G45: 0.19 | H45: =ROUND(G45+G45*$I$9,2) -> 0.23 | I45: =F45*H45 -> 2271.457
A46: 5 | D46: DRENAGEM | H46: =ROUND(G46+G46*$I$9,2) -> 0 | I46: =SUBTOTAL(9,I47:I68) -> 399709.73
A47: 5.1 | B47: SUDECAP | C47: 19.30.05 | D47: SARJETA - PADRAO SUDECAP - TIPO B - (50X10)CM - DES-R01 | E47: M | F47: 449.73 | G47: 20.39 | H47: =ROUND(G47+G47*$I$9,2) -> 24.74 | I47: =F47*H47 -> 11126.32
A48: 5.2 | B48: SICRO3 | C48: 2003309 | D48: VALETA DE PROTEÇÃO DE CORTES COM REVESTIMENTO DE CONCRETO - VPC 04 - AREIA E BRITA COMERCIAIS | E48: M | F48: 198.5 | G48: 63.62 | H48: =ROUND(G48+G48*$I$9,2) -> 77.2 | I48: =F48*H48 -> 15324.2
...

Sheet CRONOGRAMA
A4: ='[2]PLANILHA - MAPA DESCONTO'!A4 -> OBJETO: CONTRATAÇÃO DE EMPRESA ESPECIALIZADA EM IMPLANTAÇÃO VIÁRIA DE ROTATÓRIA - INTERSEÇÃO MANGUEIRA - LOCALIZADA NO CRUZAMENTO DA AVENIDA FRIMISA/DOUTOR ANGELO TEIXEIRA DA COSTA COM AVENIDA A E RUA PEDRO JOSÉ DE CARVALHO – BAIRRO FRIMISA, SANTA LUZIA, MINAS GERAIS.
A6: CRONOGRAMA FÍSICO-FINANCEIRO
A8: CÓDIGO | B8: DISCRIMINAÇÃO | C8: VALOR | D8: MÊS
D9: 1 | E9: 2 | F9: 3 | G9: 4 | H9: 5 | I9: 6
A11: 1 | B11: =VLOOKUP(A11,'[2]PLANILHA - MAPA DESCONTO'!$A$11:$I$126,4,FALSE) -> SERVIÇOS PRELIMINARES | C11: ='PLANILHA SINTÉTICA'!I12 -> 86119.02 | D11: 0.7 | E11: 0.06 | F11: 0.06 | G11: 0.06 | H11: 0.06 | I11: 0.06
D12: =D11*$C$11 -> 60283.314 | E12: =E11*$C$11 -> 5167.1412 | F12: =F11*$C$11 -> 5167.1412 | G12: =G11*$C$11 -> 5167.1412 | H12: =H11*$C$11 -> 5167.1412 | I12: =I11*$C$11 -> 5167.1412
A13: 2 | B13: =VLOOKUP(A13,'[2]PLANILHA - MAPA DESCONTO'!$A$11:$I$126,4,FALSE) -> ADMINISTRAÇÃO LOCAL | C13: ='PLANILHA SINTÉTICA'!I28 -> 229890.86 | D13: 0.067713841 | E13: 0.11226158 | F13: 0.17789798 | G13: 0.25690952 | H13: 0.29096797 | I13: 0.094249107
D14: =D13*$C$13 -> 15566.793 | E14: =E13*$C$13 -> 25807.911 | F14: =F13*$C$13 -> 40897.119 | G14: =G13*$C$13 -> 59061.152 | H14: =H13*$C$13 -> 66890.877 | I14: =I13*$C$13 -> 21667.008
A15: 3 | B15: =VLOOKUP(A15,'[2]PLANILHA - MAPA DESCONTO'!$A$11:$I$126,4,FALSE) -> DEMOLIÇÕES E REMOÇÕES | C15: ='PLANILHA SINTÉTICA'!I30 -> 40456.423 | D15: 0.8 | E15: 0.2
D16: =$C$15*D15 -> 32365.138 | E16: =$C$15*E15 -> 8091.2845
A17: 4 | B17: =VLOOKUP(A17,'[2]PLANILHA - MAPA DESCONTO'!$A$11:$I$126,4,FALSE) -> TRABALHOS EM TERRA | C17: ='PLANILHA SINTÉTICA'!I38 -> 388712.97 | D17: 0.2 | E17: 0.3 | F17: 0.3 | G17: 0.2
D18: =D17*$C$17 -> 77742.594 | E18: =E17*$C$17 -> 116613.89 | F18: =F17*$C$17 -> 116613.89 | G18: =G17*$C$17 -> 77742.594
A19: 5 | B19: =VLOOKUP(A19,'[2]PLANILHA - MAPA DESCONTO'!$A$11:$I$126,4,FALSE) -> DRENAGEM | C19: ='PLANILHA SINTÉTICA'!I46 -> 399709.73 | E19: 0.4 | F19: 0.2 | G19: 0.2 | I19: 0.2
E20: =E19*$C$19 -> 159883.89 | F20: =F19*$C$19 -> 79941.946 | G20: =G19*$C$19 -> 79941.946 | I20: =I19*$C$19 -> 79941.946
A21: 6 | B21: =VLOOKUP(A21,'[2]PLANILHA - MAPA DESCONTO'!$A$11:$I$126,4,FALSE) -> MURO CONTENÇÃO - RAMO D | C21: ='PLANILHA SINTÉTICA'!I69 -> 34574.517 | G21: 1
G22: =G21*C21 -> 34574.517
A23: 7 | B23: =VLOOKUP(A23,'[2]PLANILHA - MAPA DESCONTO'!$A$11:$I$126,4,FALSE) -> MURO CONTENÇÃO - RAMO E | C23: ='PLANILHA SINTÉTICA'!I80 -> 89363.497 | G23: 0.5 | H23: 0.5
G24: =G23*$C$23 -> 44681.749 | H24: =H23*$C$23 -> 44681.749
A25: 8 | B25: =VLOOKUP(A25,'[2]PLANILHA - MAPA DESCONTO'!$A$11:$I$126,4,FALSE) -> PAVIMENTAÇÃO | C25: ='PLANILHA SINTÉTICA'!I94 -> 1174220.3 | F25: 0.2 | G25: 0.3 | H25: 0.5
F26: =F25*$C$25 -> 234844.05 | G26: =G25*$C$25 -> 352266.08 | H26: =H25*$C$25 -> 587110.14
A27: 9 | B27: =VLOOKUP(A27,'[2]PLANILHA - MAPA DESCONTO'!$A$11:$I$126,4,FALSE) -> SINALIZAÇÃO HORIZONTAL | C27: ='PLANILHA SINTÉTICA'!I104 -> 30699.072 | I27: 1
I28: =I27*$C$27 -> 30699.072
A29: 10 | B29: =VLOOKUP(A29,'[2]PLANILHA - MAPA DESCONTO'!$A$11:$I$126,4,FALSE) -> SINALIZAÇÃO VERTICAL | C29: ='PLANILHA SINTÉTICA'!I112 -> 8475.1532 | I29: 1
I30: =I29*$C$29 -> 8475.1532
A31: 11 | B31: =VLOOKUP(A31,'[2]PLANILHA - MAPA DESCONTO'!$A$11:$I$126,4,FALSE) -> URBANIZAÇÃO E OBRAS COMPLEMENTARES | C31: ='PLANILHA SINTÉTICA'!I118 -> 251874.67 | G31: 0.2 | H31: 0.3 | I31: 0.5
G32: =G31*$C$31 -> 50374.934 | H32: =H31*$C$31 -> 75562.401 | I32: =I31*$C$31 -> 125937.33
A34: % SIMPLES | D34: =D35/$I$37 -> 0.068014374 | E34: =E35/$I$37 -> 0.11541808 | F34: =F35/$I$37 -> 0.17463327 | G34: =G35/$I$37 -> 0.25741966 | H34: =H35/$I$37 -> 0.28507128 | I34: =I35/$I$37 -> 0.09944334
A35: R$ SIMPLES | D35: =SUM(D12,D14,D16,D18,D20,D22,D24,D26,D28,D30,D32) -> 185957.84 | E35: =SUM(E12,E14,E16,E18,E20,E22,E24,E26,E28,E30,E32) -> 315564.12 | F35: =SUM(F12,F14,F16,F18,F20,F22,F24,F26,F28,F30,F32) -> 477464.15 | G35: =SUM(G12,G14,G16,G18,G20,G22,G24,G26,G28,G30,G32) -> 703810.11 | H35: =SUM(H12,H14,H16,H18,H20,H22,H24,H26,H28,H30,H32) -> 779412.3 | I35: =SUM(I12,I14,I16,I18,I20,I22,I24,I26,I28,I30,I32) -> 271887.66
A36: % ACUMULADO | D36: =D34 -> 0.068014374 | E36: =D36+E34 -> 0.18343245 | F36: =E36+F34 -> 0.35806572 | G36: =F36+G34 -> 0.61548538 | H36: =G36+H34 -> 0.90055666 | I36: =H36+I34 -> 1
A37: R$ ACUMULADO | D37: =D35 -> 185957.84 | E37: =D37+E35 -> 501521.96 | F37: =E37+F35 -> 978986.11 | G37: =F37+G35 -> 1682796.2 | H37: =G37+H35 -> 2462208.5 | I37: =H37+I35 -> 2734096.2

Sheet CPUs
A1: Composições Analíticas com Preço Unitário
A2: Composições Principais
A3: Item | B3: Código | C3: Banco | D3: Descrição | E3: Und | F3: Quant. | G3: Valor Unit | H3: Total
A4: 1.1 | B4: Código | C4: Banco | D4: Descrição | E4: Und | F4: Quant. | G4: Valor Unit | H4: Total
A5: Composição | B5: ED-16660 | C5: SETOP | D5: FORNECIMENTO E COLOCAÇÃO DE PLACA DE OBRA EM CHAPA GALVANIZADA #26, ESP. 0,45 MM, PLOTADA COM ADESIVO VINÍLICO, AFIXADA COM REBITES 4,8X40 MM, EM ESTRUTURA METÁLICA DE METALON 20X20 MM, ESP. 1,25 MM, INCLUSIVE SUPORTE EM EUCALIPTO AUTOCLAVADO PINTADO COM TINTA PVA DUAS (2) DEMÃOS | E5: m²
A6: Insumo | B6: ED-16671 | C6: SETOP | D6: FIXAÇÃO DE PLACA DE OBRA EM SUPORTE DE EUCALIPTO AUTOCLAVADO , INCLUSIVE PINTURA LÁTEX (PVA) EM SUPERFÍCIE DE MADEIRA, EM DUAS (2) DEMÃOS E ESCAVAÇÃO (MONTAGEM) | E6: m² | F6: 1 | G6: 32.17 | H6: =ROUND(F6*G6,2) -> 32.17
A7: Insumo | B7: ED-16670 | C7: SETOP | D7: PLACA DE OBRA EM CHAPA GALVANIZADA ENRIJECIDA , PLOTADA COM ADESIVO VINÍLICO, FIXADA COM REBITES 4,8X40MM, EM ESTRUTURA METÁLICA DE METALON 20X20MM, ESP. 1 ,25MM, EXCLUSIVE SUPORTE EM EUCALIPTO - PADRÃO GOVERNO DE MINAS GERAIS ( FABRICAÇÃO) | E7: m² | F7: 1 | G7: 136.14 | H7: =ROUND(F7*G7,2) -> 136.14
G8: VALOR TOTAL | H8: =SUM(H6:H7) -> 168.31
A10: 1.2 | B10: Código | C10: Banco | D10: Descrição | E10: Und | F10: Quant. | G10: Valor Unit | H10: Total
A11: Composição | B11: IIO-LIG-005 | C11: SETOP | D11: LIGAÇÃO DE ÁGUA PROVISÓRIA PARA CANTEIRO, INCLUSIVE HIDRÔMETRO E CAVALETE PARA MEDIÇÃO DE ÁGUA - ENTRADA PRINCIPAL, EM AÇO GALVANIZADO DN 20MM (1/2") - PADRÃO CONCESSIONÁRIA | E11: un
A12: Composição Auxiliar | B12: MAO-AJD-020 | C12: SETOP | D12: AJUDANTE DE BOMBEIRO/ENCANADOR COM ENCARGOS COMPLEMENTARES | E12: hora | F12: 0.18580909 | G12: 19.59 | H12: =ROUND(F12*G12,2) -> 3.64
A13: Composição Auxiliar | B13: MAO-OFC-040 | C13: SETOP | D13: BOMBEIRO/ENCANADOR COM ENCARGOS COMPLEMENTARES | E13: hora | F13: 0.05 | G13: 24.57 | H13: =ROUND(F13*G13,2) -> 1.23
A14: Composição Auxiliar | B14: ED-15206 | C14: SETOP | D14: KIT CAVALETE PARA MEDIÇÃO DE ÁGUA, INSTALADO SOBRE PISO, EM AÇO GALVANIZADO DN 20MM (1/2") - PADRÃO CONCESSIONÁRIA LOCAL, INCLUSIVE BASE EM CONCRETO DE 25 MPA PARA CAVALETE, EXCLUSIVE HIDRÔMETRO | E14: un | F14: 1 | G14: 230.23 | H14: =ROUND(F14*G14,2) -> 230.23
A15: Insumo | B15: MATED- 15224 | C15: SETOP | D15: HIDRÔMETRO (APLICAÇÃO: MEDIDOR DE VAZÃO DE ÁGUA|DIÂMETRO: 20MM (1/ 2")|VAZÃO NOMINAL: 1,5(M3 /H)|VAZÃO MÁXIMA: 3,0(M3/ H)|COMPRIMENTO APROXIMADO: 115MM| PADRÃO: CONCESSIONÁRIA LOCAL) | E15: un | F15: 1 | G15: 61.04 | H15: =ROUND(F15*G15,2) -> 61.04
G16: VALOR TOTAL | H16: =SUM(H12:H15) -> 296.14
A18: 1.3 | B18: Código | C18: Banco | D18: Descrição | E18: Und | F18: Quant. | G18: Valor Unit | H18: Total
A19: Composição | B19: IIO-LIG-010 | C19: SETOP | D19: LIGAÇÃO PROVISÓRIA DE LUZ E FORÇA-PADRÃO PROVISÓRIO 30KVA | E19: U
A20: Composição Auxiliar | B20: MAO-AJD-015 | C20: SETOP | D20: AJUDANTE DE ELETRICISTA COM ENCARGOS COMPLEMENTARES | E20: hora | F20: 0.23043053 | G20: 20.44 | H20: =ROUND(F20*G20,2) -> 4.71
A21: Composição Auxiliar | B21: MAO-OFC-035 | C21: SETOP | D21: ELETRICISTA COM ENCARGOS COMPLEMENTARES | E21: hora | F21: 0.2 | G21: 25.49 | H21: =ROUND(F21*G21,2) -> 5.1
A22: Insumo | B22: MATED- 11242 | C22: SETOP | D22: PADRAO DE ENTRADA PROVISÓRIO 30KVA TRIFÁSICO POSTE H=7M, 70A | E22: un | F22: 1 | G22: 502.14 | H22: =ROUND(F22*G22,2) -> 502.14
G23: VALOR TOTAL | H23: =SUM(H20:H22) -> 511.95
A25: 1.4 | B25: Código | C25: Banco | D25: Descrição | E25: Und | F25: Quant. | G25: Valor Unit | H25: Total
A26: Composição | B26: 01.02.07 | C26: SUDECAP | D26: BARRACAO DE OBRA - VESTIARIO TIPO II | E26: UN
A27: Composição Auxiliar | B27: 40.08.07 | C27: SUDECAP | D27: CONCRETO 1:3:6, B1-B2 CALCARIA - PREPARO | E27: m³ | F27: 4.444 | G27: 334.09 | H27: =ROUND(F27*G27,2) -> 1484.7
A28: Composição Auxiliar | B28: 40.24.15 | C28: SUDECAP | D28: ARGAMASSA DE CIMENTO E AREIA 1:3 | E28: m³ | F28: 1.02105 | G28: 449.07 | H28: =ROUND(F28*G28,2) -> 458.52
A29: Composição Auxiliar | B29: 40.60.53 | C29: SUDECAP | D29: INSTALAÇAO ELETRICA - VESTIARIO TIPO II | E29: UN | F29: 1 | G29: 470.49 | H29: =ROUND(F29*G29,2) -> 470.49
A30: Composição Auxiliar | B30: 47.02.03 | C30: SUDECAP | D30: PORTA EM COMPENSADO RESINADO 10MM 80X210CM | E30: UN | F30: 0.5 | G30: 147.46 | H30: =ROUND(F30*G30,2) -> 73.73
A31: Insumo | B31: 55.10.50 | C31: SUDECAP | D31: CARPINTEIRO | E31: H | F31: 47 | G31: 22.11 | H31: =ROUND(F31*G31,2) -> 1039.17
A32: Insumo | B32: 55.10.75 | C32: SUDECAP | D32: PEDREIRO | E32: H | F32: 17 | G32: 22.11 | H32: =ROUND(F32*G32,2) -> 375.87
A33: Insumo | B33: 55.10.81 | C33: SUDECAP | D33: PINTOR | E33: H | F33: 11 | G33: 22.11 | H33: =ROUND(F33*G33,2) -> 243.21
A34: Insumo | B34: 55.10.88 | C34: SUDECAP | D34: SERVENTE | E34: H | F34: 57.29942 | G34: 15.53 | H34: =ROUND(F34*G34,2) -> 889.86
A35: Insumo | B35: 60.30.10 | C35: SUDECAP | D35: TELA ARAME GALV. Nº 22 MALHA 1"(PINTEIRO) | E35: m² | F35: 6.188 | G35: 10.56 | H35: =ROUND(F35*G35,2) -> 65.35
A36: Insumo | B36: 62.01.05 | C36: SUDECAP | D36: CIMENTO PORTLAND COMUM ( CPIII-40 ) SC 50KG | E36: KG | F36: 136.14 | G36: 0.52 | H36: =ROUND(F36*G36,2) -> 70.79
A37: Insumo | B37: 65.70.15 | C37: SUDECAP | D37: FECHADURA CROMADA, COMPLETA, COM MAÇANETA E ROSETA EM AÇO INOX, CILINDRO EM LATÃO, DIMENSÕES DA MÁQUINA 55MM - 135X83X22MM (AXLXP) REF. 357 E172 MZ340 OU EQUIVALENTE | E37: UN | F37: 0.13 | G37: 145 | H37: =ROUND(F37*G37,2) -> 18.85
A38: Insumo | B38: 65.78.09 | C38: SUDECAP | D38: DOBRADIÇA CONVENCIONAL EM METAL CROMADO 3 1/2" X 2 1/4", SEM ANEL, COM PARAFUSOS, LINHA LEVE (NBR 7178) E=1,5MM, OU EQUIVALENTE | E38: UN | F38: 0.6 | G38: 8.95 | H38: =ROUND(F38*G38,2) -> 5.37
... A46: Insumo | B46: 83.25.47 | C46: SUDECAP | D46: ARMARIO PARA ROUPAS COM 4 PORTAS 200X72X40CM | E46: UN | F46: 1.1 | G46: 997.9 | H46: =ROUND(F46*G46,2) -> 1097.69
G47: VALOR TOTAL | H47: =SUM(H27:H46) -> 9821.33
A49: 1.5 | B49: Código | C49: Banco | D49: Descrição | E49: Und | F49: Quant. | G49: Valor Unit | H49: Total
A50: Composição | B50: 01.02.21 | C50: SUDECAP | D50: BARRACAO DE OBRA - INSTALAÇAO SANITARIA TIPO II | E50: UN
A51: Composição Auxiliar | B51: 40.08.07 | C51: SUDECAP | D51: CONCRETO 1:3:6, B1-B2 CALCARIA - PREPARO | E51: m³ | F51: 1.642 | G51: 334.09 | H51: =ROUND(F51*G51,2) -> 548.58
...

Sheet BDI
A4: ='[2]PLANILHA - MAPA DESCONTO'!A4 -> OBJETO: CONTRATAÇÃO DE EMPRESA ESPECIALIZADA EM IMPLANTAÇÃO VIÁRIA DE ROTATÓRIA - INTERSEÇÃO MANGUEIRA - LOCALIZADA NO CRUZAMENTO DA AVENIDA FRIMISA/DOUTOR ANGELO TEIXEIRA DA COSTA COM AVENIDA A E RUA PEDRO JOSÉ DE CARVALHO – BAIRRO FRIMISA, SANTA LUZIA, MINAS GERAIS.
A6: BDI
I7: ='[2]PLANILHA - MAPA DESCONTO'!E7 -> 0
A9: Parâmetros para cálculo do BDI
A10: Itens Admissíveis | B10: Intervalos admissíveis sem justificativa | H10: Índices adotados
A12: Administração Central (AC) | B12: De | C12: 0.038 | E12: até | F12: 0.0467 | H12: Administração Central (AC) | I12: 0.0401
A13: Seguro e Garantia (S+G) | B13: De | C13: 0.0032 | E13: até | F13: 0.0074 | H13: Seguro e Garantia (S+G) | I13: 0.004
A14: Risco (R) | B14: De | C14: 0.005 | E14: até | F14: 0.0097 | H14: Risco (R) | I14: 0.0056
A15: Despesas financeiras (DF) | B15: De | C15: 0.0102 | E15: até | F15: 0.0121 | H15: Despesas financeiras (DF) | I15: 0.0111
A16: Lucro (L) | B16: De | C16: 0.0664 | E16: até | F16: 0.0869 | H16: Lucro (L) | I16: 0.073
A17: ISS | B17: De | C17: 0.02 | E17: até | F17: 0.05 | H17: Tributos (T) | I17: 0.025
A18: PIS+COFINS | F18: 0.0365 | H18: PIS+COFINS | I18: 0.0365
A19: CPRB | C19: 0 | E19: ou | F19: 0.045 | H19: INSS desoneração (E) | I19: 0
A20: Controle
A21: Administração Central (AC) | B21: OK
A22: Seguro e Garantia (S+G) | B22: OK
A23: Risco (R) | B23: OK
A24: Despesas financeiras (DF) | B24: OK
A25: Lucro (L) | B25: OK
A26: Tributos (T) | B26: OK
A27: INSS desoneração (E) | B27: OK
A28: BDI CALCULADO ----> | B28: BDI = (1+AC+S+R+G)*(1+DF)*(1+L)/(1-(T+E)) | I28: =((1+I12+I13+I14)*(1+I15)*(1+I16))/(1-(I17+I19+I18))-1 -> 0.21345801
