Workbook
Name \0: #REF!
Name _________________________esc15: #REF!
Name _________________________esc4: #REF!
Name _________________________esc6: #REF!
Name ________________________esc15: #REF!
Name ________________________esc4: #REF!
Name ________________________esc6: #REF!
Name _______________________esc15: #REF!
Name _______________________esc4: #REF!
Name _______________________esc6: #REF!
Name ______________________esc15: #REF!
Name ______________________esc4: #REF!
Name ______________________esc6: #REF!
Name ____________________esc15: #REF!
Name ____________________esc4: #REF!
Name ____________________esc6: #REF!
Name ___________________esc15: #REF!
Name ___________________esc4: #REF!
Name ___________________esc6: #REF!
Name __________________esc15: #REF!
Name __________________esc4: #REF!
Name __________________esc6: #REF!
Name _________________esc15: #REF!
Name _________________esc4: #REF!
Name _________________esc6: #REF!
Name _______________esc15: #REF!
Name _______________esc4: #REF!
Name _______________esc6: #REF!
Name ______________esc15: #REF!
Name ______________esc4: #REF!
Name ______________esc6: #REF!
Name _____________esc15: #REF!
Name _____________esc4: #REF!
Name _____________esc6: #REF!
Name ____________esc15: #REF!
Name ____________esc4: #REF!
Name ____________esc6: #REF!
Name ___________esc15: #REF!
Name ___________esc4: #REF!
Name ___________esc6: #REF!
Name __________esc15: #REF!
Name __________esc4: #REF!
Name __________esc6: #REF!
Name _________esc15: #REF!
Name _________esc4: #REF!
Name _________esc6: #REF!
Name ________esc15: #REF!
Name ________esc4: #REF!
Name ________esc6: #REF!
Name _______esc15: #REF!
Name _______esc4: #REF!
Name _______esc6: #REF!
Name __xlnm_Database: "#ref!"
Name __xlnm_Recorder: "#ref!"
Name _esc15: #REF!
Name _esc4: #REF!
Name _esc6: #REF!
Name A: #REF!
Name aaaa: #REF!
Name AB: #REF!

Sheet Orçamento Sintético
A1: PREFEITURA MUNICIPAL DE SANTA LUZIA
D2: Objeto: | E2: Bancos | H2: B.D.I. | I2: Encargos Sociais
D3: Registro de preço para futura e eventual contratação de empresa para execução de serviços de restauração, recuperação, melhoramento e construção de pavimentos em diversos logradouros públicos no município, com fornecimento de mão de obra, materiais e equipamentos. | E3: SINAPI - 11/2022 - Minas Gerais SBC - 12/2022 - Minas Gerais SICRO3 - 07/2022 - Minas Gerais SETOP - 10/2022 - Minas Gerais SUDECAP - 10/2022 - Minas Gerais | H3: 24,21% | I3: Não Desonerado: embutido nos preços unitário dos insumos de mão de obra, de acordo com as bases.
H4: Belo Horizonte, 21 de junho de 2023
A5: PLANILHA ORÇAMENTÁRIA
A6: Item | B6: Código | C6: Banco | D6: Descrição | E6: Und | F6: Quant. | G6: Valor Unit | H6: Valor Unit com BDI | I6: Total | J6: Peso (%)
D7: TOTAL GERAL | I7: =I8+I33+I49+I61+I73+I85+I101+I110+I112+I115 -> 76331945
A8: 1 | D8: SERVIÇOS PRELIMINARES | I8: =SUM(I9:I32) -> 438566.41 | J8: =I8 / 78146205.39 -> 0.0056121268
A9: 1.1 | B9: ED-16660 | C9: SETOP | D9: FORNECIMENTO E COLOCAÇÃO DE PLACA DE OBRA EM CHAPA GALVANIZADA #26, ESP. 0,45 MM, PLOTADA COM ADESIVO VINÍLICO, AFIXADA COM REBITES 4,8X40 MM, EM ESTRUTURA METÁLICA DE METALON 20X20 MM, ESP. 1,25 MM, INCLUSIVE SUPORTE EM EUCALIPTO AUTOCLAVADO PINTADO COM TINTA PVA DUAS (2) DEMÃOS | E9: m² | F9: 135 | G9: 297.88 | H9: =TRUNC(G9 * (1 + 24.21 / 100), 2) -> 369.99 | I9: =TRUNC(F9 * H9, 2) -> 49948.65 | J9: =I9 / 78146205.39 -> 0.00063916923
A10: 1.2 | B10: 01.02.11 | C10: SUDECAP | D10: BARRACAO DE OBRA - AREA COBERTA EM TELHA ONDULADA DE FIBROCIMENTO 4MM | E10: m² | F10: 100 | G10: 74.52 | H10: =TRUNC(G10 * (1 + 24.21 / 100), 2) -> 92.56 | I10: =TRUNC(F10 * H10, 2) -> 9256 | J10: =I10 / 78146205.39 -> 0.00011844465
A11: 1.3 | B11: 01.04.02 | C11: SUDECAP | D11: TAPUME PADRAO SUDECAP (TIPO I, II E III) - COMPENSADO 10MM FIXAÇAO ENTERRADA SEM INFORME PBH | E11: M | F11: 500 | G11: 104.72 | H11: =TRUNC(G11 * (1 + 24.21 / 100), 2) -> 130.07 | I11: =TRUNC(F11 * H11, 2) -> 65035 | J11: =I11 / 78146205.39 -> 0.00083222211
A12: 1.4 | B12: 01.04.09 | C12: SUDECAP | D12: TAPUME PADRAO SUDECAP (TIPO I, II E III) - TELA-TAPUME DE POLIPROPILENO H= 1,20 M, INCL. BASE | E12: M | F12: 1000 | G12: 9 | H12: =TRUNC(G12 * (1 + 24.21 / 100), 2) -> 11.17 | I12: =TRUNC(F12 * H12, 2) -> 11170 | J12: =I12 / 78146205.39 -> 0.0001429372
A13: 1.5 | B13: 01.04.10 | C13: SUDECAP | D13: TAPUME PADRAO SUDECAP (TIPO I, II E III) - PROTEÇAO COM FITA ZEBRADA AMARELA L=7CM E PEÇA 7X7 | E13: M | F13: 1000 | G13: 7.59 | H13: =TRUNC(G13 * (1 + 24.21 / 100), 2) -> 9.42 | I13: =TRUNC(F13 * H13, 2) -> 9420 | J13: =I13 / 78146205.39 -> 0.00012054328
A14: 1.6 | B14: 01.04.11 | C14: SUDECAP | D14: TAPUME PADRAO SUDECAP (TIPO I, II E III) - FITA ZEBRADA AMARELA PARA SINALIZAÇAO L= 7CM | E14: M | F14: 3000 | G14: 3.11 | H14: =TRUNC(G14 * (1 + 24.21 / 100), 2) -> 3.86 | I14: =TRUNC(F14 * H14, 2) -> 11580 | J14: =I14 / 78146205.39 -> 0.00014818378
A15: 1.7 | B15: 01.06.01 | C15: SUDECAP | D15: INSTALAÇAO PROVISORIA - CONCESSIONARIA - PADRÃO CEMIG PROVISÓRIO TIPO C3, DEMANDA PROVÁVEL DE 23,1 ATÉ 27,0KW (3F+N) | E15: UN | F15: 10 | G15: 810.09 | H15: =TRUNC(G15 * (1 + 24.21 / 100), 2) -> 1006.21 | I15: =TRUNC(F15 * H15, 2) -> 10062.1 | J15: =I15 / 78146205.39 -> 0.00012875993
A16: 1.8 | B16: 01.06.05 | C16: SUDECAP | D16: INSTALAÇAO PROVISORIA - CONCESSIONARIA - PADRAO COPASA - KIT CAVALTE METAL E REGISTRO 3/4" | E16: UN | F16: 10 | G16: 464.63 | H16: =TRUNC(G16 * (1 + 24.21 / 100), 2) -> 577.11 | I16: =TRUNC(F16 * H16, 2) -> 5771.1 | J16: =I16 / 78146205.39 -> 7.3850035e-05
A17: 1.9 | B17: 01.09.03 | C17: SUDECAP | D17: CONTAINER 6,0X2,30X2,82 M COM ISOLAMENTO TERMICO - ESCRITORIO COM AR CONDICIONADO E SANITARIO | E17: MES | F17: 12 | G17: 930 | H17: =TRUNC(G17 * (1 + 24.21 / 100), 2) -> 1155.15 | I17: =TRUNC(F17 * H17, 2) -> 13861.8 | J17: =I17 / 78146205.39 -> 0.00017738289
A18: 1.10 | B18: 01.09.07 | C18: SUDECAP | D18: CONTAINER 6,0X2,30X2,82 M COM ISOLAMENTO TERMICO - VESTIARIO 4 CHUV. 3 SANIT. 1LAVAT. 1 MICT. | E18: MES | F18: 12 | G18: 850 | H18: =TRUNC(G18 * (1 + 24.21 / 100), 2) -> 1055.78 | I18: =TRUNC(F18 * H18, 2) -> 12669.36 | J18: =I18 / 78146205.39 -> 0.0001621238
A19: 1.11 | B19: 01.09.09 | C19: SUDECAP | D19: CONTAINER 6,0X2,30X2,82 M COM ISOLAMENTO TERMICO - REFEITORIO | E19: MES | F19: 12 | G19: 650 | H19: =TRUNC(G19 * (1 + 24.21 / 100), 2) -> 807.36 | I19: =TRUNC(F19 * H19, 2) -> 9688.32 | J19: =I19 / 78146205.39 -> 0.00012397685
A20: 1.12 | B20: 01.09.10 | C20: SUDECAP | D20: CONTAINER 6,0X2,30X2,82 M COM ISOLAMENTO TERMICO - DEPOSITO E FERRAMENTARIA COM LAVATORIO | E20: MES | F20: 12 | G20: 730 | H20: =TRUNC(G20 * (1 + 24.21 / 100), 2) -> 906.73 | I20: =TRUNC(F20 * H20, 2) -> 10880.76 | J20: =I20 / 78146205.39 -> 0.00013923594
... A32: 1.24 | B32: 01.11.05 | C32: SUDECAP | D32: SINALIZAÇAO - FAIXA 6,0X0,80M TECIDO MORIM SUPORTE EM EUCALIPTO | E32: UN | F32: 300 | G32: 201.68 | H32: =TRUNC(G32 * (1 + 24.21 / 100), 2) -> 250.5 | I32: =TRUNC(F32 * H32, 2) -> 75150 | J32: =I32 / 78146205.39 -> 0.00096165898
A33: 2 | D33: DEMOLIÇÕES REMOÇÕES E LIMPEZA | I33: =SUM(I34:I48) -> 3168370 | J33: =I33 / 78146205.39 -> 0.040544131
A34: 2.1 | B34: 02.11.07 | C34: SUDECAP | D34: DEMOLIÇAO DE PASSEIO E PAVIMENTO - DE REVESTIMENTO ASFALTICO COM EQUIP. PNEUMATICO | E34: m² | F34: 1000 | G34: 14.08 | H34: =TRUNC(G34 * (1 + 24.21 / 100), 2) -> 17.48 | I34: =TRUNC(F34 * H34, 2) -> 17480 | J34: =I34 / 78146205.39 -> 0.00022368329
A35: 2.2 | B35: 02.11.05 | C35: SUDECAP | D35: DEMOLIÇAO DE PASSEIO E PAVIMENTO - MANUAL DE ALVENARIA POLIEDRICA | E35: m² | F35: 15000 | G35: 6.31 | H35: =TRUNC(G35 * (1 + 24.21 / 100), 2) -> 7.83 | I35: =TRUNC(F35 * H35, 2) -> 117450 | J35: =I35 / 78146205.39 -> 0.0015029521
A36: 2.3 | B36: 02.11.02 | C36: SUDECAP | D36: DEMOLIÇAO DE PASSEIO E PAVIMENTO - PASSEIO OU LAJE DE CONCRETO C/ EQUIP. PNEUMATICO | E36: m² | F36: 10000 | G36: 14.08 | H36: =TRUNC(G36 * (1 + 24.21 / 100), 2) -> 17.48 | I36: =TRUNC(F36 * H36, 2) -> 174800 | J36: =I36 / 78146205.39 -> 0.0022368329
A37: 2.4 | B37: 02.11.04 | C37: SUDECAP | D37: DEMOLIÇAO DE PASSEIO E PAVIMENTO - PASSEIO OU LAJE DE CONCRETO C/EQUIPAMENTO ELETRICO | E37: m² | F37: 5000 | G37: 5.99 | H37: =TRUNC(G37 * (1 + 24.21 / 100), 2) -> 7.44 | I37: =TRUNC(F37 * H37, 2) -> 37200 | J37: =I37 / 78146205.39 -> 0.00047603079
A38: 2.5 | B38: 02.11.01 | C38: SUDECAP | D38: DEMOLIÇAO DE PASSEIO E PAVIMENTO - PASSEIO OU LAJE DE CONCRETO MANUALMENTE | E38: m² | F38: 5000 | G38: 21.64 | H38: =TRUNC(G38 * (1 + 24.21 / 100), 2) -> 26.87 | I38: =TRUNC(F38 * H38, 2) -> 134350 | J38: =I38 / 78146205.39 -> 0.0017192134
A39: 2.6 | B39: 02.12.01 | C39: SUDECAP | D39: CORTE MECANICO EM CONCRETO/ASFALTO - CORTE MECAN. C/ SERRA CIRCULAR EM CONCRETO/ASFALTO | E39: M | F39: 2000 | G39: 1.97 | H39: =TRUNC(G39 * (1 + 24.21 / 100), 2) -> 2.44 | I39: =TRUNC(F39 * H39, 2) -> 4880 | J39: =I39 / 78146205.39 -> 6.244705e-05
A40: 2.7 | B40: 96001 | C40: SINAPI | D40: FRESAGEM DE PAVIMENTO ASFÁLTICO (PROFUNDIDADE ATÉ 5,0 CM) - EXCLUSIVE TRANSPORTE. AF_11/2019 | E40: m² | F40: 90000 | G40: 7.48 | H40: =TRUNC(G40 * (1 + 24.21 / 100), 2) -> 9.29 | I40: =TRUNC(F40 * H40, 2) -> 836100 | J40: =I40 / 78146205.39 -> 0.010699176
A41: 2.8 | B41: 02.15.01 | C41: SUDECAP | D41: REMOÇAO DE MEIO-FIO - PREMOLDADO DE CONCRETO | E41: M | F41: 20000 | G41: 7.89 | H41: =TRUNC(G41 * (1 + 24.21 / 100), 2) -> 9.8 | I41: =TRUNC(F41 * H41, 2) -> 196000 | J41: =I41 / 78146205.39 -> 0.0025081192
A42: 2.9 | B42: 21.04.01 | C42: SUDECAP | D42: REMOÇAO E REASSENTAMENTO DE MEIO-FIO - PREMOLDADO DE CONCRETO | E42: M | F42: 5000 | G42: 31.3 | H42: =TRUNC(G42 * (1 + 24.21 / 100), 2) -> 38.87 | I42: =TRUNC(F42 * H42, 2) -> 194350 | J42: =I42 / 78146205.39 -> 0.002487005
A43: 2.10 | B43: CPU-1000 | C43: Próprio | D43: REMOÇÃO DE BOCA DE LOBO SIMPLES | E43: UN | F43: 100 | G43: 37.48 | H43: =TRUNC(G43 * (1 + 24.21 / 100), 2) -> 46.55 | I43: =TRUNC(F43 * H43, 2) -> 4655 | J43: =I43 / 78146205.39 -> 5.9567832e-05
A44: 2.11 | B44: 02.26.01 | C44: SUDECAP | D44: TRANSPORTE DE MATERIAL DEMOLIDO EM CARRINHO DE MAO - DMT <= 50,0 M | E44: m³ | F44: 500 | G44: 23.68 | H44: =TRUNC(G44 * (1 + 24.21 / 100), 2) -> 29.41 | I44: =TRUNC(F44 * H44, 2) -> 14705 | J44: =I44 / 78146205.39 -> 0.00018817292
A45: 2.12 | B45: 02.27.01 | C45: SUDECAP | D45: CARGA DE MATERIAL DEMOLIDO SOBRE CAMINHAO - MANUAL | E45: m³ | F45: 1000 | G45: 20.74 | H45: =TRUNC(G45 * (1 + 24.21 / 100), 2) -> 25.76 | I45: =TRUNC(F45 * H45, 2) -> 25760 | J45: =I45 / 78146205.39 -> 0.00032963853
... A48: 2.15 | B48: 02.30.01 | C48: SUDECAP | D48: LIMPEZA DO PAVIMENTO - CAPINA E VARRIÇAO DE PAVIMENTO EM ALVEN.POLIEDRICA | E48: m² | F48: 140000 | G48: 2.63 | H48: =TRUNC(G48 * (1 + 24.21 / 100), 2) -> 3.26 | I48: =TRUNC(F48 * H48, 2) -> 456400 | J48: =I48 / 78146205.39 -> 0.0058403348
A49: 3 | D49: TRABALHOS EM TERRA | I49: =SUM(I50:I60) -> 5666310 | J49: =I49 / 78146205.39 -> 0.072509087
A50: 3.1 | B50: 03.05.01 | C50: SUDECAP | D50: ESCAVAÇAO E CARGA MECANIZADA - EM MATERIAL DE 1ª CATEGORIA | E50: m³ | F50: 10000 | G50: 6.96 | H50: =TRUNC(G50 * (1 + 24.21 / 100), 2) -> 8.64 | I50: =TRUNC(F50 * H50, 2) -> 86400 | J50: =I50 / 78146205.39 -> 0.0011056199
A51: 3.2 | B51: 03.05.02 | C51: SUDECAP | D51: ESCAVAÇAO E CARGA MECANIZADA - EM MATERIAL DE 2ª CATEGORIA | E51: m³ | F51: 5000 | G51: 9.27 | H51: =TRUNC(G51 * (1 + 24.21 / 100), 2) -> 11.51 | I51: =TRUNC(F51 * H51, 2) -> 57550 | J51: =I51 / 78146205.39 -> 0.00073644011
A52: 3.3 | B52: 101115 | C52: SINAPI | D52: ESCAVAÇÃO HORIZONTAL EM SOLO DE 1A CATEGORIA COM TRATOR DE ESTEIRAS (150HP/LÂMINA: 3,18M3). AF_07/2020 | E52: m³ | F52: 50000 | G52: 3.49 | H52: =TRUNC(G52 * (1 + 24.21 / 100), 2) -> 4.33 | I52: =TRUNC(F52 * H52, 2) -> 216500 | J52: =I52 / 78146205.39 -> 0.002770448
A53: 3.4 | B53: 03.12.01 | C53: SUDECAP | D53: CARGA DE MATERIAL DE QQUER NATUREZA SOBRE CAMINHAO - MANUAL | E53: m³ | F53: 3000 | G53: 20.74 | H53: =TRUNC(G53 * (1 + 24.21 / 100), 2) -> 25.76 | I53: =TRUNC(F53 * H53, 2) -> 77280 | J53: =I53 / 78146205.39 -> 0.00098891558
...

Sheet Orçamento Analítico 
A1: PREFEITURA MUNICIPAL DE SANTA LUZIA
C2: ='Orçamento Sintético'!D2 -> Objeto: | E2: Bancos | G2: B.D.I. | I2: Encargos Sociais
C3: Registro de preço para futura e eventual contratação de empresa para execução de serviços de restauração, recuperação, melhoramento e construção de pavimentos em diversos logradouros públicos no município, com fornecimento de mão de obra, materiais e equipamentos. | E3: SINAPI - 11/2022 - Minas Gerais SBC - 12/2022 - Minas Gerais SICRO3 - 07/2022 - Minas Gerais SETOP - 10/2022 - Minas Gerais SUDECAP - 10/2022 - Minas Gerais | G3: 24,21% | I3: Não Desonerado: embutido nos preços unitário dos insumos de mão de obra, de acordo com as bases.
H4: ='Orçamento Sintético'!H4:J4 -> Belo Horizonte, 21 de junho de 2023
A5: PLANILHA ORÇAMENTÁRIA ANALÍTICA
A6: 1 | D6: SERVIÇOS PRELIMINARES | J6: 438566.41
A7: 1.1 | B7: Código | C7: Banco | D7: Descrição | E7: Tipo | G7: Und | H7: Quant. | I7: Valor Unit | J7: Total
A8: Composição | B8: ED-16660 | C8: SETOP | D8: FORNECIMENTO E COLOCAÇÃO DE PLACA DE OBRA EM CHAPA GALVANIZADA #26, ESP. 0,45 MM, PLOTADA COM ADESIVO VINÍLICO, AFIXADA COM REBITES 4,8X40 MM, EM ESTRUTURA METÁLICA DE METALON 20X20 MM, ESP. 1,25 MM, INCLUSIVE SUPORTE EM EUCALIPTO AUTOCLAVADO PINTADO COM TINTA PVA DUAS (2) DEMÃOS | E8: ED- | G8: m² | H8: 1 | I8: 297.88 | J8: 297.88
A9: A | B9: Código | C9: Banco | D9: Equipamentos | E9: Utilização | G9: Custo Operacional | I9: Consumo | J9: Custo Horário
E10: Operativa | F10: Improdutiva | G10: Operativa | H10: Improdutiva
G11: (A) Total: | J11: 0
A12: B | B12: Código | C12: Banco | D12: Mão de Obra | F12: Unidade | J12: Custo Horário
G13: (B) Total: | J13: 0
G14: Custo Horário de Execução (A) + (B): | J14: 0
G15: (D) Produção da Equipe: | J15: 1
G16: Custo Unitário de Execução [(A) + (B)] / (D): | J16: 0
A17: F | B17: Banco | C17: Código | D17: Material | G17: Unidade | H17: Custo Unitário | I17: Quantidade | J17: Custo Horário
G18: (F)Total: | J18: 0
A19: G | B19: Banco | C19: Código | D19: Serviços | G19: Unidade | H19: Custo Unitário | I19: Quantidade | J19: Custo Horário
A20: Atividade Auxiliar | B20: SETOP | C20: ED-16670 | D20: PLACA DE OBRA EM CHAPA GALVANIZADA ENRIJECIDA, PLOTADA COM ADESIVO VINÍLICO, FIXADA COM REBITES 4,8X40MM, EM ESTRUTURA METÁLICA DE METALON | G20: m² | H20: 264.6 | I20: 1 | J20: 264.6
A21: Atividade Auxiliar | B21: SETOP | C21: ED-16671 | D21: FIXAÇÃO DE PLACA DE OBRA EM SUPORTE DE EUCALIPTO AUTOCLAVADO, INCLUSIVE PINTURA LÁTEX (PVA) EM SUPERFÍCIE DE MADEIRA, EM DUAS (2) DEMÃOS E ESCAVAÇÃO ( | G21: m² | H21: 33.28 | I21: 1 | J21: 33.28
G22: (G) Total: | J22: 297.88
E23: MO sem LS => | F23: 43.393682 | G23: LS => | H23: 0 | I23: MO com LS => | J23: 43.393682
E24: Valor do BDI => | F24: 72.11 | H24: Valor com BDI => | J24: 369.99
G25: Quant. => | H25: 135 | I25: Preço Total => | J25: 49948.65
A27: 1.2 | B27: Código | C27: Banco | D27: Descrição | E27: Tipo | G27: Und | H27: Quant. | I27: Valor Unit | J27: Total
A28: Composição | B28: 01.02.11 | C28: SUDECAP | D28: BARRACAO DE OBRA - AREA COBERTA EM TELHA ONDULADA DE FIBROCIMENTO 4MM | E28: BARRACAO DE OBRA | G28: m² | H28: 1 | I28: 74.52 | J28: 74.52
A29: Insumo | B29: 55.10.50 | C29: SUDECAP | D29: CARPINTEIRO | E29: Mão de Obra | G29: H | H29: 1 | I29: 22.52 | J29: 22.52
A30: Insumo | B30: 55.10.88 | C30: SUDECAP | D30: SERVENTE | E30: Mão de Obra | G30: H | H30: 1 | I30: 15.79 | J30: 15.79
A31: Insumo | B31: 67.02.10 | C31: SUDECAP | D31: TELHA DE FIBROCIMENTO ONDULADA E = 4 MM, DE 2,44 X 0,50 M (SEM AMIANTO) | E31: Material | G31: m² | H31: 0.4224 | I31: 20.31 | J31: 8.57
A32: Insumo | B32: 67.20.26 | C32: SUDECAP | D32: PARAFUSO ZINCADO ROSCA SOBERBA, CABECA SEXTAVADA, 5/16 " X 110 MM, PARA FIXACAO DE TELHA EM MADEIRA | E32: Material | G32: UN | H32: 0.55 | I32: 1.67 | J32: 0.91
A33: Insumo | B33: 71.01.05 | C33: SUDECAP | D33: TABUA DE MADEIRA APARELHADA *2,5 X 25* CM, MACARANDUBA, ANGELIM OU EQUIVALENTE DA REGIAO | E33: Material | G33: m² | H33: 0.25 | I33: 85 | J33: 21.25
A34: Insumo | B34: 71.04.08 | C34: SUDECAP | D34: PECA DE MADEIRA DE PINUS 5,5X5,5 CM | E34: Material | G34: M | H34: 1.6995 | I34: 2.78 | J34: 4.72
A35: Insumo | B35: 77.05.51 | C35: SUDECAP | D35: PREGO DE ACO POLIDO COM CABECA 18 X 30 (2 3/4 X 10) | E35: Material | G35: KG | H35: 0.05 | I35: 15.22 | J35: 0.76
E36: MO sem LS => | F36: 38.31 | G36: LS => | H36: 0 | I36: MO com LS => | J36: 38.31
E37: Valor do BDI => | F37: 18.04 | H37: Valor com BDI => | J37: 92.56
G38: Quant. => | H38: 100 | I38: Preço Total => | J38: 9256
A40: 1.3 | B40: Código | C40: Banco | D40: Descrição | E40: Tipo | G40: Und | H40: Quant. | I40: Valor Unit | J40: Total
A41: Composição | B41: 01.04.02 | C41: SUDECAP | D41: TAPUME PADRAO SUDECAP (TIPO I, II E III) - COMPENSADO 10MM FIXAÇAO ENTERRADA SEM INFORME PBH | E41: TAPUME PADRAO SUDECAP (TIPO I, II E III) | G41: M | H41: 1 | I41: 104.72 | J41: 104.72
A42: Insumo | B42: 55.10.88 | C42: SUDECAP | D42: SERVENTE | E42: Mão de Obra | G42: H | H42: 1.2 | I42: 15.79 | J42: 18.94
...

Sheet BDI
A1: PREFEITURA MUNICIPAL DE SANTA LUZIA
B2: ='Orçamento Sintético'!D2 -> Objeto:
B3: ='Orçamento Sintético'!D3 -> Registro de preço para futura e eventual contratação de empresa para execução de serviços de restauração, recuperação, melhoramento e construção de pavimentos em diversos logradouros públicos no município, com fornecimento de mão de obra, materiais e equipamentos.
I4: Santa Luzia, 07 de fevereiro de 2023
A5: Acórdão TCU 2622/2013
A6: Parâmetros para cálculo do BDI
A7: Itens Admissíveis | B7: Intervalos admissíveis sem justificativa | H7: Índices adotados
A9: Administração Central (AC) | B9: De | C9: 0.038 | E9: até | F9: 0.0467 | H9: Administração Central (AC) | I9: 0.0467
A10: Seguro e Garantia (S+G) | B10: De | C10: 0.0032 | E10: até | F10: 0.0074 | H10: Seguro e Garantia (S+G) | I10: 0.0074
A11: Risco (R) | B11: De | C11: 0.005 | E11: até | F11: 0.0097 | H11: Risco (R) | I11: 0.0056
A12: Despesas financeiras (DF) | B12: De | C12: 0.0102 | E12: até | F12: 0.0121 | H12: Despesas financeiras (DF) | I12: 0.0121
A13: Lucro (L) | B13: De | C13: 0.0664 | E13: até | F13: 0.0869 | H13: Lucro (L) | I13: 0.0869
A14: ISS | B14: De | C14: 0.02 | E14: até | F14: 0.05 | H14: Tributos (T) | I14: 0.025
A15: PIS+COFINS | F15: 0.0365 | H15: PIS+COFINS | I15: 0.0365
A16: CPRB | C16: 0 | E16: ou | F16: 0.045 | H16: INSS desoneração (E) | I16: 0
A17: Controle
A18: Administração Central (AC) | B18: OK
A19: Seguro e Garantia (S+G) | B19: OK
A20: Risco (R) | B20: OK
A21: Despesas financeiras (DF) | B21: OK
A22: Lucro (L) | B22: OK
A23: Tributos (T) | B23: OK
A24: INSS desoneração (E) | B24: OK
A25: BDI CALCULADO ----> | B25: BDI = (1+AC+S+R+G)*(1+DF)*(1+L)/(1-(T+E)) | I25: =((1+I9+I10+I11)*(1+I12)*(1+I13))/(1-(I14+I16+I15))-1 -> 0.24211461
E28: CONSTRUTORA MARINS LTDA
E29: Henrique Weber Neves Marins
E30: Representante Legal
