Workbook
Name \0: #REF!
Name _________________________esc15: #REF!
Name _________________________esc4: #REF!
Name _________________________esc6: #REF!
Name ________________________esc15: #REF!
Name ________________________esc4: #REF!
Name ________________________esc6: #REF!
Name _______________________esc15: #REF!
Name _______________________esc4: #REF!
Name _______________________esc6: #REF!
Name ______________________esc15: #REF!
Name ______________________esc4: #REF!
Name ______________________esc6: #REF!
Name ____________________esc15: #REF!
Name ____________________esc4: #REF!
Name ____________________esc6: #REF!
Name ___________________esc15: #REF!
Name ___________________esc4: #REF!
Name ___________________esc6: #REF!
Name __________________esc15: #REF!
Name __________________esc4: #REF!
Name __________________esc6: #REF!
Name _________________esc15: #REF!
Name _________________esc4: #REF!
Name _________________esc6: #REF!
Name _______________esc15: #REF!
Name _______________esc4: #REF!
Name _______________esc6: #REF!
Name ______________esc15: #REF!
Name ______________esc4: #REF!
Name ______________esc6: #REF!
Name _____________esc15: #REF!
Name _____________esc4: #REF!
Name _____________esc6: #REF!
Name ____________esc15: #REF!
Name ____________esc4: #REF!
Name ____________esc6: #REF!
Name ___________esc15: #REF!
Name ___________esc4: #REF!
Name ___________esc6: #REF!
Name __________esc15: #REF!
Name __________esc4: #REF!
Name __________esc6: #REF!
Name _________esc15: #REF!
Name _________esc4: #REF!
Name _________esc6: #REF!
Name ________esc15: #REF!
Name ________esc4: #REF!
Name ________esc6: #REF!
Name _______esc15: #REF!
Name _______esc4: #REF!
Name _______esc6: #REF!
Name __xlnm_Database: "#ref!"
Name __xlnm_Recorder: "#ref!"
Name _esc15: #REF!
Name _esc4: #REF!
Name _esc6: #REF!
Name A: #REF!
Name aaaa: #REF!
Name AB: #REF!

Sheet Orçamento Sintético
A1: PREFEITURA MUNICIPAL DE SANTA LUZIA
D2: Objeto: | E2: Bancos | H2: B.D.I. | I2: Encargos Sociais
D3: Contratação de empresa especializada para construção de cortina atirantada para contenção de talude em trecho da Av. Brasília (ETAPA 02 - entre estacas 5+0,00 à 12+0,00) no Município de Santa Luzia. | E3: SINAPI - 02/2023 - Minas Gerais SBC - 03/2023 - Minas Gerais SICRO3 - 10/2022 - Minas Gerais SETOP - 10/2022 - Minas Gerais SUDECAP - 12/2022 - Minas Gerais | H3: 0.2265 | I3: Não Desonerado: embutido nos preços unitário dos insumos de mão de obra, de acordo com as bases.
H4: Santa Luzia, 18 de abril de 2023
A5: PLANILHA ORÇAMENTÁRIA
A6: Item | B6: Código | C6: Banco | D6: Descrição | E6: Und | F6: Quant. | G6: Valor Unit | H6: Valor Unit com BDI | I6: Total | J6: Peso (%)
D7: TOTAL GERAL | I7: =H68 -> 1919920.3
A8: 1 | D8: SERVIÇOS PRELIMINARES | I8: =SUM(I9:I19) -> 74923.66 | J8: =I8 / 1921882.69 -> 0.038984513
A9: 1.1 | B9: ED-28427 | C9: SETOP | D9: FORNECIMENTO E COLOCAÇÃO DE PLACA DE OBRA EM CHAPA GALVANIZADA #26, ESP. 0,45MM, DIMENSÃO (3X1,5)M, PLOTADA COM ADESIVO VINÍLICO, AFIXADA COM REBITES 4,8X40MM, EM ESTRUTURA METÁLICA DE METALON 20X20MM, ESP. 1,25MM, INCLUSIVE SUPORTE EM EUCALIPTO AUTOCLAVADO PINTADO COM TINTA PVA DUAS (2) DEMÃOS | E9: un | F9: 1 | G9: 1340.46 | H9: =TRUNC(G9 * (1 + 22.65 / 100), 2) -> 1644.07 | I9: =TRUNC(F9 * H9, 2) -> 1644.07 | J9: =I9 / 1921882.69 -> 0.00085544763
A10: 1.2 | B10: ED-16349 | C10: SETOP | D10: LOCAÇÃO DE CONTAINER COM ISOLAMENTO TÉRMICO, TIPO 2, PARA ESCRITÓRIO DE OBRA COM SANITÁRIO CONTENDO UM (1) VASO SANITÁRIO E UM (1) LAVATÓRIO, COM MEDIDAS REFERENCIAIS DE (6) METROS COMPRIMENTO, (2,3) METROS LARGURA E (2,5) METROS ALTURA ÚTIL INTERNA, INCLUSIVE AR CONDICIONADO E LIGAÇÕES ELÉTRICAS E HIDROSSANITÁRIAS INTERNAS, EXCLUSIVE MOBILIZAÇÃO/DESMOBILIZAÇÃO E LIGAÇÕES PROVISÓRIAS EXTERNAS | E10: mês | F10: 6 | G10: 833.24 | H10: =TRUNC(G10 * (1 + 22.65 / 100), 2) -> 1021.96 | I10: =TRUNC(F10 * H10, 2) -> 6131.76 | J10: =I10 / 1921882.69 -> 0.0031904965
A11: 1.3 | B11: ED-16354 | C11: SETOP | D11: LOCAÇÃO DE CONTAINER COM ISOLAMENTO TÉRMICO, TIPO 7, PARA VESTIÁRIO DE OBRA COM QUATRO (4) CHUVEIROS, TRÊS (3) VASOS SANITÁRIOS, UM (1) MICTÓRIO E UM (1) LAVATÓRIO, COM MEDIDAS REFERENCIAIS DE (6) METROS COMPRIMENTO, (2,3) METROS LARGURA E (2,5) METROS ALTURA ÚTIL INTERNA, INCLUSIVE LIGAÇÕES ELÉTRICAS E HIDROSSANITÁRIAS INTERNAS, EXCLUSIVE MOBILIZAÇÃO/DESMOBILIZAÇÃO E LIGAÇÕES PROVISÓRIAS EXTERNAS | E11: mês | F11: 6 | G11: 787.91 | H11: =TRUNC(G11 * (1 + 22.65 / 100), 2) -> 966.37 | I11: =TRUNC(F11 * H11, 2) -> 5798.22 | J11: =I11 / 1921882.69 -> 0.0030169479
A12: 1.4 | B12: ED-16351 | C12: SETOP | D12: LOCAÇÃO DE CONTAINER COM ISOLAMENTO TÉRMICO, TIPO 4, PARA REFEITÓRIO DE OBRA, COM MEDIDAS REFERENCIAIS DE (6) METROS COMPRIMENTO, (2,3) METROS LARGURA E (2,5) METROS ALTURA ÚTIL INTERNA, INCLUSIVE LIGAÇÕES ELÉTRICAS INTERNAS, EXCLUSIVE MOBILIZAÇÃO/DESMOBILIZAÇÃO E LIGAÇÕES PROVISÓRIAS EXTERNAS | E12: mês | F12: 6 | G12: 601.9 | H12: =TRUNC(G12 * (1 + 22.65 / 100), 2) -> 738.23 | I12: =TRUNC(F12 * H12, 2) -> 4429.38 | J12: =I12 / 1921882.69 -> 0.0023047088
A13: 1.5 | B13: ED-50137 | C13: SETOP | D13: MOBILIZAÇÃO E DESMOBILIZAÇÃO DE CONTAINER, INCLUSIVE CARGA, DESCARGA E TRANSPORTE EM CAMINHÃO CARROCERIA COM GUINDAUTO (MUNCK), EXCLUSIVE LOCAÇÃO DO CONTAINER | E13: un | F13: 3 | G13: 686.28 | H13: =TRUNC(G13 * (1 + 22.65 / 100), 2) -> 841.72 | I13: =TRUNC(F13 * H13, 2) -> 2525.16 | J13: =I13 / 1921882.69 -> 0.0013138991
A14: 1.6 | B14: ED-16357 | C14: SETOP | D14: LIGAÇÕES PROVISÓRIAS PARA CONTAINER TIPO 2 (CORRESPONDENTE AO CÓDIGO ED-16349) | E14: un | F14: 1 | G14: 623.69 | H14: =TRUNC(G14 * (1 + 22.65 / 100), 2) -> 764.95 | I14: =TRUNC(F14 * H14, 2) -> 764.95 | J14: =I14 / 1921882.69 -> 0.00039802117
A15: 1.7 | B15: ED-16359 | C15: SETOP | D15: LIGAÇÕES PROVISÓRIAS PARA CONTAINER TIPO 4 (CORRESPONDENTE AO CÓDIGO ED-16351) | E15: un | F15: 1 | G15: 327.92 | H15: =TRUNC(G15 * (1 + 22.65 / 100), 2) -> 402.19 | I15: =TRUNC(F15 * H15, 2) -> 402.19 | J15: =I15 / 1921882.69 -> 0.00020926876
A16: 1.8 | B16: ED-16362 | C16: SETOP | D16: LIGAÇÕES PROVISÓRIAS PARA CONTAINER TIPO 7 (CORRESPONDENTE AO CÓDIGO ED-16354) | E16: un | F16: 1 | G16: 889.47 | H16: =TRUNC(G16 * (1 + 22.65 / 100), 2) -> 1090.93 | I16: =TRUNC(F16 * H16, 2) -> 1090.93 | J16: =I16 / 1921882.69 -> 0.0005676361
A17: 1.9 | B17: 01.04.04 | C17: SUDECAP | D17: TAPUME PADRAO SUDECAP - EM COMPENSADO 10MM COM BASE DE CONCRETO | E17: M | F17: 200 | G17: 108.2 | H17: =TRUNC(G17 * (1 + 22.65 / 100), 2) -> 132.7 | I17: =TRUNC(F17 * H17, 2) -> 26540 | J17: =I17 / 1921882.69 -> 0.013809376
A18: 1.10 | B18: 00020193 | C18: SINAPI | D18: LOCACAO DE ANDAIME METALICO TIPO FACHADEIRO, LARGURA DE 1,20 M X ALTURA DE 2,0 M POR PAINEL, INCLUINDO DIAGONAIS EM X, BARRAS DE LIGACAO, SAPATAS E DEMAIS ITENS NECESSARIOS A MONTAGEM (NAO INCLUI INSTALACAO) | E18: M2XMES | F18: 2200 | G18: 6.66 | H18: =TRUNC(G18 * (1 + 22.65 / 100), 2) -> 8.16 | I18: =TRUNC(F18 * H18, 2) -> 17952 | J18: =I18 / 1921882.69 -> 0.0093408407
A19: 1.11 | B19: 97063 | C19: SINAPI | D19: MONTAGEM E DESMONTAGEM DE ANDAIME MODULAR FACHADEIRO, COM PISO METÁLICO (EXCLUSIVE ANDAIME) | E19: m² | F19: 550 | G19: 11.34 | H19: =TRUNC(G19 * (1 + 22.65 / 100), 2) -> 13.9 | I19: =TRUNC(F19 * H19, 2) -> 7645 | J19: =I19 / 1921882.69 -> 0.0039778703
A20: 2 | D20: SINALIZAÇÃO PROVISÓRIA | I20: =SUM(I21:I26) -> 16444.9 | J20: =I20 / 1921882.69 -> 0.0085566617
A21: 2.1 | B21: 01.11.05 | C21: SUDECAP | D21: FAIXA 6,0X0,80M TECIDO MORIM SUPORTE EM EUCALIPTO | E21: UN | F21: 30 | G21: 201.68 | H21: =TRUNC(G21 * (1 + 22.65 / 100), 2) -> 247.36 | I21: =TRUNC(F21 * H21, 2) -> 7420.8 | J21: =I21 / 1921882.69 -> 0.0038612138
A22: 2.2 | B22: CPU-1004 | C22: Próprio | D22: SINALIZAÇÃO PROVISÓRIA EM CONE MASTER 75CM BASE DE BORRACHA CORPO POLIETILEN | E22: UN/MÊS | F22: 120 | G22: 17.51 | H22: =TRUNC(G22 * (1 + 22.65 / 100), 2) -> 21.47 | I22: =TRUNC(F22 * H22, 2) -> 2576.4 | J22: =I22 / 1921882.69 -> 0.0013405605
A23: 2.3 | B23: CPU-1003 | C23: Próprio | D23: SINALIZAÇÃO PROVISÓRIA COM CONE EM PVC H= 75 CM - MENSAL | E23: UN/MÊS | F23: 120 | G23: 9.37 | H23: =TRUNC(G23 * (1 + 22.65 / 100), 2) -> 11.49 | I23: =TRUNC(F23 * H23, 2) -> 1378.8 | J23: =I23 / 1921882.69 -> 0.00071742152
A24: 2.3 | B24: 01.11.03 | C24: SUDECAP | D24: PLACA 0,50X0,50M DUPLA FACE CH.GALV.22 EM CAVALETE | E24: UNMES | F24: 60 | G24: 15.15 | H24: =TRUNC(G24 * (1 + 22.65 / 100), 2) -> 18.58 | I24: =TRUNC(F24 * H24, 2) -> 1114.8 | J24: =I24 / 1921882.69 -> 0.00058005622
A25: 2.4 | B25: 01.04.09 | C25: SUDECAP | D25: TELA-TAPUME DE POLIPROPILENO H= 1,20 M, INCL. BASE | E25: M | F25: 200 | G25: 9 | H25: =TRUNC(G25 * (1 + 22.65 / 100), 2) -> 11.03 | I25: =TRUNC(F25 * H25, 2) -> 2206 | J25: =I25 / 1921882.69 -> 0.0011478328
A26: 2.5 | B26: 01.11.08 | C26: SUDECAP | D26: SINALIZADOR ELET.MONOLIGHT LED 60 A 70 FLASHES/MIN | E26: UN | F26: 10 | G26: 142.53 | H26: =TRUNC(G26 * (1 + 22.65 / 100), 2) -> 174.81 | I26: =TRUNC(F26 * H26, 2) -> 1748.1 | J26: =I26 / 1921882.69 -> 0.00090957685
A27: 3 | D27: SERVIÇOS TÉCNICOS | I27: =SUM(I28:I29) -> 31613.75 | J27: =I27 / 1921882.69 -> 0.016449365
A28: 3.1 | B28: 43.01.03 | C28: SUDECAP | D28: EQUIPE DE TOPOGRAFIA - OBRA | E28: MES | F28: 1 | G28: 19060.62 | H28: =TRUNC(G28 * (1 + 22.65 / 100), 2) -> 23377.85 | I28: =TRUNC(F28 * H28, 2) -> 23377.85 | J28: =I28 / 1921882.69 -> 0.012164036
A29: 3.2 | B29: 01.12.05 | C29: SUDECAP | D29: VISTORIA CAUTELAR - 2001M2 < ÁREA CONSTRUÍDA <= 7000M2 | E29: UN | F29: 5 | G29: 1343 | H29: =TRUNC(G29 * (1 + 22.65 / 100), 2) -> 1647.18 | I29: =TRUNC(F29 * H29, 2) -> 8235.9 | J29: =I29 / 1921882.69 -> 0.0042853292
A30: 4 | D30: MOVIMENTAÇÃO DE TERRA | I30: =SUM(I31:I38) -> 495576.35 | J30: =I30 / 1921882.69 -> 0.25785983
A31: 4.1 | B31: ED-51105 | C31: SETOP | D31: ESCAVAÇÃO E CARGA MECANIZADA EM MATERIAL DE 1ª CATEGORIA | E31: m³ | F31: 610.07 | G31: 5.58 | H31: =TRUNC(G31 * (1 + 22.65 / 100), 2) -> 6.84 | I31: =TRUNC(F31 * H31, 2) -> 4172.87 | J31: =I31 / 1921882.69 -> 0.0021712407
A32: 4.2 | B32: 4805762 | C32: SICRO3 | D32: Escavação mecânica de vala em material de 2ª categoria | E32: m³ | F32: 3282.1 | G32: 8.64 | H32: =TRUNC(G32 * (1 + 22.65 / 100), 2) -> 10.59 | I32: =TRUNC(F32 * H32, 2) -> 34757.43 | J32: =I32 / 1921882.69 -> 0.018085094
A33: 4.3 | B33: 5502993 | C33: SICRO3 | D33: Escavação em material de 3ª categoria | E33: m³ | F33: 3282.1 | G33: 23.95 | H33: =TRUNC(G33 * (1 + 22.65 / 100), 2) -> 29.37 | I33: =TRUNC(F33 * H33, 2) -> 96395.27 | J33: =I33 / 1921882.69 -> 0.050156688
A34: 4.4 | B34: 03.12.03 | C34: SUDECAP | D34: CARGA DE MATERIAL DE QQUER NATUREZA SOBRE CAMINHAO - MECANICA | E34: m³ | F34: 8533.46 | G34: 2.91 | H34: =TRUNC(G34 * (1 + 22.65 / 100), 2) -> 3.56 | I34: =TRUNC(F34 * H34, 2) -> 30379.11 | J34: =I34 / 1921882.69 -> 0.015806953
A35: 4.5 | B35: 03.13.04 | C35: SUDECAP | D35: TRANSPORTE DE MATERIAL DE QUALQUER NATUREZA - DMT > 5 KM | E35: M3KM | F35: 97608.5 | G35: 1.93 | H35: =TRUNC(G35 * (1 + 22.65 / 100), 2) -> 2.36 | I35: =TRUNC(F35 * H35, 2) -> 230356.06 | J35: =I35 / 1921882.69 -> 0.11985958
A36: 4.6 | B36: BOT-FOR | C36: Próprio | D36: FICHA BOTA-FORA | E36: UN | F36: 712 | G36: 100 | H36: =TRUNC(G36 * (1 + 22.65 / 100), 2) -> 122.65 | I36: =TRUNC(F36 * H36, 2) -> 87326.8 | J36: =I36 / 1921882.69 -> 0.045438153
A37: 4.7 | B37: ED-51094 | C37: SETOP | D37: APILOAMENTO DO FUNDO DE VALAS COM PLACA | E37: m² | F37: 174 | G37: 11.57 | H37: =TRUNC(G37 * (1 + 22.65 / 100), 2) -> 14.19 | I37: =TRUNC(F37 * H37, 2) -> 2469.06 | J37: =I37 / 1921882.69 -> 0.001284709
A38: 4.8 | B38: 4815671 | C38: SICRO3 | D38: Reaterro e compactação com soquete vibratório | E38: m³ | F38: 542.7 | G38: 14.61 | H38: =TRUNC(G38 * (1 + 22.65 / 100), 2) -> 17.91 | I38: =TRUNC(F38 * H38, 2) -> 9719.75 | J38: =I38 / 1921882.69 -> 0.0050574107
A39: 5 | D39: ESTRUTURA | I39: =SUM(I40:I43) -> 621735.83 | J39: =I39 / 1921882.69 -> 0.32350353
A40: 5.1 | B40: ED-49813 | C40: SETOP | D40: LASTRO DE BRITA 2 OU 3 APILOADO MANUALMENTE | E40: m³ | F40: 32.3 | G40: 158.88 | H40: =TRUNC(G40 * (1 + 22.65 / 100), 2) -> 194.86 | I40: =TRUNC(F40 * H40, 2) -> 6293.97 | J40: =I40 / 1921882.69 -> 0.0032748981
...

Sheet Cronograma
A1: PREFEITURA MUNICIPAL DE SANTA LUZIA
B2: ='Orçamento Sintético'!$D$2 -> Objeto: | C2: Bancos | E2: B.D.I. | F2: Encargos Sociais
B3: ='Orçamento Sintético'!D3 -> Contratação de empresa especializada para construção de cortina atirantada para contenção de talude em trecho da Av. Brasília (ETAPA 02 - entre estacas 5+0,00 à 12+0,00) no Município de Santa Luzia. | C3: SINAPI - 02/2023 - Minas Gerais SBC - 03/2023 - Minas Gerais SICRO3 - 10/2022 - Minas Gerais SETOP - 10/2022 - Minas Gerais SUDECAP - 12/2022 - Minas Gerais | E3: ='Orçamento Sintético'!H3 -> 0.2265 | F3: Não Desonerado: embutido nos preços unitário dos insumos de mão de obra, de acordo com as bases. | I3: Santa Luzia, 18 de abril de 2023
A4: CRONOGRAMA FÍSICO-FINANCEIRO
A5: Item | B5: Descrição | C5: Total Por Etapa | D5: MÊS
D6: 1 | E6: 2 | F6: 3 | G6: 4 | H6: 5 | I6: 6
A7: 1 | B7: SERVIÇOS PRELIMINARES | C7: ='Orçamento Sintético'!I8 -> 74923.66 | D7: =$C7*D8 -> 37461.83 | E7: =$C7*E8 -> 7492.366 | F7: =$C7*F8 -> 7492.366 | G7: =$C7*G8 -> 7492.366 | H7: =$C7*H8 -> 7492.366 | I7: =$C7*I8 -> 7492.366
C8: =D8+E8+F8+G8+H8+I8 -> 1 | D8: 0.5 | E8: 0.1 | F8: 0.1 | G8: 0.1 | H8: 0.1 | I8: 0.1
A9: 2 | B9: SINALIZAÇÃO PROVISÓRIA | C9: ='Orçamento Sintético'!I20 -> 16444.9 | D9: =$C9*D10 -> 2740.8167 | E9: =$C9*E10 -> 2740.8167 | F9: =$C9*F10 -> 2740.8167 | G9: =$C9*G10 -> 2740.8167 | H9: =$C9*H10 -> 2740.8167 | I9: =$C9*I10 -> 2740.8167
C10: =D10+E10+F10+G10+H10+I10 -> 1 | D10: =100%/6 -> 0.16666667 | E10: =100%/6 -> 0.16666667 | F10: =100%/6 -> 0.16666667 | G10: =100%/6 -> 0.16666667 | H10: =100%/6 -> 0.16666667 | I10: =100%/6 -> 0.16666667
A11: 3 | B11: SERVIÇOS TÉCNICOS | C11: ='Orçamento Sintético'!I27 -> 31613.75 | D11: =$C11*D12 -> 9484.125 | E11: =$C11*E12 -> 4742.0625 | F11: =$C11*F12 -> 4742.0625 | G11: =$C11*G12 -> 4742.0625 | H11: =$C11*H12 -> 4742.0625 | I11: =$C11*I12 -> 3161.375
C12: =D12+E12+F12+G12+H12+I12 -> 1 | D12: 0.3 | E12: 0.15 | F12: 0.15 | G12: 0.15 | H12: 0.15 | I12: 0.1
A13: 4 | B13: MOVIMENTAÇÃO DE TERRA | C13: ='Orçamento Sintético'!I30 -> 495576.35 | D13: =$C13*D14 -> 148672.9 | E13: =$C13*E14 -> 148672.9 | F13: =$C13*F14 -> 49557.635 | G13: =$C13*G14 -> 49557.635 | H13: =$C13*H14 -> 49557.635 | I13: =$C13*I14 -> 49557.635
C14: =D14+E14+F14+G14+H14+I14 -> 1 | D14: 0.3 | E14: 0.3 | F14: 0.1 | G14: 0.1 | H14: 0.1 | I14: 0.1
A15: 5 | B15: ESTRUTURA | C15: ='Orçamento Sintético'!I39 -> 621735.83 | D15: =$C15*D16 -> 0 | E15: =$C15*E16 -> 124347.17 | F15: =$C15*F16 -> 124347.17 | G15: =$C15*G16 -> 310867.92 | H15: =$C15*H16 -> 62173.583 | I15: =$C15*I16 -> 0
C16: =D16+E16+F16+G16+H16+I16 -> 1 | E16: 0.2 | F16: 0.2 | G16: 0.5 | H16: 0.1
A17: 6 | B17: TIRANTE | C17: ='Orçamento Sintético'!I44 -> 265689.44 | D17: =$C17*D18 -> 0 | E17: =$C17*E18 -> 0 | F17: =$C17*F18 -> 53137.888 | G17: =$C17*G18 -> 53137.888 | H17: =$C17*H18 -> 159413.66 | I17: =$C17*I18 -> 0
C18: =D18+E18+F18+G18+H18+I18 -> 1 | F18: 0.2 | G18: 0.2 | H18: 0.6
A19: 7 | B19: DRENAGEM | C19: ='Orçamento Sintético'!I52 -> 200430.38 | D19: =$C19*D20 -> 0 | E19: =$C19*E20 -> 0 | F19: =$C19*F20 -> 30064.557 | G19: =$C19*G20 -> 30064.557 | H19: =$C19*H20 -> 30064.557 | I19: =$C19*I20 -> 110236.71
C20: =D20+E20+F20+G20+H20+I20 -> 1 | F20: 0.15 | G20: 0.15 | H20: 0.15 | I20: 0.55
A21: 8 | B21: SERVIÇOS COMPLEMENTARES | C21: ='Orçamento Sintético'!I63 -> 81223.2 | D21: =$C21*D22 -> 0 | E21: =$C21*E22 -> 0 | F21: =$C21*F22 -> 0 | G21: =$C21*G22 -> 0 | H21: =$C21*H22 -> 0 | I21: =$C21*I22 -> 81223.2
C22: =D22+E22+F22+G22+H22+I22 -> 1 | I22: 1
A23: 9 | B23: ADMINISTRAÇÃO LOCAL | C23: ='Orçamento Sintético'!I65 -> 132282.78 | D23: =$C23*D24 -> 13902.92 | E23: =$C23*E24 -> 21429.81 | F23: =$C23*F24 -> 20239.265 | G23: =$C23*G24 -> 34248.012 | H23: =$C23*H24 -> 23546.335 | I23: =$C23*I24 -> 18916.438
C24: =D24+E24+F24+G24+H24+I24 -> 1 | D24: 0.1051 | E24: 0.162 | F24: 0.153 | G24: 0.2589 | H24: 0.178 | I24: 0.143
A25: Porcentagem | D25: =D26/$C$26 -> 0.11055803 | E25: =E26/$C$26 -> 0.16116561 | F25: =F26/$C$26 -> 0.15225724 | G25: =G26/$C$26 -> 0.25670402 | H25: =H26/$C$26 -> 0.17695059 | I25: =I26/$C$26 -> 0.14236452
A26: Custo | C26: =C7+C9+C11+C13+C15+C17+C19+C21+C23 -> 1919920.3 | D26: =D7+D9+D11+D13+D15+D17+D19+D21+D23 -> 212262.6 | E26: =E7+E9+E11+E13+E15+E17+E19+E21+E23 -> 309425.13 | F26: =F7+F9+F11+F13+F15+F17+F19+F21+F23 -> 292321.76 | G26: =G7+G9+G11+G13+G15+G17+G19+G21+G23 -> 492851.25 | H26: =H7+H9+H11+H13+H15+H17+H19+H21+H23 -> 339731.02 | I26: =I7+I9+I11+I13+I15+I17+I19+I21+I23 -> 273328.54
A27: Porcentagem Acumulado | D27: =D25 -> 0.11055803 | E27: =D27+E25 -> 0.27172364 | F27: =E27+F25 -> 0.42398087 | G27: =F27+G25 -> 0.68068489 | H27: =G27+H25 -> 0.85763548 | I27: =H27+I25 -> 1
A28: Custo Acumulado | D28: =D26 -> 212262.6 | E28: =D28+E26 -> 521687.72 | F28: =E28+F26 -> 814009.48 | G28: =F28+G26 -> 1306860.7 | H28: =G28+H26 -> 1646591.8 | I28: =H28+I26 -> 1919920.3

Sheet BDI
A1: PREFEITURA MUNICIPAL DE SANTA LUZIA
B2: ='Orçamento Sintético'!D2 -> Objeto:
B3: ='Orçamento Sintético'!D3 -> Contratação de empresa especializada para construção de cortina atirantada para contenção de talude em trecho da Av. Brasília (ETAPA 02 - entre estacas 5+0,00 à 12+0,00) no Município de Santa Luzia.
I4: Santa Luzia, 18 de abril de 2023
A5: Acórdão TCU 2622/2013
A6: Parâmetros para cálculo do BDI
A7: Itens Admissíveis | B7: Intervalos admissíveis sem justificativa | H7: Índices adotados
A9: Administração Central (AC) | B9: De | C9: 0.038 | E9: até | F9: 0.0467 | H9: Administração Central (AC) | I9: 0.0401
A10: Seguro e Garantia (S+G) | B10: De | C10: 0.0032 | E10: até | F10: 0.0074 | H10: Seguro e Garantia (S+G) | I10: 0.004
A11: Risco (R) | B11: De | C11: 0.005 | E11: até | F11: 0.0097 | H11: Risco (R) | I11: 0.0056
A12: Despesas financeiras (DF) | B12: De | C12: 0.0102 | E12: até | F12: 0.0121 | H12: Despesas financeiras (DF) | I12: 0.0111
A13: Lucro (L) | B13: De | C13: 0.0664 | E13: até | F13: 0.0869 | H13: Lucro (L) | I13: 0.073
A14: ISS | B14: De | C14: 0.02 | E14: até | F14: 0.05 | H14: Tributos (T) | I14: 0.035
A15: PIS+COFINS | F15: 0.0365 | H15: PIS+COFINS | I15: 0.0365
A16: CPRB | C16: 0 | E16: ou | F16: 0.045 | H16: INSS desoneração (E) | I16: 0
A17: Controle
A18: Administração Central (AC) | B18: OK
A19: Seguro e Garantia (S+G) | B19: OK
A20: Risco (R) | B20: OK
A21: Despesas financeiras (DF) | B21: OK
A22: Lucro (L) | B22: OK
A23: Tributos (T) | B23: OK
A24: INSS desoneração (E) | B24: OK
A25: BDI CALCULADO ----> | B25: BDI = (1+AC+S+R+G)*(1+DF)*(1+L)/(1-(T+E)) | I25: =((1+I9+I10+I11)*(1+I12)*(1+I13))/(1-(I14+I16+I15))-1 -> 0.22652702
