Workbook
Name \0: #REF!
Name \0: #REF!
Name _________________________esc15: #REF!
Name _________________________esc15: #REF!
Name _________________________esc4: #REF!
Name _________________________esc4: #REF!
Name _________________________esc6: #REF!
Name _________________________esc6: #REF!
Name ________________________esc15: #REF!
Name ________________________esc15: #REF!
Name ________________________esc4: #REF!
Name ________________________esc4: #REF!
Name ________________________esc6: #REF!
Name ________________________esc6: #REF!
Name _______________________esc15: #REF!
Name _______________________esc15: #REF!
Name _______________________esc4: #REF!
Name _______________________esc4: #REF!
Name _______________________esc6: #REF!
Name _______________________esc6: #REF!
Name ______________________esc15: #REF!
Name ______________________esc15: #REF!
Name ______________________esc4: #REF!
Name ______________________esc4: #REF!
Name ______________________esc6: #REF!
Name ______________________esc6: #REF!
Name ____________________esc15: #REF!
Name ____________________esc15: #REF!
Name ____________________esc4: #REF!
Name ____________________esc4: #REF!
Name ____________________esc6: #REF!
Name ____________________esc6: #REF!
Name ___________________esc15: #REF!
Name ___________________esc15: #REF!
Name ___________________esc4: #REF!
Name ___________________esc4: #REF!
Name ___________________esc6: #REF!
Name ___________________esc6: #REF!
Name __________________esc15: #REF!
Name __________________esc15: #REF!
Name __________________esc4: #REF!
Name __________________esc4: #REF!
Name __________________esc6: #REF!
Name __________________esc6: #REF!
Name _________________esc15: #REF!
Name _________________esc15: #REF!
Name _________________esc4: #REF!
Name _________________esc4: #REF!
Name _________________esc6: #REF!
Name _________________esc6: #REF!
Name _______________esc15: #REF!
Name _______________esc15: #REF!
Name _______________esc4: #REF!
Name _______________esc4: #REF!
Name _______________esc6: #REF!
Name _______________esc6: #REF!
Name ______________esc15: #REF!
Name ______________esc15: #REF!
Name ______________esc4: #REF!
Name ______________esc4: #REF!

Sheet PLANILHA_RECONSTRUÇÃO
A1: PREFEITURA MUNICIPAL DE SANTA LUZIA
A4: Objeto: Reparo de danos decorrentes da chuva no municipio de Santa Luzia/MG | G4: Referências de preço
G5: SINAPI 06/22, SICRO 04/22
A7: Contagem, 13 de junho de 2023 | G7: Encargos | H7: BDI | I7: Valor total de Referência
G8: Não Desonerado | H8: =BDI!I27 -> 0.24211461 | I8: =I11 -> 1842712.3
A9: PLANILHA ORÇAMENTÁRIA
A10: ITEM | B10: FONTE | C10: CÓDIGO | D10: DESCRIÇÃO | E10: UNID | F10: QUANT | G10: CUSTO UNIT. S/BDI | H10: PREÇO UNIT. C/ BDI | I10: PREÇO TOTAL C/BDI | J10: PESO (%)
B11: META | C11: 2 | D11: MG020-PINHOES | I11: =SUBTOTAL(9,I12:I32) -> 1842712.3 | J11: =I11/$I$11 -> 1
A12: 1 | D12: SERVIÇOS PRELIMINARES | I12: =SUBTOTAL(9,I13:I17) -> 6974.96 | J12: =I12/$I$11 -> 0.0037851594
A13: 1.1 | B13: COMPOSIÇÃO | C13: CP-01 | D13: PLACA DE OBRA EM CHAPA GALVANIZADA N.22 - ADESIVADA - AFIXADA COM PEÇAS DE MADEIRA ROLIÇA TRATADA - D=12 A 15 CM | E13: U | F13: 1 | G13: =VLOOKUP(C13,COMPOSIÇÃO!$E$12:$G$115,3,0) -> 1583.18 | H13: =G13*(1+$H$8) -> 1966.491 | I13: =ROUND(H13*F13,2) -> 1966.49 | J13: =I13/$I$11 -> 0.0010671715
A14: 1.2 | B14: COMPOSIÇÃO | C14: CP-02 | D14: PROTEÇAO COM TELA TAPUME LARANJA - INCLUSIVE BASE - PEÇA 5 X 5 CM EM PINUS OU EQUIVALENTE DA REGIÃO | E14: M | F14: 45 | G14: =VLOOKUP(C14,COMPOSIÇÃO!$E$12:$G$115,3,0) -> 16.14 | H14: =G14*(1+$H$8) -> 20.04773 | I14: =ROUND(H14*F14,2) -> 902.15 | J14: =I14/$I$11 -> 0.00048957723
A15: 1.3 | B15: SINAPI-I | C15: 10777 | D15: LOCACAO DE CONTAINER 2,30 X 4,30 M, ALT. 2,50 M, PARA SANITARIO, COM 3 BACIAS, 4 CHUVEIROS, 1 LAVATORIO E 1 MICTORIO (NAO INCLUI MOBILIZACAO/DESMOBILIZACAO) | E15: MÊS | F15: 3 | G15: =VLOOKUP(C15,COMPOSIÇÃO!$E$12:$G$115,3,0) -> 1033.57 | H15: =G15*(1+$H$8) -> 1283.8124 | I15: =ROUND(H15*F15,2) -> 3851.44 | J15: =I15/$I$11 -> 0.0020900929
A16: 1.4 | B16: SICRO | C16: 5213383 | D16: Cavalete em polietileno zebrado com faixa refletiva - H = 1,00 m - utilização de 600 ciclos - fornecimento, 01 implantação e 01retirada diária | E16: un.dia | F16: 90 | G16: =VLOOKUP(C16,COMPOSIÇÃO!$E$12:$G$115,3,0) -> 1.48 | H16: =G16*(1+$H$8) -> 1.8383296 | I16: =ROUND(H16*F16,2) -> 165.45 | J16: =I16/$I$11 -> 8.9786125e-05
A17: 1.5 | B17: SICRO | C17: 5213835 | D17: Cone plástico para canalização de trânsito - utilização de 150 ciclos - fornecimento, 01 implantação e 01 retirada diária | E17: un.dia | F17: 90 | G17: =VLOOKUP(C17,COMPOSIÇÃO!$E$12:$G$115,3,0) -> 0.8 | H17: =G17*(1+$H$8) -> 0.99369169 | I17: =ROUND(H17*F17,2) -> 89.43 | J17: =I17/$I$11 -> 4.853172e-05
A18: 2 | D18: TOPOGRAFIA | I18: =SUBTOTAL(9,I19) -> 2375.17 | J18: =I18/$I$11 -> 0.0012889532
A19: 2.1 | B19: COMPOSIÇÃO | C19: CP-03 | D19: EQUIPE DE TOPOGRAFIA | E19: H | F19: 15 | G19: =VLOOKUP(C19,COMPOSIÇÃO!$E$12:$G$115,3,0) -> 127.48 | H19: =G19*(1+$H$8) -> 158.34477 | I19: =ROUND(H19*F19,2) -> 2375.17 | J19: =I19/$I$11 -> 0.0012889532
A20: 3 | D20: TRABALHOS EM TERRA | I20: =SUBTOTAL(9,I21:I23) -> 144412.88 | J20: =I20/$I$11 -> 0.078369736
A21: 3.1 | B21: SINAPI | C21: 101267 | D21: ESCAVAÇÃO VERTICAL A CÉU ABERTO, EM OBRAS DE INFRAESTRUTURA, INCLUINDO CARGA, DESCARGA E TRANSPORTE, EM SOLO DE 1ª CATEGORIA COM ESCAVADEIRA HIDRÁULICA (CAÇAMBA: 1,2 M³ / 155HP), FROTA DE 4 CAMINHÕES BASCULANTES DE 10 M³, DMT ATÉ 1 KM | E21: M3 | F21: 2057 | G21: =VLOOKUP(C21,COMPOSIÇÃO!$E$12:$G$115,3,0) -> 10.44 | H21: =G21*(1+$H$8) -> 12.967677 | I21: =ROUND(H21*F21,2) -> 26674.51 | J21: =I21/$I$11 -> 0.014475678
A22: 3.2 | B22: SINAPI | C22: 95875 | D22: TRANSPORTE COM CAMINHÃO BASCULANTE DE 10 M³, EM VIA URBANA PAVIMENTADA, DMT ATÉ 30 KM (UNIDADE: M3XKM). AF_07/2020 | E22: M3XKM | F22: 25987.5 | G22: =VLOOKUP(C22,COMPOSIÇÃO!$E$12:$G$115,3,0) -> 2.34 | H22: =G22*(1+$H$8) -> 2.9065482 | I22: =ROUND(H22*F22,2) -> 75533.92 | J22: =I22/$I$11 -> 0.040990619
A23: 3.3 | B23: SINAPI | C23: 93361 | D23: REATERRO MECANIZADO DE VALA COM ESCAVADEIRA HIDRÁULICA (CAPACIDADE DA CAÇAMBA: 0,8 M³ / POTÊNCIA: 111 HP), LARGURA ATÉ 1,5 M, PROFUNDIDADE DE 1,5 A 3,0 M, COM SOLO DE 1ª CATEGORIA EM LOCAIS COM ALTO NÍVEL DE INTERFERÊNCIA. AF_04/2016 | E23: M3 | F23: =F21/1.1 -> 1870 | G23: =VLOOKUP(C23,COMPOSIÇÃO!$E$12:$G$115,3,0) -> 18.17 | H23: =G23*(1+$H$8) -> 22.569223 | I23: =ROUND(H23*F23,2) -> 42204.45 | J23: =I23/$I$11 -> 0.022903439
A24: 4 | D24: CONTENÇÕES | I24: =SUBTOTAL(9,I25:I26) -> 1555115.4 | J24: =I24/$I$11 -> 0.84392735
A25: 4.1 | B25: SICRO | C25: 3205870 | D25: Gabião caixa 2 x 1 x 1,00 m Zn/Al - D = 2,7 mm - pedra de mão comercial - fornecimento e assentamento | E25: M3 | F25: 1870 | G25: =VLOOKUP(C25,COMPOSIÇÃO!$E$12:$G$115,3,0) -> 657.6 | H25: =G25*(1+$H$8) -> 816.81457 | I25: =ROUND(H25*F25,2) -> 1527443.2 | J25: =I25/$I$11 -> 0.8289103
A26: 4.2 | B26: SICRO | C26: 3205876 | D26: Gabião colchão espessura 0,30 m - Zn/Al + PVC - D = 2,0 mm - pedra de mão comercial - fornecimento e assentamento | E26: M2 | F26: 71.4 | G26: =VLOOKUP(C26,COMPOSIÇÃO!$E$12:$G$115,3,0) -> 312.02 | H26: =G26*(1+$H$8) -> 387.5646 | I26: =ROUND(H26*F26,2) -> 27672.11 | J26: =I26/$I$11 -> 0.015017054
A27: 5 | D27: DRENAGEM | I27: =SUBTOTAL(9,I28) -> 2310.08 | J27: =I27/$I$11 -> 0.0012536303
A28: 5.1 | B28: SINAPI | C28: 94289 | D28: EXECUÇÃO DE SARJETA DE CONCRETO USINADO, MOLDADA IN LOCO EM TRECHO RETO, 45 CM BASE X 10 CM ALTURA. AF_06/2016 | E28: M | F28: 34 | G28: =VLOOKUP(C28,COMPOSIÇÃO!$E$12:$G$115,3,0) -> 54.7 | H28: =G28*(1+$H$8) -> 67.943669 | I28: =ROUND(H28*F28,2) -> 2310.08 | J28: =I28/$I$11 -> 0.0012536303
A29: 6 | D29: SERVIÇOS COMPLEMENTARES | I29: =SUBTOTAL(9,I30) -> 2725.22 | J29: =I29/$I$11 -> 0.0014789178
A30: 6.1 | B30: SINAPI | C30: 94275 | D30: ASSENTAMENTO DE GUIA (MEIO-FIO) EM TRECHO RETO, CONFECCIONADA EM CONCRETO PRÉ-FABRICADO, DIMENSÕES 100X15X13X20 CM (COMPRIMENTO X BASE INFERIOR X BASE SUPERIOR X ALTURA), PARA URBANIZAÇÃO INTERNA DE EMPREENDIMENTOS. AF_06/2016_P | E30: M | F30: 34 | G30: =VLOOKUP(C30,COMPOSIÇÃO!$E$12:$G$115,3,0) -> 64.53 | H30: =G30*(1+$H$8) -> 80.153656 | I30: =ROUND(H30*F30,2) -> 2725.22 | J30: =I30/$I$11 -> 0.0014789178
A31: 7 | D31: ADMINISTRAÇÃO LOCAL | I31: =SUBTOTAL(9,I32) -> 128798.68 | J31: =I31/$I$11 -> 0.069896249
A32: 7.1 | D32: ADMINISTRACAO LOCAL - 10,68% - CONFORME ACÓRDÃO TCU 2622/2013-INCLUSIVE VEICULO PARA FISCALIZACAO | E32: UN | F32: 1 | G32: 103693.07 | H32: =G32*(1+$H$8) -> 128798.68 | I32: =ROUND(H32*F32,2) -> 128798.68 | J32: =I32/$I$11 -> 0.069896249
E45: RT AMBIENTAL LTDA
E46: CNPJ: 08.697.901/0001-96
E47: Cristiano Mendonça de Novaes
E48: CPF: 006.488.636-03
E49: Diretor Presidente

Sheet COMPOSIÇÃO
A1: PREFEITURA MUNICIPAL DE SANTA LUZIA
A5: ='[10]PLANILHA-GERAL'!A4 -> Objeto: Reparo de danos decorrentes da chuva no municipio de Santa Luzia/MG
A8: =PLANILHA_RECONSTRUÇÃO!A7 -> Contagem, 13 de junho de 2023
A9: Composições analíticas
A11: COMPOSIÇÃO | B11: CP-01 | C11: PLACA DE OBRA EM CHAPA GALVANIZADA N.22 - ADESIVADA - AFIXADA COM PEÇAS DE MADEIRA ROLIÇA TRATADA, D=12 A 15 CM | D11: UND | E11: ÍNDICE | F11: UNITÁRIO | G11: TOTAL
A12: SINAPI | B12: 88309 | C12: PEDREIRO COM ENCARGOS COMPLEMENTARES | D12: h | E12: 0.65 | F12: 25.14 | G12: =ROUND(E12*F12,2) -> 16.34
A13: SINAPI | B13: 88316 | C13: SERVENTE COM ENCARGOS COMPLEMENTARES | D13: h | E13: 0.60099889 | F13: 18.02 | G13: =ROUND(E13*F13,2) -> 10.83
A14: SINAPI-I | B14: 4115 | C14: MADEIRA ROLICA TRATADA, D = 12 A 15 CM, H = 3,00 M, EM EUCALIPTO OU EQUIVALENTE DA REGIAO | D14: m | E14: 9 | F14: 19.29 | G14: =ROUND(E14*F14,2) -> 173.61
A15: SINAPI-I | B15: 4813 | C15: PLACA DE OBRA (PARA CONSTRUCAO CIVIL) EM CHAPA GALVANIZADA *N. 22*, ADESIVADA, DE *2,4 X 1,2* M (SEM POSTES PARA FIXACAO) | D15: m² | E15: 2.88 | F15: 480 | G15: =ROUND(E15*F15,2) -> 1382.4
E16: CP-01 | F16: TOTAL | G16: =SUM(G12:G15) -> 1583.18
A18: COMPOSIÇÃO | B18: CP-02 | C18: PROTEÇAO COM TELA TAPUME LARANJA - INCLUSIVE BASE - PEÇA 5 X 5 CM EM PINUS OU EQUIVALENTE DA REGIÃO | D18: M | E18: ÍNDICE | F18: UNITÁRIO | G18: TOTAL
A19: SINAPI | B19: 94975 | C19: CONCRETO FCK = 15MPA, TRAÇO 1:3,4:3,5 (EM MASSA SECA DE CIMENTO/ AREIA MÉDIA/ BRITA 1) - PREPARO MANUAL. AF_05/2021 | D19: m³ | E19: 0.004 | F19: 459.52 | G19: =ROUND(E19*F19,2) -> 1.84
A20: SINAPI | B20: 96541 | C20: FABRICAÇÃO, MONTAGEM E DESMONTAGEM DE FÔRMA PARA SAPATA, EM CHAPA DE MADEIRA COMPENSADA RESINADA, E=17 MM, 4 UTILIZAÇÕES. AF_06/2017 | D20: m² | E20: 0.02 | F20: 185.01 | G20: =ROUND(E20*F20,2) -> 3.7
A21: SINAPI | B21: 88316 | C21: SERVENTE COM ENCARGOS COMPLEMENTARES | D21: h | E21: 0.031076582 | F21: 18.02 | G21: =ROUND(E21*F21,2) -> 0.56
A22: SINAPI-I | B22: 4513 | C22: CAIBRO 5 X 5 CM EM PINUS, MISTA OU EQUIVALENTE DA REGIAO - BRUTA | D22: m | E22: 1.25 | F22: 5.84 | G22: =ROUND(E22*F22,2) -> 7.3
A23: SINAPI-I | B23: 37524 | C23: TELA PLASTICA LARANJA, TIPO TAPUME PARA SINALIZACAO, MALHA RETANGULAR, ROLO 1.20 X 50 M (L X C) | D23: m | E23: 1 | F23: 2.74 | G23: =ROUND(E23*F23,2) -> 2.74
E24: CP-02 | F24: TOTAL | G24: =SUM(G19:G23) -> 16.14
A26: SINAPI-I | B26: 10777 | C26: =VLOOKUP(B26,PLANILHA_RECONSTRUÇÃO!$C$11:$J$32,2,0) -> LOCACAO DE CONTAINER 2,30 X 4,30 M, ALT. 2,50 M, PARA SANITARIO, COM 3 BACIAS, 4 CHUVEIROS, 1 LAVATORIO E 1 MICTORIO (NAO INCLUI MOBILIZACAO/DESMOBILIZACAO) | D26: =VLOOKUP(B26,PLANILHA_RECONSTRUÇÃO!$C$11:$J$32,3,0) -> MÊS | E26: ÍNDICE | F26: UNITÁRIO | G26: TOTAL
A27: SINAPI-I | B27: 10777 | C27: LOCACAO DE CONTAINER 2,30 X 4,30 M, ALT. 2,50 M, PARA SANITARIO, COM 3 BACIAS, 4 CHUVEIROS, 1 LAVATORIO E 1 MICTORIO (NAO INCLUI MOBILIZACAO/DESMOBILIZACAO) | D27: MÊS | E27: 1 | F27: 1033.57 | G27: =ROUND(F27*E27,2) -> 1033.57
E28: 10777 | F28: TOTAL | G28: =SUM(G27:G27) -> 1033.57
A30: SICRO | B30: 5213383 | C30: =VLOOKUP(B30,PLANILHA_RECONSTRUÇÃO!$C$11:$J$32,2,0) -> Cavalete em polietileno zebrado com faixa refletiva - H = 1,00 m - utilização de 600 ciclos - fornecimento, 01 implantação e 01retirada diária | D30: =VLOOKUP(B30,PLANILHA_RECONSTRUÇÃO!$C$11:$J$32,3,0) -> un.dia | E30: ÍNDICE | F30: UNITÁRIO | G30: TOTAL
A31: SICRO | B31: M0771 | C31: Cavalete em polietileno zebrado com faixa refletiva | D31: un | E31: 0.00167 | F31: 315.75 | G31: =ROUND(F31*E31,2) -> 0.53
A32: SICRO | B32: 5914655 | C32: Cavalete em polietileno zebrado com faixa refletiva - Caminhão carroceria 15 t | D32: t | E32: 0.029025359 | F32: 32.73 | G32: =ROUND(F32*E32,2) -> 0.95
E33: 5213383 | F33: TOTAL | G33: =SUM(G31:G32) -> 1.48
A35: SICRO | B35: 5213835 | C35: =VLOOKUP(B35,PLANILHA_RECONSTRUÇÃO!$C$11:$J$32,2,0) -> Cone plástico para canalização de trânsito - utilização de 150 ciclos - fornecimento, 01 implantação e 01 retirada diária | D35: =VLOOKUP(B35,PLANILHA_RECONSTRUÇÃO!$C$11:$J$32,3,0) -> un.dia | E35: ÍNDICE | F35: UNITÁRIO | G35: TOTAL
A36: SICRO | B36: M0047 | C36: Cone de sinalização em polietileno - H = 75 cm e base quadrada de 40 x 40 cm | D36: un | E36: 0.00667 | F36: 88.657 | G36: =ROUND(F36*E36,2) -> 0.59
A37: SICRO | B37: 5914655 | C37: Cone de sinalização em polietileno - H = 75 cm e base quadrada de 40 x 40 cm - Caminhão carroceria 15 t | D37: t | E37: 0.006416132 | F37: 32.73 | G37: =ROUND(F37*E37,2) -> 0.21
E38: 5213835 | F38: TOTAL | G38: =SUM(G36:G37) -> 0.8
A40: COMPOSIÇÃO | B40: CP-03 | C40: EQUIPE DE TOPOGRAFIA | D40: H | E40: ÍNDICE | F40: UNITÁRIO | G40: TOTAL
A41: SINAPI | B41: 88253 | C41: AUXILIAR DE TOPÓGRAFO COM ENCARGOS COMPLEMENTARES | D41: h | E41: 1.9315287 | F41: 18.84 | G41: =ROUND(F41*E41,2) -> 36.39
A42: SINAPI | B42: 90781 | C42: TOPOGRAFO COM ENCARGOS COMPLEMENTARES | D42: h | E42: 1 | F42: 39.98 | G42: =ROUND(F42*E42,2) -> 39.98
A43: SINAPI | B43: 90778 | C43: ENGENHEIRO CIVIL DE OBRA PLENO COM ENCARGOS COMPLEMENTARES | D43: h | E43: 0.4458 | F43: 114.64 | G43: =ROUND(F43*E43,2) -> 51.11
E44: CP-03 | F44: TOTAL | G44: =SUM(G41:G43) -> 127.48
A46: SINAPI | B46: 101267 | C46: =VLOOKUP(B46,PLANILHA_RECONSTRUÇÃO!$C$11:$J$32,2,0) -> ESCAVAÇÃO VERTICAL A CÉU ABERTO, EM OBRAS DE INFRAESTRUTURA, INCLUINDO CARGA, DESCARGA E TRANSPORTE, EM SOLO DE 1ª CATEGORIA COM ESCAVADEIRA HIDRÁULICA (CAÇAMBA: 1,2 M³ / 155HP), FROTA DE 4 CAMINHÕES BASCULANTES DE 10 M³, DMT ATÉ 1 KM | D46: =VLOOKUP(B46,PLANILHA_RECONSTRUÇÃO!$C$11:$J$32,3,0) -> M3 | E46: ÍNDICE | F46: UNITÁRIO | G46: TOTAL
A47: SINAPI | B47: 88316 | C47: SERVENTE COM ENCARGOS COMPLEMENTARES | D47: H | E47: 0.0033296337 | F47: 18.02 | G47: =ROUND(F47*E47,2) -> 0.06
A48: SINAPI | B48: 88907 | C48: ESCAVADEIRA HIDRÁULICA SOBRE ESTEIRAS, CAÇAMBA 1,20 M3, PESO OPERACIONAL 21 T, POTÊNCIA BRUTA 155 HP - CHP DIURNO. AF_06/2014 | D48: CHP | E48: 0.0086 | F48: 262.18 | G48: =ROUND(F48*E48,2) -> 2.25
A49: SINAPI | B49: 88908 | C49: ESCAVADEIRA HIDRÁULICA SOBRE ESTEIRAS, CAÇAMBA 1,20 M3, PESO OPERACIONAL 21 T, POTÊNCIA BRUTA 155 HP - CHI DIURNO. AF_06/2014 | D49: CHI | E49: 0.0022 | F49: 86.46 | G49: =ROUND(F49*E49,2) -> 0.19
A50: SINAPI | B50: 91386 | C50: CAMINHÃO BASCULANTE 10 M3, TRUCADO CABINE SIMPLES, PESO BRUTO TOTAL 23.000 KG, CARGA ÚTIL MÁXIMA 15.935 KG, DISTÂNCIA ENTRE EIXOS 4,80 M, POTÊNCIA 230 CV INCLUSIVE CAÇAMBA METÁLICA - CHP DIURNO. AF_06/2014 | D50: CHP | E50: 0.027 | F50: 263.53 | G50: =ROUND(F50*E50,2) -> 7.12
A51: SINAPI | B51: 91387 | C51: CAMINHÃO BASCULANTE 10 M3, TRUCADO CABINE SIMPLES, PESO BRUTO TOTAL 23.000 KG, CARGA ÚTIL MÁXIMA 15.935 KG, DISTÂNCIA ENTRE EIXOS 4,80 M, POTÊNCIA 230 CV INCLUSIVE CAÇAMBA METÁLICA - CHI DIURNO. AF_06/2014 | D51: CHI | E51: 0.0159 | F51: 51.48 | G51: =ROUND(F51*E51,2) -> 0.82
E52: 101267 | F52: TOTAL | G52: =SUM(G47:G51) -> 10.44
...

Sheet BDI
A1: PREFEITURA MUNICIPAL DE SANTA LUZIA
A5: ='[10]PLANILHA-GERAL'!A4 -> Objeto: Reparo de danos decorrentes da chuva no municipio de Santa Luzia/MG
A6: =PLANILHA_RECONSTRUÇÃO!A7:F7 -> Contagem, 13 de junho de 2023
A7: Acórdão TCU 2622/2013
A8: Parâmetros para cálculo do BDI
A9: Itens Admissíveis | B9: Intervalos admissíveis sem justificativa | H9: Índices adotados
A11: Administração Central (AC) | B11: De | C11: 0.038 | E11: até | F11: 0.0467 | H11: Administração Central (AC) | I11: 0.0467
A12: Seguro e Garantia (S+G) | B12: De | C12: 0.0032 | E12: até | F12: 0.0074 | H12: Seguro e Garantia (S+G) | I12: 0.0074
A13: Risco (R) | B13: De | C13: 0.005 | E13: até | F13: 0.0097 | H13: Risco (R) | I13: 0.0056
A14: Despesas financeiras (DF) | B14: De | C14: 0.0102 | E14: até | F14: 0.0121 | H14: Despesas financeiras (DF) | I14: 0.0121
A15: Lucro (L) | B15: De | C15: 0.0664 | E15: até | F15: 0.0869 | H15: Lucro (L) | I15: 0.0869
A16: ISS | B16: De | C16: 0.02 | E16: até | F16: 0.05 | H16: Tributos (T) | I16: 0.025
A17: PIS+COFINS | F17: 0.0365 | H17: PIS+COFINS | I17: 0.0365
A18: CPRB | C18: 0 | E18: ou | F18: 0.045 | H18: INSS desoneração (E) | I18: 0
A19: Controle
A20: Administração Central (AC) | B20: OK
A21: Seguro e Garantia (S+G) | B21: OK
A22: Risco (R) | B22: OK
A23: Despesas financeiras (DF) | B23: OK
A24: Lucro (L) | B24: OK
A25: Tributos (T) | B25: OK
A26: INSS desoneração (E) | B26: OK
A27: BDI CALCULADO ----> | B27: BDI = (1+AC+S+R+G)*(1+DF)*(1+L)/(1-(T+E)) | I27: =((1+I11+I12+I13)*(1+I14)*(1+I15))/(1-(I16+I18+I17))-1 -> 0.24211461
E34: RT AMBIENTAL LTDA
E35: CNPJ: 08.697.901/0001-96
E36: Cristiano Mendonça de Novaes
E37: CPF: 006.488.636-03
E38: Diretor Presidente

Sheet CRONO_MG20-PINHÕES
A1: PREFEITURA MUNICIPAL DE SANTA LUZIA
A4: ='[11]ORC. RUA CHINA'!A3:D3 -> Objeto: Reparo de danos decorrentes da chuva no municipio de Santa Luzia/MG
A6: =PLANILHA_RECONSTRUÇÃO!A7 -> Contagem, 13 de junho de 2023
A7: Cronograma FÍsico-Financeiro - MG020-PINHÕES
A8: ITEM | B8: DISCRIMINAÇÃO | C8: VALOR | D8: DIA
D9: 30 | E9: 60 | F9: 90 | G9: 120 | H9: 150 | I9: 180
A11: 1 | B11: =VLOOKUP(A11,PLANILHA_RECONSTRUÇÃO!$A$12:$I$32,4,FALSE) -> SERVIÇOS PRELIMINARES | C11: =VLOOKUP(A11,PLANILHA_RECONSTRUÇÃO!$A$12:$I$32,9,FALSE) -> 6974.96 | D11: 1
D12: =D$11*$C$11 -> 6974.96 | E12: =E$11*$C$11 -> 0 | F12: =F$11*$C$11 -> 0 | G12: =G$11*$C$11 -> 0 | H12: =H$11*$C$11 -> 0 | I12: =I$11*$C$11 -> 0
A13: 2 | B13: =VLOOKUP(A13,PLANILHA_RECONSTRUÇÃO!$A$12:$I$32,4,FALSE) -> TOPOGRAFIA | C13: =VLOOKUP(A13,PLANILHA_RECONSTRUÇÃO!$A$12:$I$32,9,FALSE) -> 2375.17 | D13: 1
D14: =D$13*$C$13 -> 2375.17 | E14: =E$13*$C$13 -> 0 | F14: =F$13*$C$13 -> 0 | G14: =G$13*$C$13 -> 0 | H14: =H$13*$C$13 -> 0 | I14: =I$13*$C$13 -> 0
A15: 3 | B15: =VLOOKUP(A15,PLANILHA_RECONSTRUÇÃO!$A$12:$I$32,4,FALSE) -> TRABALHOS EM TERRA | C15: =VLOOKUP(A15,PLANILHA_RECONSTRUÇÃO!$A$12:$I$32,9,FALSE) -> 144412.88 | E15: 0.5 | F15: 0.5
D16: =D$15*$C$15 -> 0 | E16: =E$15*$C$15 -> 72206.44 | F16: =F$15*$C$15 -> 72206.44 | G16: =G$15*$C$15 -> 0 | H16: =H$15*$C$15 -> 0 | I16: =I$15*$C$15 -> 0
A17: 4 | B17: =VLOOKUP(A17,PLANILHA_RECONSTRUÇÃO!$A$12:$I$32,4,FALSE) -> CONTENÇÕES | C17: =VLOOKUP(A17,PLANILHA_RECONSTRUÇÃO!$A$12:$I$32,9,FALSE) -> 1555115.4 | F17: 0.25 | G17: 0.5 | H17: 0.25
D18: =D$17*$C$17 -> 0 | E18: =E$17*$C$17 -> 0 | F18: =F$17*$C$17 -> 388778.84 | G18: =G$17*$C$17 -> 777557.68 | H18: =H$17*$C$17 -> 388778.84 | I18: =I$17*$C$17 -> 0
A19: 5 | B19: =VLOOKUP(A19,PLANILHA_RECONSTRUÇÃO!$A$12:$I$32,4,FALSE) -> DRENAGEM | C19: =VLOOKUP(A19,PLANILHA_RECONSTRUÇÃO!$A$12:$I$32,9,FALSE) -> 2310.08 | H19: 0 | I19: 1
D20: =D$19*$C$19 -> 0 | E20: =E$19*$C$19 -> 0 | F20: =F$19*$C$19 -> 0 | G20: =G$19*$C$19 -> 0 | H20: =H$19*$C$19 -> 0 | I20: =I$19*$C$19 -> 2310.08
A21: 6 | B21: =VLOOKUP(A21,PLANILHA_RECONSTRUÇÃO!$A$12:$I$32,4,FALSE) -> SERVIÇOS COMPLEMENTARES | C21: =VLOOKUP(A21,PLANILHA_RECONSTRUÇÃO!$A$12:$I$32,9,FALSE) -> 2725.22 | I21: 1
D22: =D$21*$C$21 -> 0 | E22: =E$21*$C$21 -> 0 | F22: =F$21*$C$21 -> 0 | G22: =G$21*$C$21 -> 0 | H22: =H$21*$C$21 -> 0 | I22: =I$21*$C$21 -> 2725.22
A23: 7 | B23: =VLOOKUP(A23,PLANILHA_RECONSTRUÇÃO!$A$12:$I$32,4,FALSE) -> ADMINISTRAÇÃO LOCAL | C23: =VLOOKUP(A23,PLANILHA_RECONSTRUÇÃO!$A$12:$I$32,9,FALSE) -> 128798.68 | D23: 0.0070308674 | E23: 0.045807685 | F23: 0.26989328 | G23: 0.44817119 | H23: 0.2240856 | I23: 0.0050113777
D24: =D$23*$C$23 -> 905.56644 | E24: =E$23*$C$23 -> 5899.9694 | F24: =F$23*$C$23 -> 34761.898 | G24: =G$23*$C$23 -> 57723.858 | H24: =H$23*$C$23 -> 28861.929 | I24: =I$23*$C$23 -> 645.45883
A25: % SIMPLES | D25: =D26/$I$28 -> 0.0055655439 | E25: =E26/$I$28 -> 0.042386653 | F25: =F26/$I$28 -> 0.26903123 | G25: =G26/$I$28 -> 0.45328916 | H25: =H26/$I$28 -> 0.22664458 | I25: =I26/$I$28 -> 0.0030828245
A26: R$ SIMPLES | D26: =D12+D14+D16+D18+D20+D22+D24 -> 10255.696 | E26: =E12+E14+E16+E18+E20+E22+E24 -> 78106.409 | F26: =F12+F14+F16+F18+F20+F22+F24 -> 495747.18 | G26: =G12+G14+G16+G18+G20+G22+G24 -> 835281.53 | H26: =H12+H14+H16+H18+H20+H22+H24 -> 417640.77 | I26: =I12+I14+I16+I18+I20+I22+I24 -> 5680.7588
A27: % ACUMULADO | D27: =D25 -> 0.0055655439 | E27: =D27+E25 -> 0.047952197 | F27: =E27+F25 -> 0.31698343 | G27: =F27+G25 -> 0.77027259 | H27: =G27+H25 -> 0.99691718 | I27: =H27+I25 -> 1
A28: R$ ACUMULADO | D28: =D26 -> 10255.696 | E28: =D28+E26 -> 88362.106 | F28: =E28+F26 -> 584109.28 | G28: =F28+G26 -> 1419390.8 | H28: =G28+H26 -> 1837031.6 | I28: =H28+I26 -> 1842712.3
D36: RT AMBIENTAL LTDA
D37: CNPJ: 08.697.901/0001-96
D38: Cristiano Mendonça de Novaes
D39: CPF: 006.488.636-03
D40: Diretor Presidente

Sheet ENCARGOS EDIFICAÇÕES
A1: RT AMBIENTAL LTDA
A5: DEMONSTRATIVO DOS ENCARGOS SOCIAIS - OBRAS DE EDIFICAÇÃO
A7: MINAS GERAIS | F7: VIGÊNCIA A PARTIR DE 12/2022
A9: ENCARGOS SOCIAIS SOBRE A MÃO DE OBRA
A10: CÓDIGO | B10: DESCRIÇÃO | C10: COM DESONERAÇÃO | E10: SEM DESONERAÇÃO
C11: HORISTA % | D11: MENSALISTA % | E11: HORISTA % | F11: MENSALISTA %
A12: GRUPO A
A13: A1 | B13: INSS | C13: 0 | D13: 0 | E13: 0.2 | F13: 0.2
A14: A2 | B14: SESI | C14: 0.015 | D14: 0.015 | E14: 0.015 | F14: 0.015
A15: A3 | B15: SENAI | C15: 0.01 | D15: 0.01 | E15: 0.01 | F15: 0.01
A16: A4 | B16: INCRA | C16: 0.002 | D16: 0.002 | E16: 0.002 | F16: 0.002
A17: A5 | B17: SEBRAE | C17: 0.006 | D17: 0.006 | E17: 0.006 | F17: 0.006
A18: A6 | B18: Salário Educação | C18: 0.025 | D18: 0.025 | E18: 0.025 | F18: 0.025
A19: A7 | B19: Seguro Contra Acidentes de Trabalho | C19: 0.03 | D19: 0.03 | E19: 0.03 | F19: 0.03
A20: A8 | B20: FGTS | C20: 0.08 | D20: 0.08 | E20: 0.08 | F20: 0.08
A21: A9 | B21: SECONCI | C21: 0.012 | D21: 0.012 | E21: 0.012 | F21: 0.012
A22: A | B22: Total | C22: =SUM(C13:C21) -> 0.18 | D22: =SUM(D13:D21) -> 0.18 | E22: =SUM(E13:E21) -> 0.38 | F22: =SUM(F13:F21) -> 0.38
A23: GRUPO B
A24: B1 | B24: Repouso Semanal Remunerado | C24: 0.1777 | D24: Não Incide | E24: 0.1777 | F24: Não Incide
A25: B2 | B25: Feriados | C25: 0.0368 | D25: Não Incide | E25: 0.0368 | F25: Não Incide
A26: B3 | B26: Auxílio - Enfermidade | C26: 0.0088 | D26: 0.0066 | E26: 0.0088 | F26: 0.0066
A27: B4 | B27: 13º Salário | C27: 0.111 | D27: 0.0833 | E27: 0.111 | F27: 0.0833
A28: B5 | B28: Licença Paternidade | C28: 0.0007 | D28: 0.0005 | E28: 0.0007 | F28: 0.0005
A29: B6 | B29: Faltas Justificadas | C29: 0.0074 | D29: 0.0056 | E29: 0.0074 | F29: 0.0056
A30: B7 | B30: Dias de Chuva | C30: 0.0109 | D30: Não Incide | E30: 0.0109 | F30: Não Incide
A31: B8 | B31: Auxílio Acidente de Trabalho | C31: 0.0011 | D31: 0.0008 | E31: 0.0011 | F31: 0.0008
A32: B9 | B32: Férias Gozadas | C32: 0.1435 | D32: 0.1077 | E32: 0.1435 | F32: 0.1077
A33: B10 | B33: Salário Maternidade | C33: 0.0004 | D33: 0.0003 | E33: 0.0004 | F33: 0.0003
A34: B | B34: Total | C34: =SUM(C24:C33) -> 0.4983 | D34: =SUM(D24:D33) -> 0.2048 | E34: =SUM(E24:E33) -> 0.4983 | F34: =SUM(F24:F33) -> 0.2048
A35: GRUPO C
A36: C1 | B36: Aviso Prévio Indenizado | C36: 0.0599 | D36: 0.045 | E36: 0.0599 | F36: 0.045
A37: C2 | B37: Aviso Prévio Trabalhado | C37: 0.0014 | D37: 0.0011 | E37: 0.0014 | F37: 0.0011
A38: C3 | B38: Férias Indenizadas | C38: 0 | D38: 0 | E38: 0 | F38: 0
A39: C4 | B39: Depósito Rescisão Sem Justa Causa | C39: 0.027 | D39: 0.0203 | E39: 0.027 | F39: 0.0203
A40: C5 | B40: Indenização Adicional | C40: 0.005 | D40: 0.0038 | E40: 0.005 | F40: 0.0038
A41: C | B41: Total | C41: =SUM(C36:C40) -> 0.0933 | D41: =SUM(D36:D40) -> 0.0702 | E41: =SUM(E36:E40) -> 0.0933 | F41: =SUM(F36:F40) -> 0.0702
A42: GRUPO D
A43: D1 | B43: Reincidência de Grupo A sobre Grupo B | C43: 0.0897 | D43: 0.0369 | E43: 0.1894 | F43: 0.0778
A44: D2 | B44: Reincidência de Grupo A sobre Aviso Prévio Trabalhado e Reincidência do FGTS sobre Aviso Prévio Indenizado | C44: 0.005 | D44: 0.0038 | E44: 0.0053 | F44: 0.004
A45: D | B45: Total | C45: =SUM(C43:C44) -> 0.0947 | D45: =SUM(D43:D44) -> 0.0407 | E45: =SUM(E43:E44) -> 0.1947 | F45: =SUM(F43:F44) -> 0.0818
...

Sheet ENCARGOS RODOVIÁRIA
A1: RT AMBIENTAL LTDA
A6: DEMONSTRATIVO DOS ENCARGOS SOCIAIS - OBRAS RODOVIÁRIAS
A8: ENCARGOS SOCIAIS SOBRE A MÃO DE OBRA
A9: CÓDIGO | B9: DESCRIÇÃO | C9: COM DESONERAÇÃO | D9: SEM DESONERAÇÃO
C10: HORISTA % | D10: HORISTA %
A11: GRUPO A
A12: 1 | B12: INSS | C12: 0 | D12: 0.2
A13: 2 | B13: SESI | C13: 0.015 | D13: 0.015
A14: 3 | B14: SENAI | C14: 0.01 | D14: 0.01
A15: 4 | B15: SEBRAE | C15: 0.006 | D15: 0.006
A16: 5 | B16: INCRA | C16: 0.002 | D16: 0.002
A17: 6 | B17: SALÁRIO EDUCAÇÃO | C17: 0.025 | D17: 0.025
A18: 7 | B18: RAT-RISTCO DE ACIDENTE TRABALHO X FAT - FATOR ACIDENTÁRIO DE PREVENÇÃO | C18: 0.03 | D18: 0.03
A19: 8 | B19: FGTS | C19: 0.08 | D19: 0.08
A20: A | B20: Total | C20: =SUM(C12:C19) -> 0.168 | D20: =SUM(D12:D19) -> 0.368
A21: GRUPO B
A22: 9 | B22: REPOUSO SEMANAL | C22: 0.192 | D22: 0.192
A23: 10 | B23: FÉRIAS | C23: 0.1263 | D23: 0.1263
A24: 11 | B24: FERIADOS | C24: 0.0462 | D24: 0.0462
A25: 12 | B25: FALTAS JUSTIFICADAS | C25: 0.0056 | D25: 0.0056
A26: 13 | B26: AUXÍLIO ENFERMIDADE E ACID. TRABALHO | C26: 0.0222 | D26: 0.0222
A27: 14 | B27: DESCANSO PATERNIDADE | C27: 0.0012 | D27: 0.0012
A28: 15 | B28: 13º SALÁRIO | C28: 0.1108 | D28: 0.1108
A29: B | B29: Total | C29: =SUM(C22:C28) -> 0.5043 | D29: =SUM(D22:D28) -> 0.5043
A30: GRUPO C
A31: 16 | B31: MULTA SOBRE FGTS (s/ justa causa) | C31: 0.0417 | D31: 0.0417
A32: 17 | B32: MULTA S/ FGTS-ADICIONAL (s/ justa causa) | C32: 0.0104 | D32: 0.0104
A33: 18 | B33: AVISO PRÉVIO INDEZINADO | C33: 0.1053 | D33: 0.1053
A34: 19 | B34: ACICIONAL A.P. (1/12 s/ férias e 13º Salário) | C34: 0.0198 | D34: 0.0198
A35: 20 | B35: INDENIZAÇÃO ADICIONAL | C35: 0.0087 | D35: 0.0087
A36: C | B36: Total | C36: =SUM(C31:C35) -> 0.1859 | D36: =SUM(D31:D35) -> 0.1859
A37: GRUPO D
A38: 21 | B38: REINCIDÊNCIA DE GRUPO A SOBRE GRUPO B | C38: 0.0847 | D38: 0.1856
A39: 22 | B39: REINCIDÊNCIA FGTS S/ADIC. A.P. NO 13º SALÁRIO E 1/3 FÉRIAS | C39: 0.0014 | D39: 0.0014
A40: 23 | B40: REINCIDÊNCIA DO FGTS S/ADIC. A.P. NO 13º SALÁRIO E 1/3 FÉRIAS - ADICIONAL | C40: 0.0011 | D40: 0.0011
A41: 24 | B41: LICENÇA MATERNIDADE | C41: 0.0005 | D41: 0.0005
A42: D | B42: Total | C42: =SUM(C38:C41) -> 0.0877 | D42: =SUM(D38:D41) -> 0.1886
A43: TOTAL (A+B+C+D) | C43: =C20+C29+C36+C42 -> 0.9459 | D43: =D20+D29+D36+D42 -> 1.2468
A49: RT AMBIENTAL LTDA
A50: CNPJ: 08.697.901/0001-96
...
