Workbook
Name x: [1]ORÇAMENTO!#REF!

Sheet ORÇAMENTO
A1: A Prefeitura Municipal de Santa Luzia - MG Objeto: construção de Quadras Sintéticas Tomada de Preço Nº 066/2023 Processo Administrativo Nº 7400/2023
F2: BDI | G2: 0.2369
A3: PLANILHA ORÇAMENTÁRIA | J3: ESTIMADO | K3: 1027870.2 | L3: =L4/K3 -> 0.14124162
A4: Item | B4: Descrição | C4: Unidade | D4: Quantidade | E4: Custo Unitário (sem BDI) (R$) | F4: Preço Unitário (com BDI) (R$) | G4: Preço Total (R$) | J4: PROPOSTO | K4: =G5 -> 882692.15 | L4: =K3-K4 -> 145178.05
G5: =SUM(G6,G95) -> 882692.15 | J5: DESCONTO | K5: 0.1
A6: 1 | B6: QUADRA SINTÉTICA PALMITAL | G6: =SUM(G7,G13,G18,G21,G40,G56,G63,G87) -> 446676.21
A7: 1.1 | B7: SERVIÇOS PRELIMINARES | G7: =SUM(G8:G12) -> 25122.52
A8: 1.1.1 | B8: FORNECIMENTO E COLOCAÇÃO DE PLACA DE OBRA EM CHAPA GALVANIZADA #26, ESP. 0,45 MM, PLOTA DA COM ADESIVO VINÍLICO, AFIXADA COM REBITES 4,8X40 MM, EM ESTRUTURA METÁLICA DE METALON 20X20 MM, ESP. 1,25 MM, INCLUSIVE SUPORTE EM EUCALIPTO AUTOCLAVADO PINTADO COM TINTA PVA DUAS (2) DEMÃOS | C8: m² | D8: 4.5 | E8: =K8 -> 268.09 | F8: =ROUND(E8*(1+$G$2),2) -> 331.6 | G8: =ROUND(F8*D8,2) -> 1492.2 | J8: 297.88 | K8: =IF(J8="","",ROUND(J8*(1-$K$5-I8),2)) -> 268.09 | L8: =IF(J8="","",(J8-K8)/J8) -> 0.10000671
A9: 1.1.2 | B9: TAPUME PADRAO SUDECAP (TIPO I, II E III) - COMPENSADO 10MM FIXAÇAO ENTERRADA SEM INFORME PBH | C9: m | D9: 117.42 | E9: =K9 -> 94.29 | F9: =ROUND(E9*(1+$G$2),2) -> 116.63 | G9: =ROUND(F9*D9,2) -> 13694.69 | J9: 104.77 | K9: =IF(J9="","",ROUND(J9*(1-$K$5-I9),2)) -> 94.29 | L9: =IF(J9="","",(J9-K9)/J9) -> 0.10002863
A10: 1.1.3 | B10: LOCACAO CONVENCIONAL DE OBRA, UTILIZANDO GABARITO DE TÁBUAS CORRIDAS PONTALETADAS A CADA 2,00M - 2 UTILIZAÇÕES. AF_10/2018 | C10: m | D10: 110.4 | E10: =K10 -> 60.33 | F10: =ROUND(E10*(1+$G$2),2) -> 74.62 | G10: =ROUND(F10*D10,2) -> 8238.05 | J10: 67.03 | K10: =IF(J10="","",ROUND(J10*(1-$K$5-I10),2)) -> 60.33 | L10: =IF(J10="","",(J10-K10)/J10) -> 0.099955244
A11: 1.1.4 | B11: LIGAÇÃO DE ÁGUA PROVISÓRIA PARA CANTEIRO, INCLUSIVE HIDRÔMETRO E CAVALETE PARA MEDIÇÃO DE ÁGUA - ENTRADA PRINCIPAL, EM AÇO GALVANIZADO DN 20MM (1/2") - PADRÃO CONCESSIONÁRIA | C11: un | D11: 1 | E11: =K11 -> 338.72 | F11: =ROUND(E11*(1+$G$2),2) -> 418.96 | G11: =ROUND(F11*D11,2) -> 418.96 | J11: 376.36 | K11: =IF(J11="","",ROUND(J11*(1-$K$5-I11),2)) -> 338.72 | L11: =IF(J11="","",(J11-K11)/J11) -> 0.10001063
A12: 1.1.5 | B12: LIGAÇÃO PROVISÓRIA COM ENTRADA DE ENERGIA AÉREA, PADRÃO CEMIG, CARGA INSTALA DA DE 15,1KVA ATÉ 30KVA, TRIFÁ SICO , COM SAÍDA SUBTERRÂNEA, INCLUSIVE POSTE, CAIXA PARA MEDIDOR, DISJUNTOR, BARRAMENTO , ATERRAMENTO E ACESSÓRIOS | C12: un | D12: 1 | E12: =K12 -> 1033.73 | F12: =ROUND(E12*(1+$G$2),2) -> 1278.62 | G12: =ROUND(F12*D12,2) -> 1278.62 | J12: 1148.59 | K12: =IF(J12="","",ROUND(J12*(1-$K$5-I12),2)) -> 1033.73 | L12: =IF(J12="","",(J12-K12)/J12) -> 0.10000087
A13: 1.2 | B13: ADMINISTRAÇÃO LOCAL | G13: =SUM(G14:G17) -> 36540.3
A14: 1.2.1 | B14: ADMINISTRAÇÃO LOCAL | C14: un | D14: 1 | E14: =K14 -> 23958.8 | F14: =ROUND(E14*(1+$G$2),2) -> 29634.64 | G14: =ROUND(F14*D14,2) -> 29634.64 | J14: 26620.89 | K14: =IF(J14="","",ROUND(J14*(1-$K$5-I14),2)) -> 23958.8 | L14: =IF(J14="","",(J14-K14)/J14) -> 0.10000004
A15: 1.2.2 | B15: LOCACAO DE CONTAINER 2,30 X 6,00 M, ALT. 2,50 M, PARA ESCRITORIO, SEM DIVISORIAS INTERNAS E SEM SANITARIO (NAO INCLUI MOBILIZACAO/DESMOBILIZACAO) | C15: mês | D15: 3 | E15: =K15 -> 674.64 | F15: =ROUND(E15*(1+$G$2),2) -> 834.46 | G15: =ROUND(F15*D15,2) -> 2503.38 | J15: 749.6 | K15: =IF(J15="","",ROUND(J15*(1-$K$5-I15),2)) -> 674.64 | L15: =IF(J15="","",(J15-K15)/J15) -> 0.1
A16: 1.2.3 | B16: LOCACAO DE CONTAINER 2,30 X 4,30 M, ALT. 2,50 M, PARA SANITARIO, COM 3 BACIAS, 4 CHUVEIROS, 1 LAVATORIO E 1 MICTORIO (NAO INCLUI MOBILIZACAO/DESMOBILIZACAO) | C16: mês | D16: 3 | E16: =K16 -> 980.49 | F16: =ROUND(E16*(1+$G$2),2) -> 1212.77 | G16: =ROUND(F16*D16,2) -> 3638.31 | J16: 1089.43 | K16: =IF(J16="","",ROUND(J16*(1-$K$5-I16),2)) -> 980.49 | L16: =IF(J16="","",(J16-K16)/J16) -> 0.099997246
A17: 1.2.4 | B17: MOBILIZAÇÃO E DESMOBILIZAÇÃO DE CONTAINER, INCLUSIVE CARGA, DESCARGA E TRANSPORTE EM CAMINHÃO CARROCERIA COM GUINDAUT O (MUNCK), EXCLUSIVE LOCAÇÃO DO CONTAINER | C17: un | D17: 1 | E17: =K17 -> 617.65 | F17: =ROUND(E17*(1+$G$2),2) -> 763.97 | G17: =ROUND(F17*D17,2) -> 763.97 | J17: 686.28 | K17: =IF(J17="","",ROUND(J17*(1-$K$5-I17),2)) -> 617.65 | L17: =IF(J17="","",(J17-K17)/J17) -> 0.10000291
A18: 1.3 | B18: DEMOLIÇÕES, REMOÇÕES E LIMPEZA | G18: =SUM(G19:G20) -> 1117.7
A19: 1.3.1 | B19: DEMOLIÇÃO DE ALVENARIA PARA QUALQUER TIPO DE BLOCO, “DE FORMA MECANIZADA, SEM REAPROVEITAMENTO. AF_12/2017 | C19: m³ | D19: 2.2 | E19: =K19 -> 55.31 | F19: =ROUND(E19*(1+$G$2),2) -> 68.41 | G19: =ROUND(F19*D19,2) -> 150.5 | J19: 61.45 | K19: =IF(J19="","",ROUND(J19*(1-$K$5-I19),2)) -> 55.31 | L19: =IF(J19="","",(J19-K19)/J19) -> 0.099918633
A20: 1.3.2 | B20: DEMOLIÇÃO MECANIZADA DE LAJE DE CONCRETO ARMADO, COM ESPESSURA DE ATÉ 15CM, , COM EQUIPAMENTO PNEUMÁTICO, INCLUSIVE AFASTAMENTO E EMPILHAMENTO, EXCLUSIVE TRANSPORTE E RETIRADA DO MATERIAL DEMOLIDO | C20: m² | D20: 60 | E20: =K20 -> 13.03 | F20: =ROUND(E20*(1+$G$2),2) -> 16.12 | G20: =ROUND(F20*D20,2) -> 967.2 | J20: 14.48 | K20: =IF(J20="","",ROUND(J20*(1-$K$5-I20),2)) -> 13.03 | L20: =IF(J20="","",(J20-K20)/J20) -> 0.10013812
A21: 1.4 | B21: MUROS DE CONTENÇÃO | G21: =SUM(G22:G39) -> 104589.75
A22: 1.4.1 | B22: ESCAVAÇÃO MANUAL PARA BLOCO DE COROAMENTO OU SAPATA (INCLUINDO ESCAVAÇÃO PARA COLOCAÇÃO DE FORMAS). AF_06/2017 | C22: m³ | D22: 32.17 | E22: =K22 -> 79.75 | F22: =ROUND(E22*(1+$G$2),2) -> 98.64 | G22: =ROUND(F22*D22,2) -> 3173.25 | J22: 88.61 | K22: =IF(J22="","",ROUND(J22*(1-$K$5-I22),2)) -> 79.75 | L22: =IF(J22="","",(J22-K22)/J22) -> 0.099988715
A23: 1.4.2 | B23: FABRICAÇÃO, MONTAGEM E DESMONTAGEM DE FORMA PARA BLOCO DE COROAMENTO, EM MADEIRA SERRADA, E=25 MM, 4 UTILIZAÇÕES. M2 AF 06/2017 | C23: m² | D23: 76.32 | E23: =K23 -> 96.39 | F23: =ROUND(E23*(1+$G$2),2) -> 119.22 | G23: =ROUND(F23*D23,2) -> 9098.87 | J23: 107.1 | K23: =IF(J23="","",ROUND(J23*(1-$K$5-I23),2)) -> 96.39 | L23: =IF(J23="","",(J23-K23)/J23) -> 0.1
A24: 1.4.3 | B24: FABRICAÇÃO, MONTAGEM E DESMONTAGEM DE FORMA PARA VIGA BALDRAME, EM MADEIRA SERRADA, E=25 MM , 4 UTILIZAÇÕES. AF 06/2017 | C24: m² | D24: 19.91 | E24: =K24 -> 84.8 | F24: =ROUND(E24*(1+$G$2),2) -> 104.89 | G24: =ROUND(F24*D24,2) -> 2088.36 | J24: 94.22 | K24: =IF(J24="","",ROUND(J24*(1-$K$5-I24),2)) -> 84.8 | L24: =IF(J24="","",(J24-K24)/J24) -> 0.099978773
A25: 1.4.4 | B25: CONCRETAGEM DE ELEMENTOS DE FUNDAÇÃO, FCK 25 MPA, COM USO DE BOMBA LANÇAMENTO, ADENSAMENTO E ACABAMENTO. AF_06/2017 | C25: m³ | D25: 21.58 | E25: =K25 -> 674.99 | F25: =ROUND(E25*(1+$G$2),2) -> 834.9 | G25: =ROUND(F25*D25,2) -> 18017.14 | J25: 749.99 | K25: =IF(J25="","",ROUND(J25*(1-$K$5-I25),2)) -> 674.99 | L25: =IF(J25="","",(J25-K25)/J25) -> 0.10000133
A26: 1.4.5 | B26: ESTACA BROCA DE CONCRETO , DIAMETRO DE 30 CM, ESCAVAÇAO MANUAL COM TRADO CONCHA, EXCLUSIVE ARM A ÇÃO - CONCRETO FCK=25MPa USINADO | C26: m | D26: 186 | E26: =K26 -> 60.81 | F26: =ROUND(E26*(1+$G$2),2) -> 75.22 | G26: =ROUND(F26*D26,2) -> 13990.92 | J26: 67.57 | K26: =IF(J26="","",ROUND(J26*(1-$K$5-I26),2)) -> 60.81 | L26: =IF(J26="","",(J26-K26)/J26) -> 0.1000444
A27: 1.4.6 | B27: LASTRO DE CONCRETO MAGRO, APLICADO EM BLOCOS DE COROAMENTO OU SAPATAS. AF_08/2017 | C27: m³ | D27: 2.23 | E27: =K27 -> 570.47 | F27: =ROUND(E27*(1+$G$2),2) -> 705.61 | G27: =ROUND(F27*D27,2) -> 1573.51 | J27: 633.86 | K27: =IF(J27="","",ROUND(J27*(1-$K$5-I27),2)) -> 570.47 | L27: =IF(J27="","",(J27-K27)/J27) -> 0.10000631
A28: 1.4.7 | B28: ARRASAMENTO MECANICO DE ESTACA DE CONCRETO ARMADO, DIAMETROS DE ATÉ 40 CM. AF_05/2021 | C28: un | D28: 53 | E28: =K28 -> 14.03 | F28: =ROUND(E28*(1+$G$2),2) -> 17.35 | G28: =ROUND(F28*D28,2) -> 919.55 | J28: 15.59 | K28: =IF(J28="","",ROUND(J28*(1-$K$5-I28),2)) -> 14.03 | L28: =IF(J28="","",(J28-K28)/J28) -> 0.10006414
A29: 1.4.8 | B29: ARMAÇÃO DE BLOCO, VIGA BALDRAME OU SAPATA UTILIZANDO AÇO CA 50 DE 10 MM - MONTAGEM. AF_06/2017 | C29: kg | D29: 1224.25 | E29: =K29 -> 12.17 | F29: =ROUND(E29*(1+$G$2),2) -> 15.05 | G29: =ROUND(F29*D29,2) -> 18424.96 | J29: 13.52 | K29: =IF(J29="","",ROUND(J29*(1-$K$5-I29),2)) -> 12.17 | L29: =IF(J29="","",(J29-K29)/J29) -> 0.099852071
A30: 1.4.9 | B30: ARMAÇÃO DE BLOCO, VIGA BALDRAME OU SAPATA UTILIZANDO AÇO CA 50 DE 6,3 MM - MONTAGEM . AF_06/2017 | C30: kg | D30: 163.14 | E30: =K30 -> 14.83 | F30: =ROUND(E30*(1+$G$2),2) -> 18.34 | G30: =ROUND(F30*D30,2) -> 2991.99 | J30: 16.48 | K30: =IF(J30="","",ROUND(J30*(1-$K$5-I30),2)) -> 14.83 | L30: =IF(J30="","",(J30-K30)/J30) -> 0.10012136
A31: 1.4.10 | B31: MONTAGEM DE ARMADURA DE ESTACAS, DIÂMETRO = 10,0 MM. AF 09/2021 | C31: kg | D31: 78 | E31: =K31 -> 10.31 | F31: =ROUND(E31*(1+$G$2),2) -> 12.75 | G31: =ROUND(F31*D31,2) -> 994.5 | J31: 11.46 | K31: =IF(J31="","",ROUND(J31*(1-$K$5-I31),2)) -> 10.31 | L31: =IF(J31="","",(J31-K31)/J31) -> 0.10034904
A32: 1.4.11 | B32: MONTAGEM DE ARMADURA DE ESTACAS DIÂMETRO = 12,5 MM. AF_09/2021_PS | C32: kg | D32: 720 | E32: =K32 -> 8.64 | F32: =ROUND(E32*(1+$G$2),2) -> 10.69 | G32: =ROUND(F32*D32,2) -> 7696.8 | J32: 9.6 | K32: =IF(J32="","",ROUND(J32*(1-$K$5-I32),2)) -> 8.64 | L32: =IF(J32="","",(J32-K32)/J32) -> 0.1
A33: 1.4.12 | B33: MONTAGEM DE ARMADURA TRANSVERSAL DE ESTACAS DE SEÇÃO CIRCULAR, DIÂMETRO = 6,30MM. AF_09/2021_PS | C33: kg | D33: 197 | E33: =K33 -> 13.1 | F33: =ROUND(E33*(1+$G$2),2) -> 16.2 | G33: =ROUND(F33*D33,2) -> 3191.4 | J33: 14.55 | K33: =IF(J33="","",ROUND(J33*(1-$K$5-I33),2)) -> 13.1 | L33: =IF(J33="","",(J33-K33)/J33) -> 0.099656357
... A39: 1.4.18 | B39: EXECUCAO DE DRENO COM MANTA GEOTEXTIL 200 G/M2 | C39: m² | D39: 86.56 | E39: =K39 -> 7.33 | F39: =ROUND(E39*(1+$G$2),2) -> 9.07 | G39: =ROUND(F39*D39,2) -> 785.1 | J39: 8.14 | K39: =IF(J39="","",ROUND(J39*(1-$K$5-I39),2)) -> 7.33 | L39: =IF(J39="","",(J39-K39)/J39) -> 0.0995086
A40: 1.5 | B40: ALAMBRADO/FUNDAÇÃO DO ALAMBRADO | G40: =SUM(G41:G55) -> 110869.93
A41: 1.5.1 | B41: ALAMBRADO PARA QUADRA POLIESPORTIVA, ESTRUTURADO POR TUBOS DE ACO GALVANIZADO, COM COSTURA, DIN 2440, DIAMETRO 2 1/2", COM TELA DE ARAME GALVANIZADO, FIO 14 BWG E MALHA QUADRADA 5X5CM | C41: m² | D41: 409.6 | E41: =K41 -> 170.64 | F41: =ROUND(E41*(1+$G$2),2) -> 211.06 | G41: =ROUND(F41*D41,2) -> 86450.18 | I41: 0.18 | J41: 237 | K41: =IF(J41="","",ROUND(J41*(1-$K$5-I41),2)) -> 170.64 | L41: =IF(J41="","",(J41-K41)/J41) -> 0.28
A42: 1.5.2 | B42: PORTÃO EM TUBOS DE AÇO GALVANIZADO 2 1/2", COM COSTURA, DIN 244 0, COM TELA DE ARAME GALVANIZADO, FIO 14 BWG E MALHA QUADRADA 5x5CM - 0,9X2,10. | C42: un | D42: 2 | E42: =K42 -> 776.45 | F42: =ROUND(E42*(1+$G$2),2) -> 960.39 | G42: =ROUND(F42*D42,2) -> 1920.78 | J42: 862.72 | K42: =IF(J42="","",ROUND(J42*(1-$K$5-I42),2)) -> 776.45 | L42: =IF(J42="","",(J42-K42)/J42) -> 0.099997682
A43: 1.5.3 | B43: ESCAVAÇÃO MANUAL PARA BLOCO DE COROAMENTO OU SAPATA (INCLUINDO ESCAVAÇÃO PARA COLOCAÇÃO DE FÔRMAS). AF_06/2017 | C43: m³ | D43: 3.92 | E43: =K43 -> 79.75 | F43: =ROUND(E43*(1+$G$2),2) -> 98.64 | G43: =ROUND(F43*D43,2) -> 386.67 | J43: 88.61 | K43: =IF(J43="","",ROUND(J43*(1-$K$5-I43),2)) -> 79.75 | L43: =IF(J43="","",(J43-K43)/J43) -> 0.099988715
A44: 1.5.4 | B44: FABRICAÇÃO , MONTAGEM E DESMONTAGEM DE FÔRMA PARA BLOCO DE COROAMENTO , EM MADEIRA SERRADA, E=25 MM, 4 UTILIZAÇÕES. AF 06/2017 | C44: m² | D44: 17.28 | E44: =K44 -> 96.39 | F44: =ROUND(E44*(1+$G$2),2) -> 119.22 | G44: =ROUND(F44*D44,2) -> 2060.12 | J44: 107.1 | K44: =IF(J44="","",ROUND(J44*(1-$K$5-I44),2)) -> 96.39 | L44: =IF(J44="","",(J44-K44)/J44) -> 0.1
A45: 1.5.5 | B45: CONCRETAGEM DE ELEMENTOS DE FUNDAÇÃO, FCK 25 MPA, COM USO DE BOMBA LANÇAMENTO, ADENSAMENTO E ACABAMENTO . AF_06/2017 | C45: m³ | D45: 2.59 | E45: =K45 -> 674.99 | F45: =ROUND(E45*(1+$G$2),2) -> 834.9 | G45: =ROUND(F45*D45,2) -> 2162.39 | J45: 749.99 | K45: =IF(J45="","",ROUND(J45*(1-$K$5-I45),2)) -> 674.99 | L45: =IF(J45="","",(J45-K45)/J45) -> 0.10000133
...

Sheet CRONOGRAMA
A1: A Prefeitura Municipal de Santa Luzia - MG Objeto: construção de Quadras Sintéticas Tomada de Preço Nº 066/2023 Processo Administrativo Nº 7400/2023
A2: CRONOGRAMA FÍSICO-FINANCEIRO
A3: Item | B3: Descrição | E3: Valor (R$) | F3: Parcelas: | G3: 1 | H3: 2 | I3: 3 | J3: 4 | K3: 5 | L3: 6
A5: 1. | B5: =ORÇAMENTO!B6 -> QUADRA SINTÉTICA PALMITAL | E5: =ORÇAMENTO!G6 -> 446676.21 | F5: % Período: | G5: 0.056 | H5: 0.7227 | I5: 0.2213
G6: =$E$5*G5 -> 25013.868 | H6: =$E$5*H5 -> 322812.9 | I6: =$E$5*I5 -> 98849.445
A7: 1.1. | B7: =ORÇAMENTO!B7 -> SERVIÇOS PRELIMINARES | E7: =ORÇAMENTO!G7 -> 25122.52 | F7: % Período: | G7: 1
G8: =$E$7*G7 -> 25122.52
A9: 1.2. | B9: =ORÇAMENTO!B13 -> ADMINISTRAÇÃO LOCAL | E9: =ORÇAMENTO!G13 -> 36540.3 | F9: % Período: | I9: 1
I10: =$E$9*I9 -> 36540.3
A11: 1.3. | B11: =ORÇAMENTO!B18 -> DEMOLIÇÕES, REMOÇÕES E LIMPEZA | E11: =ORÇAMENTO!G18 -> 1117.7 | F11: % Período: | G11: 1
G12: =$E$11*G11 -> 1117.7
A13: 1.4. | B13: =ORÇAMENTO!B21 -> MUROS DE CONTENÇÃO | E13: =ORÇAMENTO!G21 -> 104589.75 | F13: % Período: | H13: 1
H14: =$E$13*H13 -> 104589.75
A15: 1.5. | B15: =ORÇAMENTO!B40 -> ALAMBRADO/FUNDAÇÃO DO ALAMBRADO | E15: =ORÇAMENTO!G40 -> 110869.93 | F15: % Período: | H15: 1
H16: =$E$15*H15 -> 110869.93
A17: 1.6. | B17: =ORÇAMENTO!B56 -> QUADRA SINTÉTICA | E17: =ORÇAMENTO!G56 -> 101357.51 | F17: % Período: | H17: 1
H18: =$E$17*H17 -> 101357.51
A19: 1.7. | B19: =ORÇAMENTO!B63 -> ILUMINAÇÃO | E19: =ORÇAMENTO!G63 -> 25940.57 | F19: % Período: | I19: 1
I20: =$E$19*I19 -> 25940.57
A21: 1.8. | B21: =ORÇAMENTO!B87 -> SERVIÇOS COMPLEMENTARES | E21: =ORÇAMENTO!G87 -> 41137.93 | F21: % Período: | I21: 1
I22: =$E$21*I21 -> 41137.93
A23: 2. | B23: =ORÇAMENTO!B95 -> QUADRA SINTÉTICA CURUMIM | E23: =ORÇAMENTO!G95 -> 436015.94 | F23: % Período:
A25: 2.1. | B25: =ORÇAMENTO!B96 -> SERVIÇOS PRELIMINARES | E25: =ORÇAMENTO!G96 -> 26384.32 | F25: % Período:
A27: 2.2. | B27: =ORÇAMENTO!B102 -> ADMINISTRAÇÃO LOCAL | E27: =ORÇAMENTO!G102 -> 36540.3 | F27: % Período:
A29: 2.3. | B29: =ORÇAMENTO!B107 -> ALAMBRADO/FUNDAÇÃO DO ALAMBRADO | E29: =ORÇAMENTO!G107 -> 109023.86 | F29: % Período:
A31: 2.4. | B31: =ORÇAMENTO!B123 -> QUADRA SINTÉTICA | E31: =ORÇAMENTO!G123 -> 113842.5 | F31: % Período:
A33: 2.5. | B33: =ORÇAMENTO!B130 -> DRENAGEM | E33: =ORÇAMENTO!G130 -> 29933.28 | F33: % Período:
A35: 2.6. | B35: =ORÇAMENTO!B142 -> ILUMINAÇÃO | E35: =ORÇAMENTO!G142 -> 23449.36 | F35: % Período:
A37: 2.7. | B37: =ORÇAMENTO!B158 -> RECUPERAÇÃO DO TALUDE | E37: =ORÇAMENTO!G158 -> 16160.03 | F37: % Período:
A39: 2.8. | B39: =ORÇAMENTO!B164 -> SERVIÇOS COMPLEMENTARES | E39: =ORÇAMENTO!G164 -> 80682.29 | F39: % Período:
A41: Total: | B41: =E5 -> 446676.21 | D41: Período: | E41: %: | G41: =G42/$B$41 -> 0.058745506 | H41: =H42/$B$41 -> 0.70927706 | I41: =I42/$B$41 -> 0.23197743
E42: Repasse: | G42: =SUM(G8,G12,G14,G10,G16,G18,G20,G22,G26,G28,G30,G32,G34,G36,G38,G40) -> 26240.22 | H42: =SUM(H8,H12,H14,H10,H16,H18,H20,H22,H26,H28,H30,H32,H34,H36,H38,H40) -> 316817.19 | I42: =SUM(I8,I12,I14,I10,I16,I18,I20,I22,I26,I28,I30,I32,I34,I36,I38,I40) -> 103618.8
E43: Contrapartida: | G43: - | H43: - | I43: -
E44: Outros: | G44: - | H44: - | I44: -
E45: Investimento: | G45: =G42 -> 26240.22 | H45: =H42 -> 316817.19 | I45: =I42 -> 103618.8
D46: Acumulado: | E46: %: | G46: =G41 -> 0.058745506 | H46: =G46+H41 -> 0.76802257 | I46: =H46+I41 -> 1
E47: Repasse: | G47: =G42 -> 26240.22 | H47: =G47+H42 -> 343057.41 | I47: =H47+I42 -> 446676.21
E48: Contrapartida: | G48: - | H48: - | I48: -
E49: Outros: | G49: - | H49: - | I49: -
E50: Investimento: | G50: =G45 -> 26240.22 | H50: =G50+H45 -> 343057.41 | I50: =H50+I45 -> 446676.21
...

Sheet BDI 
A1: A Prefeitura Municipal de Santa Luzia - MG Objeto: construção de Quadras Sintéticas Tomada de Preço Nº 066/2023 Processo Administrativo Nº 7400/2023
A2: BDI
A3: ITENS | C3: SIGLA | D3: % ADOTADA
A4: Administração Central | C4: AC | D4: 0.0467
A5: Seguro e Garantia | C5: SG | D5: 0.004
A6: Risco | C6: R | D6: 0.0056
A7: Despesas Financeiras | C7: DF | D7: 0.0111
A8: Lucro | C8: L | D8: 0.0869
A9: Tributos (impostos COFINS 3%, e PIS 0,65%) | C9: CP | D9: 0.0365
A10: Tributos (ISS, variável de acordo com o município) | C10: ISS | D10: 0.025
A11: Tributos (Contribuição Previdenciária sobre a Receita Bruta - 0% ou 4,5% - Desoneração) | C11: CPRB | D11: 0
A12: BDI SEM desoneração (Fórmula Acórdão TCU) | C12: BDI PAD | D12: =(((1+D4+D5+D6)*(1+D7)*(1+D8))/(1-D9-D10-D11))-1 -> 0.23690602
A13: Os valores de BDI foram calculados com o emprego da fórmula:
A14: BDI = | B14: (1+AC + S + R + G)*(1 + DF)*(1+L) | D14: -1
B15: (1-CP-ISS-CRPB)
A16: Declaro para os devidos fins que, conforme legislação tributária municipal, a base de cálculo deste tipo de obra corresponde à 100%, com a respectiva alíquota de 3%.
A18: Declaro para os devidos fins que o regime de Contribuição Previdenciária sobre a Receita Bruta adotado para elaboração do orçamento foi SEM Desoneração, e que esta é a alternativa mais adequada para a Administração Pública.
A20: Três Pontas, 02 de agosto de 2023
A30: ENGETELA COMÉRCIO E SERVIÇOS LTDA – CNPJ: 12.721.248/0001-20
A31: Thiago Correa de Almeida – Procurador
A32: RG: MG12037684 SSP/MG – CPF: 083.409.306-56
