Workbook
Name \0: #REF!
Name _________________________esc15: "#ref!"
Name _________________________esc4: "#ref!"
Name _________________________esc6: "#ref!"
Name ________________________esc15: "#ref!"
Name ________________________esc4: "#ref!"
Name ________________________esc6: "#ref!"
Name _______________________esc15: "#ref!"
Name _______________________esc4: "#ref!"
Name _______________________esc6: "#ref!"
Name ______________________esc15: "#ref!"
Name ______________________esc4: "#ref!"
Name ______________________esc6: "#ref!"
Name ____________________esc15: "#ref!"
Name ____________________esc4: "#ref!"
Name ____________________esc6: "#ref!"
Name ___________________esc15: "#ref!"
Name ___________________esc4: "#ref!"
Name ___________________esc6: "#ref!"
Name __________________esc15: "#ref!"
Name __________________esc4: "#ref!"
Name __________________esc6: "#ref!"
Name _________________esc15: "#ref!"
Name _________________esc4: "#ref!"
Name _________________esc6: "#ref!"
Name _______________esc15: "#ref!"
Name _______________esc4: "#ref!"
Name _______________esc6: "#ref!"
Name ______________esc15: "#ref!"
Name ______________esc4: "#ref!"
Name ______________esc6: "#ref!"
Name _____________esc15: "#ref!"
Name _____________esc4: "#ref!"
Name _____________esc6: "#ref!"
Name ____________esc15: "#ref!"
Name ____________esc4: "#ref!"
Name ____________esc6: "#ref!"
Name ___________esc15: "#ref!"
Name ___________esc4: "#ref!"
Name ___________esc6: "#ref!"
Name __________esc15: "#ref!"
Name __________esc4: "#ref!"
Name __________esc6: "#ref!"
Name _________esc15: "#ref!"
Name _________esc4: "#ref!"
Name _________esc6: "#ref!"
Name ________esc15: "#ref!"
Name ________esc4: "#ref!"
Name ________esc6: "#ref!"
Name _______esc15: "#ref!"
Name _______esc4: "#ref!"
Name _______esc6: "#ref!"
Name __esc15: #REF!
Name __esc4: #REF!
Name __esc6: #REF!
Name __xlnm_Database: "#ref!"
Name __xlnm_Recorder: "#ref!"
Name _esc15: "#ref!"
Name _esc4: "#ref!"
Name _esc6: "#ref!"

Sheet Planilha
C1: CF CONSTRUÇÕES E REFORMAS LTDA
C3: PLANILHA ORÇAMENTÁRIA
A5: CLIENTE: | C5: PREFEITURA MUNICIPAL DE SANTA LUZIA
A6: LOCAL | C6: ALAMEDA IBIRAPUERA NO BAIRRO SÃO BENEDITO, SANTA LUZIA, MINAS GERAIS | E6: BDI | G6: 0.2607
A7: OBJETO | C7: Contratação de Empresa Especializada para terminar a construção de Unidade Básica de Saúde (UBS) denominada Jabaquara, localizada na Alameda Ibirapuera no Bairro São Benedito, Santa Luzia, Minas Gerais, conforme condições, quantidades e exigências estabelecidas neste instrumento e seus anexos.
A8: Item | B8: Código | C8: Banco | D8: Descrição | E8: Und | F8: Quant. | G8: Valor Unit | H8: Valor Unit com BDI | I8: Total
A9: 1 | D9: CONFORME ACÓRDÃO TCU 2622/2013, LIMITADA À 6% DO VALOR TOTAL DA OBRA | I9: =ROUND(SUM(I10),2) -> 47052.19
A10: 1.1 | B10: CP001 | C10: Próprio | D10: ADMINISTRAÇÃO LOCAL | E10: UN | F10: 1 | G10: 37322.27 | H10: =ROUND(G10*(1.2607),2) -> 47052.19 | I10: =ROUND(H10*F10,2) -> 47052.19
A11: 2 | D11: SERVIÇOS PRELIMINARES | H11: =ROUND(G11*(1.2607),2) -> 0 | I11: =ROUND(SUM(I12:I16),2) -> 19360.4
A12: 2.1 | B12: ED-16343 | C12: SETOP | D12: LIGAÇÃO PROVISÓRIA DE ÁGUA E ESGOTO PARA CONTAINER (VESTIÁRIO DE OBRA), EXCLUSIVE CHUVEIRO ELÉTRICO | E12: un | F12: 1 | G12: 319.11 | H12: =ROUND(G12*(1.2607),2) -> 402.3 | I12: =ROUND(H12*F12,2) -> 402.3
A13: 2.2 | B13: ED-9075 | C13: SETOP | D13: FORNECIMENTO DE ANDAIME METÁLICO PARA FACHADA (LOCAÇÃO), INCLUSIVE PISO METÁLICO E SAPATAS, EXCLUSIVE MONTAGEM E DESMONTAGEM | E13: m2xmês | F13: 37 | G13: 5.99 | H13: =ROUND(G13*(1.2607),2) -> 7.55 | I13: =ROUND(H13*F13,2) -> 279.35
A14: 2.3 | B14: ED-48246 | C14: SETOP | D14: MONTAGEM E DESMONTAGEM DE ANDAIME METÁLICO PARA FACHADA COM PISO METÁLICO, EXCLUSIVE FORNECIMENTO DO ANDAIME E RODAPÉ/GUARDA-CORPO EM MADEIRA | E14: m² | F14: 263.66 | G14: 8.24 | H14: =ROUND(G14*(1.2607),2) -> 10.39 | I14: =ROUND(H14*F14,2) -> 2739.43
A15: 2.4 | B15: 93212 | C15: SINAPI | D15: EXECUÇÃO DE SANITÁRIO E VESTIÁRIO EM CANTEIRO DE OBRA EM CHAPA DE MADEIRA COMPENSADA, NÃO INCLUSO MOBILIÁRIO. AF_02/2016 | E15: m² | F15: 8 | G15: 1008.9 | H15: =ROUND(G15*(1.2607),2) -> 1271.92 | I15: =ROUND(H15*F15,2) -> 10175.36
A16: 2.5 | B16: 73805/001 | C16: SINAPI | D16: BARRACAO DE OBRA PARA ALOJAMENTO/ESCRITORIO, PISO EM PINHO 3A, PAREDES EM COMPENSADO 10MM, COBERTURA EM TELHA FIBROCIMENTO 6MM, INCLUSO INSTALACOES ELETRICAS E ESQUADRIAS. REAPROVEITADO 5 VEZES | E16: m² | F16: 9 | G16: 508 | H16: =ROUND(G16*(1.2607),2) -> 640.44 | I16: =ROUND(H16*F16,2) -> 5763.96
A17: 3 | D17: ALVENARIAS E DIVISÕES | H17: =ROUND(G17*(1.2607),2) -> 0 | I17: =ROUND(I18+I22,2) -> 25255.16
A18: 3.1 | D18: ALVENARIA | H18: =ROUND(G18*(1.2607),2) -> 0 | I18: =ROUND(SUM(I19:I21),2) -> 11189.35
A19: 3.1.1 | B19: ED-48232 | C19: SETOP | D19: ALVENARIA DE VEDAÇÃO COM TIJOLO CERÂMICO FURADO, ESP. 14CM, PARA REVESTIMENTO, INCLUSIVE ARGAMASSA PARA ASSENTAMENTO | E19: m² | F19: 139.46 | G19: 61.65 | H19: =ROUND(G19*(1.2607),2) -> 77.72 | I19: =ROUND(H19*F19,2) -> 10838.83
A20: 3.1.2 | B20: 93183 | C20: SINAPI | D20: VERGA PRÉ-MOLDADA PARA JANELAS COM MAIS DE 1,5 M DE VÃO. AF_03/2016 | E20: M | F20: 2 | G20: 71.28 | H20: =ROUND(G20*(1.2607),2) -> 89.86 | I20: =ROUND(H20*F20,2) -> 179.72
A21: 3.1.3 | B21: 93195 | C21: SINAPI | D21: CONTRAVERGA PRÉ-MOLDADA PARA VÃOS DE MAIS DE 1,5 M DE COMPRIMENTO. AF_03/2016 | E21: M | F21: 2 | G21: 67.74 | H21: =ROUND(G21*(1.2607),2) -> 85.4 | I21: =ROUND(H21*F21,2) -> 170.8
A22: 3.2 | D22: PLATIBANDA | H22: =ROUND(G22*(1.2607),2) -> 0 | I22: =ROUND(SUM(I23:I26),2) -> 14065.81
A23: 3.2.1 | B23: 92263 | C23: SINAPI | D23: FABRICAÇÃO DE FÔRMA PARA PILARES E ESTRUTURAS SIMILARES, EM CHAPA DE MADEIRA COMPENSADA RESINADA, E = 17 MM. AF_09/2020 | E23: m² | F23: 51.83 | G23: 141.82 | H23: =ROUND(G23*(1.2607),2) -> 178.79 | I23: =ROUND(H23*F23,2) -> 9266.69
A24: 3.2.2 | B24: 92775 | C24: SINAPI | D24: ARMAÇÃO DE PILAR OU VIGA DE UMA ESTRUTURA CONVENCIONAL DE CONCRETO ARMADO EM UMA EDIFICAÇÃO TÉRREA OU SOBRADO UTILIZANDO AÇO CA-60 DE 5,0 MM - MONTAGEM. AF_12/2015 | E24: KG | F24: 39.79 | G24: 16.28 | H24: =ROUND(G24*(1.2607),2) -> 20.52 | I24: =ROUND(H24*F24,2) -> 816.49
A25: 3.2.3 | B25: 92762 | C25: SINAPI | D25: ARMAÇÃO DE PILAR OU VIGA DE ESTRUTURA CONVENCIONAL DE CONCRETO ARMADO UTILIZANDO AÇO CA-50 DE 10,0 MM - MONTAGEM. AF_06/2022 | E25: KG | F25: 151 | G25: 9.92 | H25: =ROUND(G25*(1.2607),2) -> 12.51 | I25: =ROUND(H25*F25,2) -> 1889.01
A26: 3.2.4 | B26: 96557 | C26: SINAPI | D26: CONCRETAGEM DE BLOCOS DE COROAMENTO E VIGAS BALDRAMES, FCK 30 MPA, COM USO DE BOMBA LANÇAMENTO, ADENSAMENTO E ACABAMENTO. AF_06/2017 | E26: m³ | F26: 2.47 | G26: 672.34 | H26: =ROUND(G26*(1.2607),2) -> 847.62 | I26: =ROUND(H26*F26,2) -> 2093.62
A27: 4 | D27: REVESTIMENTO | H27: =ROUND(G27*(1.2607),2) -> 0 | I27: =ROUND(SUM(I28:I32),2) -> 14513.53
A28: 4.1 | B28: 87879 | C28: SINAPI | D28: CHAPISCO APLICADO EM ALVENARIAS E ESTRUTURAS DE CONCRETO INTERNAS, COM COLHER DE PEDREIRO. ARGAMASSA TRAÇO 1:3 COM PREPARO EM BETONEIRA 400L. AF_10/2022 | E28: m² | F28: 278.92 | G28: 3.88 | H28: =ROUND(G28*(1.2607),2) -> 4.89 | I28: =ROUND(H28*F28,2) -> 1363.92
A29: 4.2 | B29: 87529 | C29: SINAPI | D29: MASSA ÚNICA, PARA RECEBIMENTO DE PINTURA, EM ARGAMASSA TRAÇO 1:2:8, PREPARO MECÂNICO COM BETONEIRA 400L, APLICADA MANUALMENTE EM FACES INTERNAS DE PAREDES, ESPESSURA DE 20MM, COM EXECUÇÃO DE TALISCAS. AF_06/2014 | E29: m² | F29: 278.92 | G29: 33.39 | H29: =ROUND(G29*(1.2607),2) -> 42.09 | I29: =ROUND(H29*F29,2) -> 11739.74
A30: 4.3 | B30: 87265 | C30: SINAPI | D30: REVESTIMENTO CERÂMICO PARA PAREDES INTERNAS COM PLACAS TIPO ESMALTADA EXTRA DE DIMENSÕES 20X20 CM APLICADAS NA ALTURA INTEIRA DAS PAREDES. AF_02/2023_PE | E30: m² | F30: 10 | G30: 53.26 | H30: =ROUND(G30*(1.2607),2) -> 67.14 | I30: =ROUND(H30*F30,2) -> 671.4
A31: 4.4 | B31: 87550 | C31: SINAPI | D31: EMBOÇO, PARA RECEBIMENTO DE CERÂMICA, EM ARGAMASSA TRAÇO 1:2:8, PREPARO MANUAL, APLICADO MANUALMENTE EM FACES INTERNAS DE PAREDES, PARA AMBIENTE COM ÁREA ENTRE 5M2 E 10M2, ESPESSURA DE 10MM, COM EXECUÇÃO DE TALISCAS. AF_06/2014 | E31: m² | F31: 17.08 | G31: 22.29 | H31: =ROUND(G31*(1.2607),2) -> 28.1 | I31: =ROUND(H31*F31,2) -> 479.95
A32: 4.5 | B32: 96109 | C32: SINAPI | D32: FORRO EM PLACAS DE GESSO, PARA AMBIENTES RESIDENCIAIS. AF_05/2017_PS | E32: m² | F32: 5.1 | G32: 40.21 | H32: =ROUND(G32*(1.2607),2) -> 50.69 | I32: =ROUND(H32*F32,2) -> 258.52
A33: 5 | D33: PISO | H33: =ROUND(G33*(1.2607),2) -> 0 | I33: =ROUND(SUM(I34:I39),2) -> 8313.42
A34: 5.1 | B34: 87642 | C34: SINAPI | D34: CONTRAPISO EM ARGAMASSA TRAÇO 1:4 (CIMENTO E AREIA), PREPARO MANUAL, APLICADO EM ÁREAS SECAS SOBRE LAJE, ADERIDO, ACABAMENTO NÃO REFORÇADO, ESPESSURA 4CM. AF_07/2021 | E34: m² | F34: 30 | G34: 45.88 | H34: =ROUND(G34*(1.2607),2) -> 57.84 | I34: =ROUND(H34*F34,2) -> 1735.2
A35: 5.2 | B35: 87260 | C35: SINAPI | D35: REVESTIMENTO CERÂMICO PARA PISO COM PLACAS TIPO PORCELANATO DE DIMENSÕES 45X45 CM APLICADA EM AMBIENTES DE ÁREA MAIOR QUE 10 M². AF_02/2023_PE | E35: m² | F35: 10 | G35: 114.31 | H35: =ROUND(G35*(1.2607),2) -> 144.11 | I35: =ROUND(H35*F35,2) -> 1441.1
A36: 5.3 | B36: ED-50544 | C36: SETOP | D36: REVESTIMENTO COM CERÂMICA APLICADO EM PISO, ACABAMENTO ESMALTADO, AMBIENTE EXTERNO (ANTIDERRAPANTE), PADRÃO EXTRA, DIMENSÃO DA PEÇA ATÉ 2025 CM2, PEI IV, ASSENTAMENTO COM ARGAMASSA INDUSTRIALIZADA, INCLUSIVE REJUNTAMENTO | E36: m² | F36: 30 | G36: 65.75 | H36: =ROUND(G36*(1.2607),2) -> 82.89 | I36: =ROUND(H36*F36,2) -> 2486.7
A37: 5.4 | B37: 88648 | C37: SINAPI | D37: RODAPÉ CERÂMICO DE 7CM DE ALTURA COM PLACAS TIPO ESMALTADA EXTRA DE DIMENSÕES 35X35CM. AF_02/2023 | E37: M | F37: 5 | G37: 6.54 | H37: =ROUND(G37*(1.2607),2) -> 8.24 | I37: =ROUND(H37*F37,2) -> 41.2
A38: 5.5 | B38: 98689 | C38: SINAPI | D38: SOLEIRA EM GRANITO, LARGURA 15 CM, ESPESSURA 2,0 CM. AF_09/2020 | E38: M | F38: 24.3 | G38: 77.35 | H38: =ROUND(G38*(1.2607),2) -> 97.52 | I38: =ROUND(H38*F38,2) -> 2369.74
A39: 5.6 | B39: 101965 | C39: SINAPI | D39: PEITORIL LINEAR EM GRANITO OU MÁRMORE, L = 15CM, COMPRIMENTO DE ATÉ 2M, ASSENTADO COM ARGAMASSA 1:6 COM ADITIVO. AF_11/2020 | E39: M | F39: 2 | G39: 94.98 | H39: =ROUND(G39*(1.2607),2) -> 119.74 | I39: =ROUND(H39*F39,2) -> 239.48
A40: 6 | D40: PINTURA | H40: =ROUND(G40*(1.2607),2) -> 0 | I40: =ROUND(SUM(I41:I47),2) -> 106901.87
A41: 6.1 | B41: 88485 | C41: SINAPI | D41: FUNDO SELADOR ACRÍLICO, APLICAÇÃO MANUAL EM PAREDE, UMA DEMÃO. AF_04/2023 | E41: m² | F41: 2076 | G41: 3.73 | H41: =ROUND(G41*(1.2607),2) -> 4.7 | I41: =ROUND(H41*F41,2) -> 9757.2
A42: 6.2 | B42: 88484 | C42: SINAPI | D42: FUNDO SELADOR ACRÍLICO, APLICAÇÃO MANUAL EM TETO, UMA DEMÃO. AF_04/2023 | E42: m² | F42: 437.37 | G42: 4.56 | H42: =ROUND(G42*(1.2607),2) -> 5.75 | I42: =ROUND(H42*F42,2) -> 2514.88
...

Sheet CPU
C1: CF CONSTRUÇÕES E REFORMAS LTDA
C3: COMPOSIÇÃO DE PREÇOS UNITÁRIOS
A5: CLIENTE: | C5: PREFEITURA MUNICIPAL DE SANTA LUZIA
A6: LOCAL | C6: ALAMEDA IBIRAPUERA NO BAIRRO SÃO BENEDITO, SANTA LUZIA, MINAS GERAIS | F6: BDI | H6: 0.2607
A7: OBJETO | C7: Contratação de Empresa Especializada para terminar a construção de Unidade Básica de Saúde (UBS) denominada Jabaquara, localizada na Alameda Ibirapuera no Bairro São Benedito, Santa Luzia, Minas Gerais, conforme condições, quantidades e exigências estabelecidas neste instrumento e seus anexos.
A8: 1 | D8: CONFORME ACÓRDÃO TCU 2622/2013, LIMITADA À 6% DO VALOR TOTALDA OBRA
A9: 1.1 | B9: Código | C9: Banco | D9: Descrição | E9: Tipo | F9: Und | G9: Quant. | H9: Valor Unit | I9: Total
A10: Composição | B10: CP001 | C10: Próprio | D10: ADMINISTRAÇÃO LOCAL | E10: CANT - CANTEIRO DE OBRAS | F10: UN | G10: 1 | H10: =I11 -> 37322.27 | I10: =G10*H10 -> 37322.27
A11: Insumo | B11: 1 | C11: Próprio | D11: ADMINISTRAÇÃO LOCAL | E11: Administração | F11: UN | G11: 1 | H11: 37322.27 | I11: =ROUND(G11*H11,2) -> 37322.27
H12: Valor com BDI => | I12: =ROUND(I10*(1+0.2607),2) -> 47052.19
F13: Quant. => 1,00 | G13: =Planilha!F10 -> 1 | H13: Preço Total => | I13: =G13*I12 -> 47052.19
A14: 2 | D14: SERVIÇOS PRELIMINARES
A15: 2.1 | B15: Código | C15: Banco | D15: Descrição | E15: Tipo | F15: Und | G15: Quant. | H15: Valor Unit | I15: Total
A16: Composição | B16: ED-16343 | C16: SETOP | D16: LIGAÇÃO PROVISÓRIA DE ÁGUA E ESGOTO PARA CONTAINER (VESTIÁRIO DE OBRA), EXCLUSIVE CHUVEIRO ELÉTRICO | E16: ED- | F16: un | G16: 1 | H16: =ROUND(SUM(I17:I21),2) -> 319.11 | I16: =ROUND(H16*G16,2) -> 319.11
A17: Composição Auxiliar | B17: ED-50018 | C17: SETOP | D17: FORNECIMENTO E ASSENTAMENTO DE TUBO PVC RÍGIDO SOLDÁVEL, ÁGUA FRIA, DN 20 MM (1/2"), INCLUSIVE CONEXÕES | E17: ED- | F17: m | G17: 1.5 | H17: 19.07 | I17: =ROUND(G17*H17,2) -> 28.61
A18: Composição Auxiliar | B18: ED-49936 | C18: SETOP | D18: CAIXA D´ÁGUA DE POLIETILENO, CAPACIDADE DE 1.000L, INCLUSIVE TAMPA, TORNEIRA DE BOIA, EXTRAVASOR, TUBO DE LIMPEZA E ACESSÓRIOS, EXCLUSIVE TUBULAÇÃO DE ENTRADA/SAÍDA DE ÁGUA | E18: ED- | F18: un | G18: 0.2 | H18: 795.13999 | I18: =ROUND(G18*H18,2) -> 159.03
A19: Composição Auxiliar | B19: ED-49999 | C19: SETOP | D19: REGISTRO DE ESFERA, TIPO PVC SOLDÁVEL DN 20MM (1/2"), INCLUSIVE VOLANTE PARA ACIONAMENTO | E19: ED- | F19: un | G19: 0.2 | H19: 25.15 | I19: =ROUND(G19*H19,2) -> 5.03
A20: Composição Auxiliar | B20: ED-50029 | C20: SETOP | D20: FORNECIMENTO E ASSENTAMENTO DE TUBO PVC RÍGIDO, ESGOTO, PBV - SÉRIE NORMAL, DN 100 MM (4"), INCLUSIVE CONEXÕES | E20: ED- | F20: m | G20: 3 | H20: 37.71 | I20: =ROUND(G20*H20,2) -> 113.13
A21: Composição Auxiliar | B21: ED-50303 | C21: SETOP | D21: TORNEIRA DE BOIA, TIPO ROSCÁVEL 1/2", EXCLUSIVE ADAPTADOR SOLDÁVEL DE PVC COM FLANGES E ANEL PARA CAIXA DÁGUA | E21: ED- | F21: un | G21: 0.2 | H21: 66.53 | I21: =ROUND(G21*H21,2) -> 13.31
H23: Valor com BDI => | I23: =ROUND(I16*(1+0.2607),2) -> 402.3
F24: Quant. => 1,00 | G24: =Planilha!F12 -> 1 | H24: Preço Total => | I24: =ROUND(G24*I23,2) -> 402.3
A25: 2.2 | B25: Código | C25: Banco | D25: Descrição | E25: Tipo | F25: Und | G25: Quant. | H25: Valor Unit | I25: Total
A26: Composição | B26: ED-9075 | C26: SETOP | D26: FORNECIMENTO DE ANDAIME METÁLICO PARA FACHADA (LOCAÇÃO), INCLUSIVE PISO METÁLICO E SAPATAS, EXCLUSIVE MONTAGEM E DESMONTAGEM | E26: ED- | F26: m2xmês | G26: 1 | H26: =SUM(I27) -> 5.99 | I26: =H26*G26 -> 5.99
A27: Insumo | B27: MATED-9073 | C27: SETOP | D27: ANDAIME METÁLICO ( PERÍODO DE LOCAÇÃO: MENSAL|TIPO: FACHADEIRO| LARGURA: 120CM|ALTURA: 200CM|PISO METÁLICO: INCLUSO|SAPATA: INCLUSO| ACESSÓRIOS DE MONTAGEM : INCLUSO|MONTAGEM: NÃO INCLUSO) | E27: Material | F27: m2xmê | G27: 1 | H27: 5.99 | I27: =ROUND(G27*H27,2) -> 5.99
H28: Valor com BDI => | I28: =ROUND(I26*(1+0.2607),2) -> 7.55
F29: Quant. => 1,00 | G29: =Planilha!F13 -> 37 | H29: Preço Total => | I29: =G29*I28 -> 279.35
A30: 2.3 | B30: Código | C30: Banco | D30: Descrição | E30: Tipo | F30: Und | G30: Quant. | H30: Valor Unit | I30: Total
A31: Composição | B31: ED-48246 | C31: SETOP | D31: MONTAGEM E DESMONTAGEM DE ANDAIME METÁLICO PARA FACHADA COM PISO METÁLICO, EXCLUSIVE FORNECIMENTO DO ANDAIME E RODAPÉ/GUARDA-CORPO EM MADEIRA | E31: ED- | F31: m² | G31: 1 | H31: =SUM(I32:I33) -> 8.24 | I31: =H31*G31 -> 8.24
A32: Composição Auxiliar | B32: ED-50380 | C32: SETOP | D32: MONTADOR COM ENCARGOS COMPLEMENTARES | E32: ED- | F32: hora | G32: 0.1929825 | H32: 24.92 | I32: =ROUND(G32*H32,2) -> 4.81
A33: Composição Auxiliar | B33: 88316 | C33: SINAPI | D33: SERVENTE COM ENCARGOS COMPLEMENTARES | E33: SEDI - SERVIÇOS DIVERSOS | F33: H | G33: 0.1929825 | H33: 17.78 | I33: =ROUND(G33*H33,2) -> 3.43
H34: Valor com BDI => | I34: =ROUND(I31*(1+0.2607),2) -> 10.39
F35: Quant. => 1,00 | G35: =Planilha!F14 -> 263.66 | H35: Preço Total => | I35: =G35*I34 -> 2739.4274
A36: 2.4 | B36: Código | C36: Banco | D36: Descrição | E36: Tipo | F36: Und | G36: Quant. | H36: Valor Unit | I36: Total
A37: Composição | B37: 93212 | C37: SINAPI | D37: EXECUÇÃO DE SANITÁRIO E VESTIÁRIO EM CANTEIRO DE OBRA EM CHAPA DE MADEIRA COMPENSADA, NÃO INCLUSO MOBILIÁRIO. AF_02/2016 | E37: CANT - CANTEIRO DE OBRAS | F37: m² | G37: 1 | H37: =SUM(I38:I113) -> 1008.9 | I37: =H37*G37 -> 1008.9
A38: Composição Auxiliar | B38: 89731 | C38: SINAPI | D38: JOELHO 90 GRAUS, PVC, SERIE NORMAL, ESGOTO PREDIAL, DN 50 MM, JUNTA ELÁSTICA, FORNECIDO E INSTALADO EM RAMAL DE DESCARGA OU RAMAL DE ESGOTO SANITÁRIO. AF_08/2022 | E38: INHI - INSTALAÇÕES HIDROS SANITÁRIAS | F38: UN | G38: 0.0174 | H38: 12.77 | I38: =ROUND(G38*H38,2) -> 0.22
A39: Composição Auxiliar | B39: 87548 | C39: SINAPI | D39: MASSA ÚNICA, PARA RECEBIMENTO DE PINTURA, EM ARGAMASSA TRAÇO 1:2:8, PREPARO MANUAL, APLICADA MANUALMENTE EM FACES INTERNAS DE PAREDES, ESPESSURA DE 10MM, COM EXECUÇÃO DE TALISCAS. AF_06/2014 | E39: REVE - REVESTIMENTO E TRATAMENTO DE SUPERFÍCIES | F39: m² | G39: 0.1894 | H39: 23.53 | I39: =ROUND(G39*H39,2) -> 4.46
A40: Composição Auxiliar | B40: 89748 | C40: SINAPI | D40: CURVA CURTA 90 GRAUS, PVC, SERIE NORMAL, ESGOTO PREDIAL, DN 100 MM, JUNTA ELÁSTICA, FORNECIDO E INSTALADO EM RAMAL DE DESCARGA OU RAMAL DE ESGOTO SANITÁRIO. AF_08/2022 | E40: INHI - INSTALAÇÕES HIDROS SANITÁRIAS | F40: UN | G40: 0.0522 | H40: 38.03 | I40: =ROUND(G40*H40,2) -> 1.99
A41: Composição Auxiliar | B41: 98679 | C41: SINAPI | D41: PISO CIMENTADO, TRAÇO 1:3 (CIMENTO E AREIA), ACABAMENTO LISO, ESPESSURA 2,0 CM, PREPARO MECÂNICO DA ARGAMASSA. AF_09/2020 | E41: PISO - PISOS | F41: m² | G41: 0.5134 | H41: 32.349971 | I41: =ROUND(G41*H41,2) -> 16.61
A42: Composição Auxiliar | B42: 91967 | C42: SINAPI | D42: INTERRUPTOR SIMPLES (3 MÓDULOS), 10A/250V, INCLUINDO SUPORTE E PLACA - FORNECIMENTO E INSTALAÇÃO. AF_03/2023 | E42: INEL - INSTALAÇÃO ELÉTRICA/ELETRIFICAÇÃO E ILUMINAÇÃO EXTERNA | F42: UN | G42: 0.0174 | H42: 54.55 | I42: =ROUND(G42*H42,2) -> 0.95
A43: Composição Auxiliar | B43: 92543 | C43: SINAPI | D43: TRAMA DE MADEIRA COMPOSTA POR TERÇAS PARA TELHADOS DE ATÉ 2 ÁGUAS PARA TELHA ONDULADA DE FIBROCIMENTO, METÁLICA, PLÁSTICA OU TERMOACÚSTICA, INCLUSO TRANSPORTE VERTICAL. AF_07/2019 | E43: COBE - COBERTURA | F43: m² | G43: 1.3566 | H43: 31.49 | I43: =ROUND(G43*H43,2) -> 42.72
...
