Workbook
Name \0: #REF!
Name _________________________esc15: "#ref!"
Name _________________________esc4: "#ref!"
Name _________________________esc6: "#ref!"
Name ________________________esc15: "#ref!"
Name ________________________esc4: "#ref!"
Name ________________________esc6: "#ref!"
Name _______________________esc15: "#ref!"
Name _______________________esc4: "#ref!"
Name _______________________esc6: "#ref!"
Name ______________________esc15: "#ref!"
Name ______________________esc4: "#ref!"
Name ______________________esc6: "#ref!"
Name ____________________esc15: "#ref!"
Name ____________________esc4: "#ref!"
Name ____________________esc6: "#ref!"
Name ___________________esc15: "#ref!"
Name ___________________esc4: "#ref!"
Name ___________________esc6: "#ref!"
Name __________________esc15: "#ref!"
Name __________________esc4: "#ref!"
Name __________________esc6: "#ref!"
Name _________________esc15: "#ref!"
Name _________________esc4: "#ref!"
Name _________________esc6: "#ref!"
Name _______________esc15: "#ref!"
Name _______________esc4: "#ref!"
Name _______________esc6: "#ref!"
Name ______________esc15: "#ref!"
Name ______________esc4: "#ref!"
Name ______________esc6: "#ref!"
Name _____________esc15: "#ref!"
Name _____________esc4: "#ref!"
Name _____________esc6: "#ref!"
Name ____________esc15: "#ref!"
Name ____________esc4: "#ref!"
Name ____________esc6: "#ref!"
Name ___________esc15: "#ref!"
Name ___________esc4: "#ref!"
Name ___________esc6: "#ref!"
Name __________esc15: "#ref!"
Name __________esc4: "#ref!"
Name __________esc6: "#ref!"
Name _________esc15: "#ref!"
Name _________esc4: "#ref!"
Name _________esc6: "#ref!"
Name ________esc15: "#ref!"
Name ________esc4: "#ref!"
Name ________esc6: "#ref!"
Name _______esc15: "#ref!"
Name _______esc4: "#ref!"
Name _______esc6: "#ref!"
Name __esc15: #REF!
Name __esc4: #REF!
Name __esc6: #REF!
Name __xlnm_Database: "#ref!"
Name __xlnm_Recorder: "#ref!"
Name _esc15: "#ref!"
Name _esc4: "#ref!"
Name _esc6: "#ref!"

Sheet Orçamento Sintético
C1: CF CONSTRUÇÕES E REFORMAS LTDA
C3: PLANILHA ORÇAMENTÁRIA
A5: CLIENTE: | C5: PREFEITURA MUNICIPAL DE SANTA LUZIA
A6: LOCAL | C6: SANTA LUZIA, MINAS GERAIS | E6: BDI | G6: 0.2607
A7: OBJETO | C7: OBRAS COMPLEMENTARES DA UNIDADE BÁSICA DE SÁÚDE VALE DOS COQUEIROS
A8: Item | B8: Código | C8: Banco | D8: Descrição | E8: Und | F8: Quant. | G8: Valor Unit | H8: Valor Unit com BDI | I8: Total
A9: 1 | D9: CONFORME ACÓRDÃO TCU 2622/2013, LIMITADA À 6% DO VALOR TOTAL DA OBRA | G9: 1 | I9: 40757.22
A10: 1.1 | B10: CP001 | C10: Próprio | D10: ADMINISTRAÇÃO LOCAL | E10: UN | F10: 1 | G10: 32329.04 | H10: 40757.22 | I10: 40757.22
A11: 2 | D11: SERVIÇOS PRELIMINARES | G11: 1 | I11: 24820.31
A12: 2.1 | B12: 01.03.01 | C12: SUDECAP | D12: 3,00 X 2,00 M EM LONA IMPRESSAO DIGITAL P.SUDECAP | E12: UN | F12: 1 | G12: 1635.98 | H12: 2062.47 | I12: 2062.47
A13: 2.2 | B13: ED-50150 | C13: SETOP | D13: LIGAÇÃO DE ÁGUA PROVISÓRIA PARA CANTEIRO, INCLUSIVE HIDRÔMETRO E CAVALETE PARA MEDIÇÃO DE ÁGUA - ENTRADA PRINCIPAL, EM AÇO GALVANIZADO DN 20MM (1/2") - PADRÃO CONCESSIONÁRIA | E13: un | F13: 1 | G13: 398.48 | H13: 502.36 | I13: 502.36
A14: 2.3 | B14: ED-50151 | C14: SETOP | D14: LIGAÇÃO PROVISÓRIA COM ENTRADA DE ENERGIA AÉREA, PADRÃO CEMIG, CARGA INSTALADA DE 15,1KVA ATÉ 30KVA, TRIFÁSICO, COM SAÍDA SUBTERRÂNEA, INCLUSIVE POSTE, CAIXA PARA MEDIDOR, DISJUNTOR, BARRAMENTO, ATERRAMENTO E ACESSÓRIOS | E14: un | F14: 1 | G14: 1209.45 | H14: 1524.75 | I14: 1524.75
A15: 2.4 | B15: ED-9075 | C15: SETOP | D15: FORNECIMENTO DE ANDAIME METÁLICO PARA FACHADA (LOCAÇÃO), INCLUSIVE PISO METÁLICO E SAPATAS, EXCLUSIVE MONTAGEM E DESMONTAGEM | E15: m2xmês | F15: 37 | G15: 6.66 | H15: 8.39 | I15: 310.43
A16: 2.5 | B16: ED-48246 | C16: SETOP | D16: MONTAGEM E DESMONTAGEM DE ANDAIME METÁLICO PARA FACHADA COM PISO METÁLICO, EXCLUSIVE FORNECIMENTO DO ANDAIME E RODAPÉ/GUARDA-CORPO EM MADEIRA | E16: m² | F16: 263.66 | G16: 9.15 | H16: 11.53 | I16: 3039.99
A17: 2.6 | B17: 93212 | C17: SINAPI | D17: EXECUÇÃO DE SANITÁRIO E VESTIÁRIO EM CANTEIRO DE OBRA EM CHAPA DE MADEIRA COMPENSADA, NÃO INCLUSO MOBILIÁRIO. AF_02/2016 | E17: m² | F17: 8 | G17: 1092.36 | H17: 1377.13 | I17: 11017.04
A18: 2.7 | B18: 73805/001 | C18: SINAPI | D18: BARRACAO DE OBRA PARA ALOJAMENTO/ESCRITORIO, PISO EM PINHO 3A, PAREDES EM COMPENSADO 10MM, COBERTURA EM TELHA FIBROCIMENTO 6MM, INCLUSO INSTALACOES ELETRICAS E ESQUADRIAS. REAPROVEITADO 5 VEZES | E18: m² | F18: 9 | G18: 560.83 | H18: 707.03 | I18: 6363.27
A19: 3 | D19: MOVIMENTO DE TERRA | G19: 1 | I19: 30687.86
A20: 3.1 | B20: ED-51106 | C20: SETOP | D20: ESCAVAÇÃO MECÂNICA EM MATERIAL DE 2ª CATEGORIA, INCLUSIVE CARGA EM CAMINHÃO, EXCLUSIVE TRANSPORTE E DESCARGA | E20: m³ | F20: 300.56 | G20: 9.63 | H20: 12.14 | I20: 3648.79
A21: 3.2 | B21: 93588 | C21: SINAPI | D21: TRANSPORTE COM CAMINHÃO BASCULANTE DE 10 M³, EM VIA URBANA EM LEITO NATURAL (UNIDADE: M3XKM). AF_07/2020 | E21: M3XKM | F21: 2254.2 | G21: 2.97 | H21: 3.74 | I21: 8430.7
A22: 3.3 | B22: 101206 | C22: SINAPI | D22: ESCAVAÇÃO VERTICAL PARA EDIFICAÇÃO, COM CARGA, DESCARGA E TRANSPORTE DE SOLO DE 1ª CATEGORIA, COM ESCAVADEIRA HIDRÁULICA (CAÇAMBA: 0,8 M³ / 111 HP), FROTA DE 3 CAMINHÕES BASCULANTES DE 14 M³, DMT ATÉ 1 KM E VELOCIDADE MÉDIA 14 KM/H. AF_05/2020 | E22: m³ | F22: 300.56 | G22: 12.5 | H22: 15.75 | I22: 4733.82
A23: 3.4 | B23: 95876 | C23: SINAPI | D23: TRANSPORTE COM CAMINHÃO BASCULANTE DE 14 M³, EM VIA URBANA PAVIMENTADA, DMT ATÉ 30 KM (UNIDADE: M3XKM). AF_07/2020 | E23: M3XKM | F23: 3757 | G23: 2.08 | H23: 2.62 | I23: 9843.34
A24: 3.5 | B24: 40.32.31 | C24: SUDECAP | D24: REATERRO COMPACTADO C/ PLACA VIBRATORIA | E24: m³ | F24: 100 | G24: 22.85 | H24: 28.8 | I24: 2880
A25: 3.6 | B25: CP00160 | C25: Próprio | D25: COMPACTAÇÃO DE ATERRO COM ROLO COMPACTADRO | E25: m³ | F25: 200.56 | G25: 4.56 | H25: 5.74 | I25: 1151.21
A26: 4 | D26: ALVENARIAS E DIVISÕES | G26: 1 | I26: 2795.5
A27: 4.1 | D27: ALVENARIA | G27: 1 | I27: 2795.5
A28: 4.1.1 | B28: ED-48232 | C28: SETOP | D28: ALVENARIA DE VEDAÇÃO COM TIJOLO CERÂMICO FURADO, ESP. 14CM, PARA REVESTIMENTO, INCLUSIVE ARGAMASSA PARA ASSENTAMENTO | E28: m² | F28: 20 | G28: 68.47 | H28: 86.32 | I28: 1726.4
A29: 4.1.2 | B29: 91222 | C29: SINAPI | D29: RASGO EM ALVENARIA PARA RAMAIS/ DISTRIBUIÇÃO COM DIÂMETROS MAIORES QUE 40 MM E MENORES OU IGUAIS A 75 MM. AF_05/2015 | E29: M | F29: 10 | G29: 14.51 | H29: 18.29 | I29: 182.9
A30: 4.1.3 | B30: 90467 | C30: SINAPI | D30: CHUMBAMENTO LINEAR EM ALVENARIA PARA RAMAIS/DISTRIBUIÇÃO COM DIÂMETROS MAIORES QUE 40 MM E MENORES OU IGUAIS A 75 MM. AF_05/2015 | E30: M | F30: 4 | G30: 21.41 | H30: 26.99 | I30: 107.96
A31: 4.1.4 | B31: 93200 | C31: SINAPI | D31: FIXAÇÃO (ENCUNHAMENTO) DE ALVENARIA DE VEDAÇÃO COM ARGAMASSA APLICADA COM BISNAGA. AF_03/2016 | E31: M | F31: 4 | G31: 3.26 | H31: 4.1 | I31: 16.4
A32: 4.1.5 | B32: 93183 | C32: SINAPI | D32: VERGA PRÉ-MOLDADA PARA JANELAS COM MAIS DE 1,5 M DE VÃO. AF_03/2016 | E32: M | F32: 4 | G32: 77.42 | H32: 97.6 | I32: 390.4
A33: 4.1.6 | B33: 93195 | C33: SINAPI | D33: CONTRAVERGA PRÉ-MOLDADA PARA VÃOS DE MAIS DE 1,5 M DE COMPRIMENTO. AF_03/2016 | E33: M | F33: 4 | G33: 73.66 | H33: 92.86 | I33: 371.44
A34: 5 | D34: REVESTIMENTO | G34: 1 | I34: 3502.16
A35: 5.1 | B35: 87879 | C35: SINAPI | D35: CHAPISCO APLICADO EM ALVENARIAS E ESTRUTURAS DE CONCRETO INTERNAS, COM COLHER DE PEDREIRO. ARGAMASSA TRAÇO 1:3 COM PREPARO EM BETONEIRA 400L. AF_10/2022 | E35: m² | F35: 40 | G35: 4.39 | H35: 5.53 | I35: 221.2
A36: 5.2 | B36: 87529 | C36: SINAPI | D36: MASSA ÚNICA, PARA RECEBIMENTO DE PINTURA, EM ARGAMASSA TRAÇO 1:2:8, PREPARO MECÂNICO COM BETONEIRA 400L, APLICADA MANUALMENTE EM FACES INTERNAS DE PAREDES, ESPESSURA DE 20MM, COM EXECUÇÃO DE TALISCAS. AF_06/2014 | E36: m² | F36: 40 | G36: 38.02 | H36: 47.93 | I36: 1917.2
A37: 5.3 | B37: 87265 | C37: SINAPI | D37: REVESTIMENTO CERÂMICO PARA PAREDES INTERNAS COM PLACAS TIPO ESMALTADA EXTRA DE DIMENSÕES 20X20 CM APLICADAS NA ALTURA INTEIRA DAS PAREDES. AF_02/2023_PE | E37: m² | F37: 10 | G37: 57.29 | H37: 72.22 | I37: 722.2
A38: 5.4 | B38: 87550 | C38: SINAPI | D38: EMBOÇO, PARA RECEBIMENTO DE CERÂMICA, EM ARGAMASSA TRAÇO 1:2:8, PREPARO MANUAL, APLICADO MANUALMENTE EM FACES INTERNAS DE PAREDES, PARA AMBIENTE COM ÁREA ENTRE 5M2 E 10M2, ESPESSURA DE 10MM, COM EXECUÇÃO DE TALISCAS. AF_06/2014 | E38: m² | F38: 10 | G38: 24.73 | H38: 31.17 | I38: 311.7
A39: 5.5 | B39: 96109 | C39: SINAPI | D39: FORRO EM PLACAS DE GESSO, PARA AMBIENTES RESIDENCIAIS. AF_08/2023_PS | E39: m² | F39: 5.1 | G39: 51.31 | H39: 64.68 | I39: 329.86
A40: 6 | D40: PISO | G40: 1 | I40: 11552.99
A41: 6.1 | B41: 87642 | C41: SINAPI | D41: CONTRAPISO EM ARGAMASSA TRAÇO 1:4 (CIMENTO E AREIA), PREPARO MANUAL, APLICADO EM ÁREAS SECAS SOBRE LAJE, ADERIDO, ACABAMENTO NÃO REFORÇADO, ESPESSURA 4CM. AF_07/2021 | E41: m² | F41: 30 | G41: 50.51 | H41: 63.67 | I41: 1910.1
A42: 6.2 | B42: 87260 | C42: SINAPI | D42: REVESTIMENTO CERÂMICO PARA PISO COM PLACAS TIPO PORCELANATO DE DIMENSÕES 45X45 CM APLICADA EM AMBIENTES DE ÁREA MAIOR QUE 10 M². AF_02/2023_PE | E42: m² | F42: 10 | G42: 125.49 | H42: 158.2 | I42: 1582
...

Sheet CRONOGRAMA
B2: ='[4]Table 1'!C1 -> CF CONSTRUÇÕES E REFORMAS LTDA
B3: CRONOGRAMA FÍSICO FINANCEIRO
A4: =[3]PLANILHA!A5:B5 -> OBJETO | B4: =[1]Planilha1!D8 -> OBRAS COMPLEMENTARES DA UNIDADE BÁSICA DE SÁÚDE VALE DOS COQUEIROS
A5: ITEM | B5: DESCRIÇÃO | C5: PREÇO TOTAL | D5: PESO | E5: Mês 1 | F5: Mês 2 | G5: Mês 3 | H5: Mês 4 | I5: Mês 5
C6: R$ | D6: %
A7: =[2]PLANILHA!A10 -> 1.0 | B7: =[1]Planilha1!E10 -> CONFORME ACORDÃO DO TCU 2622/2013, LIMITADA A 6% DO VALOR TOTAL DA OBRA | C7: ='Orçamento Sintético'!I9 -> 40757.22 | D7: =C7/$C43 -> 0.0600068 | E7: 0.2 | F7: 0.2 | G7: 0.2 | H7: 0.2 | I7: 0.2
E8: =$C$7*E7 -> 8151.444 | F8: =$C$7*F7 -> 8151.444 | G8: =$C$7*G7 -> 8151.444 | H8: =$C$7*H7 -> 8151.444 | I8: =$C$7*I7 -> 8151.444
A9: =[2]PLANILHA!A15 -> 2.0 | B9: =[1]Planilha1!E12 -> SERVIÇOS PRELIMINARES | C9: ='Orçamento Sintético'!I11 -> 24820.31 | D9: =C9/$C$43 -> 0.036542909 | E9: 1
E10: =C9*E9 -> 24820.31 | I10: =I$9*$C9 -> 0
A11: =[2]PLANILHA!A33 -> 3.0 | B11: =[1]Planilha1!E20 -> MOVIMENTO DE TERRA | C11: ='Orçamento Sintético'!I19 -> 30687.86 | D11: =C11/$C$43 -> 0.045181695 | E11: 0.5 | F11: 0.5
E12: =$C$11*E11 -> 15343.93 | F12: =$C$11*F11 -> 15343.93 | G12: =G$13*$C11 -> 0 | H12: =H$13*$C11 -> 0 | I12: =I$13*$C11 -> 0
A13: =[2]PLANILHA!A41 -> 4.0 | B13: =[1]Planilha1!E26 -> ALVENARIAS E DIVISÓES | C13: ='Orçamento Sintético'!I26 -> 2795.5 | D13: =C13/$C$43 -> 0.0041158109 | F13: 1
E14: =C13*E13 -> 0 | F14: =F$13*$C13 -> 2795.5 | G14: =G$13*$C13 -> 0 | H14: =H$13*$C13 -> 0 | I14: =I$13*$C13 -> 0
A15: =[2]PLANILHA!A61 -> 5.0 | B15: =[1]Planilha1!E34 -> REVESTIMENTO | C15: ='Orçamento Sintético'!I34 -> 3502.16 | D15: =C15/$C$43 -> 0.0051562255 | E15: 0 | F15: 0.5 | G15: 0.5 | H15: 0
E16: =$C$15*E15 -> 0 | F16: =$C$15*F15 -> 1751.08 | G16: =$C$15*G15 -> 1751.08 | H16: =$C$15*H15 -> 0 | I16: =I$15*$C15 -> 0
A17: =[2]PLANILHA!A99 -> 6.0 | B17: =[1]Planilha1!E40 -> PISO | C17: ='Orçamento Sintético'!I40 -> 11552.99 | D17: =C17/$C$43 -> 0.017009452 | E17: 0 | F17: 0 | G17: 0.5 | H17: 0.5
E18: =C17*E17 -> 0 | F18: =F$17*$C17 -> 0 | G18: =G$17*$C17 -> 5776.495 | H18: =H$17*$C17 -> 5776.495 | I18: =I$17*$C17 -> 0
A19: =[2]PLANILHA!A138 -> 7.0 | B19: =[1]Planilha1!E48 -> PINTURA | C19: ='Orçamento Sintético'!I48 -> 42726.55 | D19: =C19/$C$43 -> 0.062906242 | E19: 0.5 | F19: 0.5 | G19: 0 | H19: 0
E20: =C19*E19 -> 21363.275 | F20: =F$19*$C19 -> 21363.275 | G20: =G$19*$C19 -> 0 | H20: =H$19*$C19 -> 0 | I20: =I$19*$C19 -> 0
A21: =[2]PLANILHA!A152 -> 8.0 | B21: =[1]Planilha1!E57 -> COBERTURA | C21: ='Orçamento Sintético'!I57 -> 851.98 | D21: =C21/$C$43 -> 0.001254369 | F21: 0.33 | G21: 0.33 | H21: 0.34
E22: =C21*E21 -> 0 | F22: =F$21*$C21 -> 281.1534 | G22: =G$21*$C21 -> 281.1534 | H22: =H$21*$C21 -> 289.6732 | I22: =I$21*$C21 -> 0
A23: =[2]PLANILHA!A162 -> 9.0 | B23: =[1]Planilha1!E60 -> ESQUADRIAS | C23: ='Orçamento Sintético'!I60 -> 75342.68 | D23: =C23/$C$43 -> 0.11092693 | E23: 0.33 | F23: 0.33 | G23: 0.34 | H23: 0
E24: =C23*E23 -> 24863.084 | F24: =F$23*$C23 -> 24863.084 | G24: =G$23*$C23 -> 25616.511 | H24: =H$23*$C23 -> 0 | I24: =I$23*$C23 -> 0
A25: =[2]PLANILHA!A174 -> 10.0 | B25: =[1]Planilha1!E85 -> ISTALAÇÃO HIDROSANITÁRIA | C25: ='Orçamento Sintético'!I85 -> 23457.76 | D25: =C25/$C$43 -> 0.034536829 | E25: 0.33 | F25: 0.33 | G25: 0.34 | H25: 0
E26: =C25*E25 -> 7741.0608 | F26: =F$25*$C25 -> 7741.0608 | G26: =G$25*$C25 -> 7975.6384 | H26: =H$25*$C25 -> 0 | I26: =I$25*$C25 -> 0
A27: =[2]PLANILHA!A185 -> 11.0 | B27: =[1]Planilha1!E138 -> INSTALAÇÃO ELÉTRICA | C27: ='Orçamento Sintético'!I138 -> 113658.76 | D27: =C27/$C$43 -> 0.16733964 | E27: 0 | F27: 0 | G27: 0 | H27: 0 | I27: 1
E28: =C27*E27 -> 0 | F28: =F$27*$C27 -> 0 | G28: =G$27*$C27 -> 0 | H28: =H$27*$C27 -> 0 | I28: =I$27*$C27 -> 113658.76
A29: =[2]PLANILHA!A197 -> 12.0 | B29: =[1]Planilha1!E219 -> CABEAMENTO ESTRUTURADO | C29: ='Orçamento Sintético'!I220 -> 17923.67 | D29: =C29/$C$43 -> 0.026388995 | E29: 0 | F29: 0 | G29: 0 | H29: 0 | I29: 1
E30: =C29*E29 -> 0 | F30: =F$29*$C29 -> 0 | G30: =G$29*$C29 -> 0 | H30: =H$29*$C29 -> 0 | I30: =I$29*$C29 -> 17923.67
A31: =[2]PLANILHA!A221 -> 13.0 | B31: =[1]Planilha1!E238 -> INSTALAÇÃO DE SEGURANÇA, PROTEÇÃO E COMBATE A INCENDIO | C31: ='Orçamento Sintético'!I241 -> 1723.57 | D31: =C31/$C$43 -> 0.0025376098 | E31: 0 | F31: 0 | G31: 0 | H31: 0 | I31: 1
E32: =C31*E31 -> 0 | F32: =F$31*$C31 -> 0 | G32: =G$31*$C31 -> 0 | H32: =H$31*$C31 -> 0 | I32: =I$31*$C31 -> 1723.57
A33: =[2]PLANILHA!A321 -> 14.0 | B33: =[1]Planilha1!E247 -> AR COMPRIMIDO | C33: ='Orçamento Sintético'!I250 -> 382.29 | D33: =C33/$C$43 -> 0.00056284505 | E33: 0 | F33: 0 | G33: 0 | H33: 0.5 | I33: 0.5
E34: =C33*E33 -> 0 | F34: =F$33*$C33 -> 0 | G34: =G$33*$C33 -> 0 | H34: =H$33*$C33 -> 191.145 | I34: =I$33*$C33 -> 191.145
A35: =[2]PLANILHA!A405 -> 15.0 | B35: =[1]Planilha1!E248 -> LOUÇAS, METAIS SANITÁRIOS E ACESSÓRIOS | C35: ='Orçamento Sintético'!I256 -> 76932.46 | D35: =C35/$C$43 -> 0.11326756 | E35: 0 | F35: 0 | G35: 0.5 | H35: 0.5
E36: =C35*E35 -> 0 | F36: =F$35*$C35 -> 0 | G36: =G$35*$C35 -> 38466.23 | H36: =H$35*$C35 -> 38466.23 | I36: =I$35*$C35 -> 0
A37: =[2]PLANILHA!A430 -> 16.0 | B37: =[1]Planilha1!E266 -> OBRAS COMPLETARES | C37: ='Orçamento Sintético'!I279 -> 189332.65 | D37: =C37/$C$43 -> 0.27875421 | E37: 0 | F37: 0 | G37: 0 | H37: 0.5 | I37: 0.5
E38: =C37*E37 -> 0 | F38: =F$37*$C37 -> 0 | G38: =G$37*$C37 -> 0 | H38: =H$37*$C37 -> 94666.325 | I38: =I$37*$C37 -> 94666.325
A39: =[2]PLANILHA!A443 -> 17.0 | B39: =[1]Planilha1!E291 -> DRENAGEM | C39: ='Orçamento Sintético'!I304 -> 19368.21 | D39: =C39/$C$43 -> 0.02851579 | E39: 0 | F39: 0 | G39: 0 | H39: 0 | I39: 1
E40: =C39*E39 -> 0 | F40: =F$39*$C39 -> 0 | G40: =G$39*$C39 -> 0 | H40: =H$39*$C39 -> 0 | I40: =I$39*$C39 -> 19368.21
A41: 18.0 | B41: =[1]Planilha1!E303 -> LIMPEZA DA OBRA | C41: ='Orçamento Sintético'!I316 -> 3393.4 | D41: =C41/$C$43 -> 0.0049960983 | E41: 0 | F41: 0 | G41: 0 | H41: 0 | I41: 1
...

Sheet MODELO DE BDI
B1: ='[4]Table 1'!C1 -> CF CONSTRUÇÕES E REFORMAS LTDA
B2: COMPOSIÇÃO DE BDI
A3: =[3]PLANILHA!A5:B5 -> OBJETO | B3: =[1]Planilha1!D8 -> OBRAS COMPLEMENTARES DA UNIDADE BÁSICA DE SÁÚDE VALE DOS COQUEIROS
A4: DURAÇÃO: | B4: 5 meses
A5: ITEM | B5: DISCRIMINAÇÃO BDI GERAL | C5: Valor
B6: Despesas (incidem sobre o custo direto)
A7: AC | B7: Taxa de rateio da administração central (%) | C7: 0.045
A8: S | B8: Seguro + garantia(%) | C8: 0.0096
A9: R | B9: Risco (%) | C9: 0.0112
A10: DF | B10: Despesa Financeira (%) | C10: 0.0115
A11: L | B11: Lucro bruto (%) | C11: 0.08
B12: Tributos (incidem sobre o faturamento)
B13: PIS (%) | C13: 0.0065
B14: ISSQN (%) | C14: 0.04
B15: COFINS (%) | C15: 0.03
B16: CPRB (Quando INSS não incidir sobre a mão de obra) - lei 13.161/2015 (%)
A17: T | B17: Total de Tributos | C17: =SUM(C13:C16) -> 0.0765
A18: BDI | C18: =ROUND((((1+(C7+C8+C9))*(1+C10)*(1+C11))/(1-C17))-1,4) -> 0.2607
A23: Belo Horizonte, 15 de fevereiro de 2024.
A30: .............................................................
A31: Charles Pereira Andrade
A32: Diretor
